BEGIN:VCALENDAR
VERSION:2.0
PRODID:-//Lewisboro Library - ECPv6.15.20//NONSGML v1.0//EN
CALSCALE:GREGORIAN
METHOD:PUBLISH
X-ORIGINAL-URL:https://lewisborolibrary.org
X-WR-CALDESC:Events for Lewisboro Library
REFRESH-INTERVAL;VALUE=DURATION:PT1H
X-Robots-Tag:noindex
X-PUBLISHED-TTL:PT1H
BEGIN:VTIMEZONE
TZID:America/New_York
BEGIN:DAYLIGHT
TZOFFSETFROM:-0500
TZOFFSETTO:-0400
TZNAME:EDT
DTSTART:20240310T070000
END:DAYLIGHT
BEGIN:STANDARD
TZOFFSETFROM:-0400
TZOFFSETTO:-0500
TZNAME:EST
DTSTART:20241103T060000
END:STANDARD
BEGIN:DAYLIGHT
TZOFFSETFROM:-0500
TZOFFSETTO:-0400
TZNAME:EDT
DTSTART:20250309T070000
END:DAYLIGHT
BEGIN:STANDARD
TZOFFSETFROM:-0400
TZOFFSETTO:-0500
TZNAME:EST
DTSTART:20251102T060000
END:STANDARD
BEGIN:DAYLIGHT
TZOFFSETFROM:-0500
TZOFFSETTO:-0400
TZNAME:EDT
DTSTART:20260308T070000
END:DAYLIGHT
BEGIN:STANDARD
TZOFFSETFROM:-0400
TZOFFSETTO:-0500
TZNAME:EST
DTSTART:20261101T060000
END:STANDARD
END:VTIMEZONE
BEGIN:VEVENT
DTSTART;TZID=America/New_York:20250106T190000
DTEND;TZID=America/New_York:20250106T200000
DTSTAMP:20260424T191834
CREATED:20241106T170116Z
LAST-MODIFIED:20241106T170151Z
UID:29776-1736190000-1736193600@lewisborolibrary.org
SUMMARY:(Virtual) Healthy Living for the Brain and Body
DESCRIPTION:Via Zoom. \nAt every age\, there are lifestyle habits we can adopt to help maintain or even potentially improve our health. These habits may also help to keep our brains healthy as we age and possibly delay the onset of cognitive decline.  \nThis workshop covers four areas of lifestyle habits associated with healthy aging: Cognitive activity\, exercise\, diet/nutrition and social engagement. In each area\, we will discuss what we know\, drawing on current research\, as well as what we can do — steps to take now to improve or maintain overall health in each area.  \nGet these great tips from the latest research by the Alzheimer’s Association. \nPlease register for your Zoom link HERE.
URL:https://lewisborolibrary.org/event/healthy-living-for-the-brain-and-body/
CATEGORIES:Adult
ATTACH;FMTTYPE=image/jpeg:https://lewisborolibrary.org/wp-content/uploads/2022/01/220215-Healthy-Living-for-Body-Brain-compressed.jpg
END:VEVENT
END:VCALENDAR