BEGIN:VCALENDAR
VERSION:2.0
PRODID:-//Lewisboro Library - ECPv6.15.20//NONSGML v1.0//EN
CALSCALE:GREGORIAN
METHOD:PUBLISH
X-WR-CALNAME:Lewisboro Library
X-ORIGINAL-URL:https://lewisborolibrary.org
X-WR-CALDESC:Events for Lewisboro Library
REFRESH-INTERVAL;VALUE=DURATION:PT1H
X-Robots-Tag:noindex
X-PUBLISHED-TTL:PT1H
BEGIN:VTIMEZONE
TZID:America/New_York
BEGIN:DAYLIGHT
TZOFFSETFROM:-0500
TZOFFSETTO:-0400
TZNAME:EDT
DTSTART:20220313T070000
END:DAYLIGHT
BEGIN:STANDARD
TZOFFSETFROM:-0400
TZOFFSETTO:-0500
TZNAME:EST
DTSTART:20221106T060000
END:STANDARD
BEGIN:DAYLIGHT
TZOFFSETFROM:-0500
TZOFFSETTO:-0400
TZNAME:EDT
DTSTART:20230312T070000
END:DAYLIGHT
BEGIN:STANDARD
TZOFFSETFROM:-0400
TZOFFSETTO:-0500
TZNAME:EST
DTSTART:20231105T060000
END:STANDARD
BEGIN:DAYLIGHT
TZOFFSETFROM:-0500
TZOFFSETTO:-0400
TZNAME:EDT
DTSTART:20240310T070000
END:DAYLIGHT
BEGIN:STANDARD
TZOFFSETFROM:-0400
TZOFFSETTO:-0500
TZNAME:EST
DTSTART:20241103T060000
END:STANDARD
END:VTIMEZONE
BEGIN:VEVENT
DTSTART;TZID=America/New_York:20230413T183000
DTEND;TZID=America/New_York:20230413T183000
DTSTAMP:20260425T061811
CREATED:20230404T163938Z
LAST-MODIFIED:20230609T200016Z
UID:19578-1681410600-1681410600@lewisborolibrary.org
SUMMARY:Adult Scrabble
DESCRIPTION:Are you a scrabble player? The Library has formed a Scrabble club for those who want to meet at the Library and play. \nThe group meets on the second and fourth Thursday evenings of each month at 6:30 pm. \nThis is NOT a drop-in program. We need to know the number of players each week to set up the room. \nIf you are interested in joining the group\, please send an email to lewisborolibrary@gmail.com.
URL:https://lewisborolibrary.org/event/adult-scrabble/2023-04-13/
CATEGORIES:Adult
ATTACH;FMTTYPE=image/jpeg:https://lewisborolibrary.org/wp-content/uploads/2023/04/230413-Scrabble-compressed1.jpg
END:VEVENT
BEGIN:VEVENT
DTSTART;TZID=America/New_York:20230413T190000
DTEND;TZID=America/New_York:20230413T203000
DTSTAMP:20260425T061811
CREATED:20230207T195044Z
LAST-MODIFIED:20230207T195044Z
UID:18624-1681412400-1681417800@lewisborolibrary.org
SUMMARY:(Virtual) Not Your Mother's Garden
DESCRIPTION:Via Zoom. \nIn “Not Your Mother’s Garden”\, Deborah Chud takes the audience on a photo tour of her highly unusual Piet-Oudolf-style New Perennial garden\, and describes the design principles underlying it. Many of the plants are unfamiliar – even to experienced and knowledgeable gardeners. These “New Perennials” constitute a special canon of plants that exhibit the qualities valued by members of the New Perennial Movement\,pioneers in the world-changing shift toward naturalistic landscape design. \nWhat’s new about New Perennials\, and what can they do for you? Walk through her garden with her to find out. \nSponsored by the Lewisboro Garden Club.  Click HERE to register for the Zoom link.
URL:https://lewisborolibrary.org/event/virtual-not-your-mothers-garden/
CATEGORIES:Adult
ATTACH;FMTTYPE=image/jpeg:https://lewisborolibrary.org/wp-content/uploads/2023/02/230413-Not-My-Mothers-Garden-compressed1.jpg
END:VEVENT
END:VCALENDAR