BEGIN:VCALENDAR
VERSION:2.0
PRODID:-//Lewisboro Library - ECPv6.15.20//NONSGML v1.0//EN
CALSCALE:GREGORIAN
METHOD:PUBLISH
X-WR-CALNAME:Lewisboro Library
X-ORIGINAL-URL:https://lewisborolibrary.org
X-WR-CALDESC:Events for Lewisboro Library
REFRESH-INTERVAL;VALUE=DURATION:PT1H
X-Robots-Tag:noindex
X-PUBLISHED-TTL:PT1H
BEGIN:VTIMEZONE
TZID:America/New_York
BEGIN:DAYLIGHT
TZOFFSETFROM:-0500
TZOFFSETTO:-0400
TZNAME:EDT
DTSTART:20220313T070000
END:DAYLIGHT
BEGIN:STANDARD
TZOFFSETFROM:-0400
TZOFFSETTO:-0500
TZNAME:EST
DTSTART:20221106T060000
END:STANDARD
BEGIN:DAYLIGHT
TZOFFSETFROM:-0500
TZOFFSETTO:-0400
TZNAME:EDT
DTSTART:20230312T070000
END:DAYLIGHT
BEGIN:STANDARD
TZOFFSETFROM:-0400
TZOFFSETTO:-0500
TZNAME:EST
DTSTART:20231105T060000
END:STANDARD
BEGIN:DAYLIGHT
TZOFFSETFROM:-0500
TZOFFSETTO:-0400
TZNAME:EDT
DTSTART:20240310T070000
END:DAYLIGHT
BEGIN:STANDARD
TZOFFSETFROM:-0400
TZOFFSETTO:-0500
TZNAME:EST
DTSTART:20241103T060000
END:STANDARD
END:VTIMEZONE
BEGIN:VEVENT
DTSTART;TZID=America/New_York:20230311T200000
DTEND;TZID=America/New_York:20230311T223000
DTSTAMP:20260421T064449
CREATED:20230131T194725Z
LAST-MODIFIED:20230131T194725Z
UID:18464-1678564800-1678573800@lewisborolibrary.org
SUMMARY:The Nightclub@Lewisboro Library: Pluck & Rail
DESCRIPTION:Welcome to Our Nightclub Concerts!* \nThe Nightclub@Lewisboro Library is thrilled to welcome back “Pluck & Rail” to our stage on Saturday\, March 11 at 8 pm! \nFor those who missed their sensational “Music in the Stacks” concert back in 2020\, here’s what you need to know: \n“Pluck & Rail” members George Gierer and Andrew Sussman blend together gritty songwriting\, tight vocal melodies and soaring cello runs to craft their unique sound. Their live performances blister with a passion and energy not often seen in acoustic music\, as they back their vocals with everything from guitar to banjo to cello to mandolin. For an extra-special evening\, they’ll be bringing along special guests Zach Swanson on bass and Nick Lieto on trumpet and hand percussion –  sure to be a spectacular musical event! \nReserved seating is $35 per person. Wine\, beer and dessert are included. Doors will open at 7:30 pm. \nThis event is a benefit for the Lewisboro Library. Many thanks to our sponsors Cross River Wine Merchant\, The Horse & Hound\, Lily’s Deli & Market and Newburgh Brewing Company. \nMake your reservations now for this exhilarating concert. Paid reservations can be made in person or by clicking on this link. \n* For those new to Town\, the “Nightclub” appears when the main floor and upper lever shelving is rolled away to reveal a raised stage – complete with concert lighting! Chairs are set up\, lights are dimmed and the Nightclub transformation is complete!
URL:https://lewisborolibrary.org/event/the-nightclublewisboro-library-pluck-rail/
CATEGORIES:Adult,Nightclub@LewisboroLibrary
ATTACH;FMTTYPE=image/jpeg:https://lewisborolibrary.org/wp-content/uploads/2023/01/Promo-Pic-PLUCKRAIL-118-compressed.jpg
END:VEVENT
END:VCALENDAR