BEGIN:VCALENDAR
VERSION:2.0
PRODID:-//Lewisboro Library - ECPv6.15.20//NONSGML v1.0//EN
CALSCALE:GREGORIAN
METHOD:PUBLISH
X-WR-CALNAME:Lewisboro Library
X-ORIGINAL-URL:https://lewisborolibrary.org
X-WR-CALDESC:Events for Lewisboro Library
REFRESH-INTERVAL;VALUE=DURATION:PT1H
X-Robots-Tag:noindex
X-PUBLISHED-TTL:PT1H
BEGIN:VTIMEZONE
TZID:America/New_York
BEGIN:DAYLIGHT
TZOFFSETFROM:-0500
TZOFFSETTO:-0400
TZNAME:EDT
DTSTART:20220313T070000
END:DAYLIGHT
BEGIN:STANDARD
TZOFFSETFROM:-0400
TZOFFSETTO:-0500
TZNAME:EST
DTSTART:20221106T060000
END:STANDARD
BEGIN:DAYLIGHT
TZOFFSETFROM:-0500
TZOFFSETTO:-0400
TZNAME:EDT
DTSTART:20230312T070000
END:DAYLIGHT
BEGIN:STANDARD
TZOFFSETFROM:-0400
TZOFFSETTO:-0500
TZNAME:EST
DTSTART:20231105T060000
END:STANDARD
BEGIN:DAYLIGHT
TZOFFSETFROM:-0500
TZOFFSETTO:-0400
TZNAME:EDT
DTSTART:20240310T070000
END:DAYLIGHT
BEGIN:STANDARD
TZOFFSETFROM:-0400
TZOFFSETTO:-0500
TZNAME:EST
DTSTART:20241103T060000
END:STANDARD
END:VTIMEZONE
BEGIN:VEVENT
DTSTART;TZID=America/New_York:20230304T110000
DTEND;TZID=America/New_York:20230304T130000
DTSTAMP:20260425T093945
CREATED:20230202T030806Z
LAST-MODIFIED:20230305T190257Z
UID:18548-1677927600-1677934800@lewisborolibrary.org
SUMMARY:Lewisboro Community Volunteer Fair
DESCRIPTION:Give back to your Community! This annual event (now in its 15th year!) pairs would-be volunteers with local agencies in need of help. After two years as a virtual event\, we are back in person at the Library. \nPlease take the time to stop by and speak with representatives of local groups who will have tables at the Library with information on their services and volunteer needs. There are volunteer opportunities for adults AND teens. \nDrop in on our “Helping Hands” station and make items to donate to nonprofits. \nParticipating Groups Include: \nBedford Audubon * Comprehensive Master Plan Steering Committee * Equity 4 All Lewisboro * Guiding Eyes for the Blind * Katonah-Lewisboro Girl Scouts * Lewisboro Celebrates Pride * Lewisboro Garden Club/Golden Roads * Lewisboro Land Trust * Lewisboro Library & Fair * Lewisboro Open Spaces & Preserves/Trail Volunteers * Lewisboro Seniors/Meals on Wheels * Lewisboro Sustainability Committee * Lewisboro Town Historian * Lewisboro Volunteer Ambulance Corps * RideConnect * Rock ‘n Rescue * Transportation Resources Access (TRA) \nIf you missed the Fair\, but want to become a volunteer\, click here to download the contact sheet and volunteering opportunities for all the organizations who took part this year –  Volunteer Fair Contacts 2023. Copies are also available at the Library. \n\n  \n 
URL:https://lewisborolibrary.org/event/lewisboro-community-volunteer-fair-2/
CATEGORIES:Adult
ATTACH;FMTTYPE=image/jpeg:https://lewisborolibrary.org/wp-content/uploads/2021/02/210313-Community-Volunteer-Fair-compressed.jpg
END:VEVENT
END:VCALENDAR