BEGIN:VCALENDAR
VERSION:2.0
PRODID:-//Lewisboro Library - ECPv6.15.20//NONSGML v1.0//EN
CALSCALE:GREGORIAN
METHOD:PUBLISH
X-ORIGINAL-URL:https://lewisborolibrary.org
X-WR-CALDESC:Events for Lewisboro Library
REFRESH-INTERVAL;VALUE=DURATION:PT1H
X-Robots-Tag:noindex
X-PUBLISHED-TTL:PT1H
BEGIN:VTIMEZONE
TZID:America/New_York
BEGIN:DAYLIGHT
TZOFFSETFROM:-0500
TZOFFSETTO:-0400
TZNAME:EDT
DTSTART:20210314T070000
END:DAYLIGHT
BEGIN:STANDARD
TZOFFSETFROM:-0400
TZOFFSETTO:-0500
TZNAME:EST
DTSTART:20211107T060000
END:STANDARD
BEGIN:DAYLIGHT
TZOFFSETFROM:-0500
TZOFFSETTO:-0400
TZNAME:EDT
DTSTART:20220313T070000
END:DAYLIGHT
BEGIN:STANDARD
TZOFFSETFROM:-0400
TZOFFSETTO:-0500
TZNAME:EST
DTSTART:20221106T060000
END:STANDARD
BEGIN:DAYLIGHT
TZOFFSETFROM:-0500
TZOFFSETTO:-0400
TZNAME:EDT
DTSTART:20230312T070000
END:DAYLIGHT
BEGIN:STANDARD
TZOFFSETFROM:-0400
TZOFFSETTO:-0500
TZNAME:EST
DTSTART:20231105T060000
END:STANDARD
END:VTIMEZONE
BEGIN:VEVENT
DTSTART;TZID=America/New_York:20221117T190000
DTEND;TZID=America/New_York:20221117T200000
DTSTAMP:20260423T170404
CREATED:20221026T210922Z
LAST-MODIFIED:20221026T210922Z
UID:16946-1668711600-1668715200@lewisborolibrary.org
SUMMARY:(Virtual) Creating a LinkedIn Profile with Impact
DESCRIPTION:Via Zoom. \nThis is the third and final workshop in this series.  Please look for more Workforce Development Workshops in 2023. \nIn this workshop you will learn the following: \n– How to understand the benefits of having a LinkedIn profile.\n– What are the essential components of a profile.\n– How to tell your story and get noticed.\n– How to distinguish your profile from your resume. \nThis workshop is FREE and conducted virtually on zoom and facilitated by a Professional Career Coach.  This series is in partnership with WLS Career Coaching Services and the Ossining Public Library. \nPlease register HERE for your Zoom link.
URL:https://lewisborolibrary.org/event/virtual-creating-a-linkedin-profile-with-impact/
CATEGORIES:Adult
ATTACH;FMTTYPE=image/jpeg:https://lewisborolibrary.org/wp-content/uploads/2022/08/220915-Workforce-Development-Resume-Workshop-compressed1.jpeg
END:VEVENT
BEGIN:VEVENT
DTSTART;TZID=America/New_York:20221117T190000
DTEND;TZID=America/New_York:20221117T203000
DTSTAMP:20260423T170404
CREATED:20221026T205817Z
LAST-MODIFIED:20221026T205817Z
UID:16943-1668711600-1668717000@lewisborolibrary.org
SUMMARY:Stitch Together Evening
DESCRIPTION:This casual\, monthly gathering of those who knit/crochet and chat usually meets on the third Thursday of the month.\n \nCatch up on people’s craft projects and what is going on in Town – and beyond. \nPlease register below so we can contact you if we need to switch the meeting date.
URL:https://lewisborolibrary.org/event/stitch-together-evening-2/
CATEGORIES:Adult
ATTACH;FMTTYPE=image/jpeg:https://lewisborolibrary.org/wp-content/uploads/2022/10/210514-Stitch2Gether-compressed.jpg
END:VEVENT
END:VCALENDAR