BEGIN:VCALENDAR
VERSION:2.0
PRODID:-//Lewisboro Library - ECPv6.15.20//NONSGML v1.0//EN
CALSCALE:GREGORIAN
METHOD:PUBLISH
X-WR-CALNAME:Lewisboro Library
X-ORIGINAL-URL:https://lewisborolibrary.org
X-WR-CALDESC:Events for Lewisboro Library
REFRESH-INTERVAL;VALUE=DURATION:PT1H
X-Robots-Tag:noindex
X-PUBLISHED-TTL:PT1H
BEGIN:VTIMEZONE
TZID:America/New_York
BEGIN:DAYLIGHT
TZOFFSETFROM:-0500
TZOFFSETTO:-0400
TZNAME:EDT
DTSTART:20210314T070000
END:DAYLIGHT
BEGIN:STANDARD
TZOFFSETFROM:-0400
TZOFFSETTO:-0500
TZNAME:EST
DTSTART:20211107T060000
END:STANDARD
BEGIN:DAYLIGHT
TZOFFSETFROM:-0500
TZOFFSETTO:-0400
TZNAME:EDT
DTSTART:20220313T070000
END:DAYLIGHT
BEGIN:STANDARD
TZOFFSETFROM:-0400
TZOFFSETTO:-0500
TZNAME:EST
DTSTART:20221106T060000
END:STANDARD
BEGIN:DAYLIGHT
TZOFFSETFROM:-0500
TZOFFSETTO:-0400
TZNAME:EDT
DTSTART:20230312T070000
END:DAYLIGHT
BEGIN:STANDARD
TZOFFSETFROM:-0400
TZOFFSETTO:-0500
TZNAME:EST
DTSTART:20231105T060000
END:STANDARD
END:VTIMEZONE
BEGIN:VEVENT
DTSTART;TZID=America/New_York:20220810T190000
DTEND;TZID=America/New_York:20220810T200000
DTSTAMP:20260420T060325
CREATED:20220708T203420Z
LAST-MODIFIED:20220708T203420Z
UID:15345-1660158000-1660161600@lewisborolibrary.org
SUMMARY:(Virtual) Fala D. Roosevelt: Presidential Pooch
DESCRIPTION:Via Zoom. \nIn celebration of National Dog Month\, join us to hear the story of Fala\, President Franklin D. Roosevelt’s little Scottish Terrier. Fala the Outlaw of Murray Hill\, was the President’s faithful canine companion who brought much needed fun and distraction to the war-weary president. Learn about why he was so important to FDR\, and ask your questions about other presidential pets during this presentation from the FDR Presidential Library and Museum. \nPlease register for your Zoom link HERE.
URL:https://lewisborolibrary.org/event/virtual-fala-d-roosevelt-presidential-pooch/
CATEGORIES:Adult
ATTACH;FMTTYPE=image/jpeg:https://lewisborolibrary.org/wp-content/uploads/2022/07/220810-fala-roosevelt-compressed.jpg
END:VEVENT
BEGIN:VEVENT
DTSTART;TZID=America/New_York:20220810T193000
DTEND;TZID=America/New_York:20220810T203000
DTSTAMP:20260420T060325
CREATED:20220721T150341Z
LAST-MODIFIED:20220721T150341Z
UID:15403-1660159800-1660163400@lewisborolibrary.org
SUMMARY:Library Board Meeting
DESCRIPTION:The monthly meeting of the Lewisboro Library Board of Trustees meets in person at the Library. \nMeetings are open to the public.
URL:https://lewisborolibrary.org/event/library-board-meeting-13/
CATEGORIES:Adult
ATTACH;FMTTYPE=image/jpeg:https://lewisborolibrary.org/wp-content/uploads/2020/02/LL-Logo.jpg
END:VEVENT
END:VCALENDAR