BEGIN:VCALENDAR
VERSION:2.0
PRODID:-//Lewisboro Library - ECPv6.15.20//NONSGML v1.0//EN
CALSCALE:GREGORIAN
METHOD:PUBLISH
X-ORIGINAL-URL:https://lewisborolibrary.org
X-WR-CALDESC:Events for Lewisboro Library
REFRESH-INTERVAL;VALUE=DURATION:PT1H
X-Robots-Tag:noindex
X-PUBLISHED-TTL:PT1H
BEGIN:VTIMEZONE
TZID:America/New_York
BEGIN:DAYLIGHT
TZOFFSETFROM:-0500
TZOFFSETTO:-0400
TZNAME:EDT
DTSTART:20210314T070000
END:DAYLIGHT
BEGIN:STANDARD
TZOFFSETFROM:-0400
TZOFFSETTO:-0500
TZNAME:EST
DTSTART:20211107T060000
END:STANDARD
BEGIN:DAYLIGHT
TZOFFSETFROM:-0500
TZOFFSETTO:-0400
TZNAME:EDT
DTSTART:20220313T070000
END:DAYLIGHT
BEGIN:STANDARD
TZOFFSETFROM:-0400
TZOFFSETTO:-0500
TZNAME:EST
DTSTART:20221106T060000
END:STANDARD
BEGIN:DAYLIGHT
TZOFFSETFROM:-0500
TZOFFSETTO:-0400
TZNAME:EDT
DTSTART:20230312T070000
END:DAYLIGHT
BEGIN:STANDARD
TZOFFSETFROM:-0400
TZOFFSETTO:-0500
TZNAME:EST
DTSTART:20231105T060000
END:STANDARD
END:VTIMEZONE
BEGIN:VEVENT
DTSTART;TZID=America/New_York:20220727T130000
DTEND;TZID=America/New_York:20220727T140000
DTSTAMP:20260424T040751
CREATED:20220620T192153Z
LAST-MODIFIED:20220725T154123Z
UID:14915-1658926800-1658930400@lewisborolibrary.org
SUMMARY:Community Crafters: Summer Garden Gift Pack
DESCRIPTION:We have another great project for those who love to craft – and give back!\n\nWe’ll be hand-painting cards and decorating mason jars to serve as vases for cute bouquets of summer blooms. These will be delivered to homebound older adults in Lewisboro\, along with a gift bag of greeting cards and stationary supplies\, for reaching out to their loved ones. Many thanks to local resident Diane Brownstone\, who donated the greeting cards and gift bags for this project.\n\nPlease register below.
URL:https://lewisborolibrary.org/event/community-crafters-summer-garden-gift-pack/
CATEGORIES:Adult
ATTACH;FMTTYPE=image/jpeg:https://lewisborolibrary.org/wp-content/uploads/2022/06/220727-Summer-Garden-Gift-Pack-compressed.jpg
END:VEVENT
BEGIN:VEVENT
DTSTART;TZID=America/New_York:20220727T193000
DTEND;TZID=America/New_York:20220727T210000
DTSTAMP:20260424T040751
CREATED:20220627T020501Z
LAST-MODIFIED:20220627T020501Z
UID:15110-1658950200-1658955600@lewisborolibrary.org
SUMMARY:Lewisboro Library Book Group: "In the Distance"
DESCRIPTION:The Lewisboro Library Book Group usually meets at the Library on the fourth Wednesday of each month at 7:30 p.m. Books are available through the Westchester Library System. New members are always welcome in this adult\, co-ed book group. For more information contact Myrna or Steve Shomstein at 533-2550. \nThe book selection for July is In the Distance\, by Hernan Diaz.
URL:https://lewisborolibrary.org/event/lewisboro-library-book-group-in-the-distance/
CATEGORIES:Adult
ATTACH;FMTTYPE=image/jpeg:https://lewisborolibrary.org/wp-content/uploads/2022/06/220727-LL-Book-Group-In-the-Distance-compressed.jpg
END:VEVENT
END:VCALENDAR