BEGIN:VCALENDAR
VERSION:2.0
PRODID:-//Lewisboro Library - ECPv6.15.20//NONSGML v1.0//EN
CALSCALE:GREGORIAN
METHOD:PUBLISH
X-ORIGINAL-URL:https://lewisborolibrary.org
X-WR-CALDESC:Events for Lewisboro Library
REFRESH-INTERVAL;VALUE=DURATION:PT1H
X-Robots-Tag:noindex
X-PUBLISHED-TTL:PT1H
BEGIN:VTIMEZONE
TZID:America/New_York
BEGIN:DAYLIGHT
TZOFFSETFROM:-0500
TZOFFSETTO:-0400
TZNAME:EDT
DTSTART:20210314T070000
END:DAYLIGHT
BEGIN:STANDARD
TZOFFSETFROM:-0400
TZOFFSETTO:-0500
TZNAME:EST
DTSTART:20211107T060000
END:STANDARD
BEGIN:DAYLIGHT
TZOFFSETFROM:-0500
TZOFFSETTO:-0400
TZNAME:EDT
DTSTART:20220313T070000
END:DAYLIGHT
BEGIN:STANDARD
TZOFFSETFROM:-0400
TZOFFSETTO:-0500
TZNAME:EST
DTSTART:20221106T060000
END:STANDARD
BEGIN:DAYLIGHT
TZOFFSETFROM:-0500
TZOFFSETTO:-0400
TZNAME:EDT
DTSTART:20230312T070000
END:DAYLIGHT
BEGIN:STANDARD
TZOFFSETFROM:-0400
TZOFFSETTO:-0500
TZNAME:EST
DTSTART:20231105T060000
END:STANDARD
END:VTIMEZONE
BEGIN:VEVENT
DTSTART;TZID=America/New_York:20220726T120000
DTEND;TZID=America/New_York:20220726T130000
DTSTAMP:20260421T092247
CREATED:20220618T030620Z
LAST-MODIFIED:20220618T030620Z
UID:14906-1658836800-1658840400@lewisborolibrary.org
SUMMARY:(Virtual) Lunch & Learn: Pre-Retirement Benefits Seminar
DESCRIPTION:Via Zoom. \nNavigating and planning for the next chapter of life can be confusing. Take some time during your lunch break to learn how to get started. \nThis pre-retirement seminar\, led by a Social Security Administration staff member\, provides an overview of the types of benefits that social security offers\, including\, retirement\, survivors\, spousal and children’s benefits\, as well as Medicare and when may be the best time to apply. Social Security also provides multiple online tools to help prepare for retirement\, which will also be discussed. The program ends with plenty of time for Q & A. \nPlease register HERE to receive your Zoom link.
URL:https://lewisborolibrary.org/event/virtual-lunch-learn-pre-retirement-benefits-seminar/
CATEGORIES:Adult
ATTACH;FMTTYPE=image/jpeg:https://lewisborolibrary.org/wp-content/uploads/2022/06/220726-Lunch-Learn-Pre-Retirement-Benefits-Seminar-compressed1.jpg
END:VEVENT
END:VCALENDAR