BEGIN:VCALENDAR
VERSION:2.0
PRODID:-//Lewisboro Library - ECPv6.15.20//NONSGML v1.0//EN
CALSCALE:GREGORIAN
METHOD:PUBLISH
X-ORIGINAL-URL:https://lewisborolibrary.org
X-WR-CALDESC:Events for Lewisboro Library
REFRESH-INTERVAL;VALUE=DURATION:PT1H
X-Robots-Tag:noindex
X-PUBLISHED-TTL:PT1H
BEGIN:VTIMEZONE
TZID:America/New_York
BEGIN:DAYLIGHT
TZOFFSETFROM:-0500
TZOFFSETTO:-0400
TZNAME:EDT
DTSTART:20210314T070000
END:DAYLIGHT
BEGIN:STANDARD
TZOFFSETFROM:-0400
TZOFFSETTO:-0500
TZNAME:EST
DTSTART:20211107T060000
END:STANDARD
BEGIN:DAYLIGHT
TZOFFSETFROM:-0500
TZOFFSETTO:-0400
TZNAME:EDT
DTSTART:20220313T070000
END:DAYLIGHT
BEGIN:STANDARD
TZOFFSETFROM:-0400
TZOFFSETTO:-0500
TZNAME:EST
DTSTART:20221106T060000
END:STANDARD
BEGIN:DAYLIGHT
TZOFFSETFROM:-0500
TZOFFSETTO:-0400
TZNAME:EDT
DTSTART:20230312T070000
END:DAYLIGHT
BEGIN:STANDARD
TZOFFSETFROM:-0400
TZOFFSETTO:-0500
TZNAME:EST
DTSTART:20231105T060000
END:STANDARD
END:VTIMEZONE
BEGIN:VEVENT
DTSTART;TZID=America/New_York:20220617T200000
DTEND;TZID=America/New_York:20220617T220000
DTSTAMP:20260422T201859
CREATED:20220510T171421Z
LAST-MODIFIED:20220518T172126Z
UID:14321-1655496000-1655503200@lewisborolibrary.org
SUMMARY:Hard Headed Comedy Showcase - SOLD OUT!!
DESCRIPTION:WOW! Thanks to your overwhelming response\, seats to our Hard Headed Comedy Showcase sold out in a week! Many thanks for supporting this Library fundraiser. \n  \nLooking for a unique Father’s Day gift? How about a NYC comedy club experience – right here in Lewisboro? That’s right\, it’s the return of the “Hard Headed Comedy Showcase.” This event features SIX stand-up comics – who regularly perform on TV\, podcasts and venues such as the Comedy Cellar and the New York Comedy Club – now performing on the stage of the Library! \nThe show is the Friday before Father’s Day\, so expect parenting to be a common theme that evening. Performers include headliner Mark De Mayo\, (Comedy Central\, Last Comic Standing)\, Carolyn Castiglia (New York Comedy Club\, Women in Comedy Festival)\, Alyce Chan (Comedy Cellar\, Carolines)\, Patrick Holbert (The Movie Loft\, The Comic’s Table) Andrew Woolford (Laughter Hours/Late Night Comedy) and hosted by comic and local resident Luz Michelle (Gotham Comedy Club\, NYC Comedy Festival). Thanks to Luz for organizing this fundraiser again for her hometown Library!
URL:https://lewisborolibrary.org/event/hard-headed-comedy-showcase/
CATEGORIES:Adult
ATTACH;FMTTYPE=image/jpeg:https://lewisborolibrary.org/wp-content/uploads/2022/05/220617-Hard-Headed-Comedy-compressed.jpg
END:VEVENT
END:VCALENDAR