BEGIN:VCALENDAR
VERSION:2.0
PRODID:-//Lewisboro Library - ECPv6.15.20//NONSGML v1.0//EN
CALSCALE:GREGORIAN
METHOD:PUBLISH
X-WR-CALNAME:Lewisboro Library
X-ORIGINAL-URL:https://lewisborolibrary.org
X-WR-CALDESC:Events for Lewisboro Library
REFRESH-INTERVAL;VALUE=DURATION:PT1H
X-Robots-Tag:noindex
X-PUBLISHED-TTL:PT1H
BEGIN:VTIMEZONE
TZID:America/New_York
BEGIN:DAYLIGHT
TZOFFSETFROM:-0500
TZOFFSETTO:-0400
TZNAME:EDT
DTSTART:20210314T070000
END:DAYLIGHT
BEGIN:STANDARD
TZOFFSETFROM:-0400
TZOFFSETTO:-0500
TZNAME:EST
DTSTART:20211107T060000
END:STANDARD
BEGIN:DAYLIGHT
TZOFFSETFROM:-0500
TZOFFSETTO:-0400
TZNAME:EDT
DTSTART:20220313T070000
END:DAYLIGHT
BEGIN:STANDARD
TZOFFSETFROM:-0400
TZOFFSETTO:-0500
TZNAME:EST
DTSTART:20221106T060000
END:STANDARD
BEGIN:DAYLIGHT
TZOFFSETFROM:-0500
TZOFFSETTO:-0400
TZNAME:EDT
DTSTART:20230312T070000
END:DAYLIGHT
BEGIN:STANDARD
TZOFFSETFROM:-0400
TZOFFSETTO:-0500
TZNAME:EST
DTSTART:20231105T060000
END:STANDARD
END:VTIMEZONE
BEGIN:VEVENT
DTSTART;TZID=America/New_York:20220607T190000
DTEND;TZID=America/New_York:20220607T200000
DTSTAMP:20260425T075155
CREATED:20220519T192010Z
LAST-MODIFIED:20220519T211040Z
UID:14492-1654628400-1654632000@lewisborolibrary.org
SUMMARY:(Virtual) All About Bitcoin & Cryptocurrency
DESCRIPTION:Via Zoom. \nCryptophobia: a distrust and misunderstanding of Cryptocurrency. \nWhat is bitcoin? What is the difference between cryptocurrency and cryptopunks? NFT\, DeFi\, web3\, Cardano\, Ethereum … what do these terms mean? \nPlease join us to get answers to these questions and more. \nCaution: You may get cured of cryptophobia but catch cryptomania \nThis presentation will be led by Harmeet Goindi\, an Expert Engineer at cboe.com . \nPlease register HERE to receive your Zoom link for the meeting.  The link will be sent as soon as you register\, so please check your spam email if you don’t receive.
URL:https://lewisborolibrary.org/event/virtual-all-about-bitcoin-cryptocurrency/
CATEGORIES:Adult
ATTACH;FMTTYPE=image/jpeg:https://lewisborolibrary.org/wp-content/uploads/2022/05/220607-Bitcoin-and-Cryptocurrency-compressed-2.jpg
END:VEVENT
END:VCALENDAR