BEGIN:VCALENDAR
VERSION:2.0
PRODID:-//Lewisboro Library - ECPv6.15.20//NONSGML v1.0//EN
CALSCALE:GREGORIAN
METHOD:PUBLISH
X-ORIGINAL-URL:https://lewisborolibrary.org
X-WR-CALDESC:Events for Lewisboro Library
REFRESH-INTERVAL;VALUE=DURATION:PT1H
X-Robots-Tag:noindex
X-PUBLISHED-TTL:PT1H
BEGIN:VTIMEZONE
TZID:America/New_York
BEGIN:DAYLIGHT
TZOFFSETFROM:-0500
TZOFFSETTO:-0400
TZNAME:EDT
DTSTART:20210314T070000
END:DAYLIGHT
BEGIN:STANDARD
TZOFFSETFROM:-0400
TZOFFSETTO:-0500
TZNAME:EST
DTSTART:20211107T060000
END:STANDARD
BEGIN:DAYLIGHT
TZOFFSETFROM:-0500
TZOFFSETTO:-0400
TZNAME:EDT
DTSTART:20220313T070000
END:DAYLIGHT
BEGIN:STANDARD
TZOFFSETFROM:-0400
TZOFFSETTO:-0500
TZNAME:EST
DTSTART:20221106T060000
END:STANDARD
BEGIN:DAYLIGHT
TZOFFSETFROM:-0500
TZOFFSETTO:-0400
TZNAME:EDT
DTSTART:20230312T070000
END:DAYLIGHT
BEGIN:STANDARD
TZOFFSETFROM:-0400
TZOFFSETTO:-0500
TZNAME:EST
DTSTART:20231105T060000
END:STANDARD
END:VTIMEZONE
BEGIN:VEVENT
DTSTART;TZID=America/New_York:20220517T130000
DTEND;TZID=America/New_York:20220517T150000
DTSTAMP:20260424T183519
CREATED:20220516T215316Z
LAST-MODIFIED:20260225T162901Z
UID:14370-1652792400-1652799600@lewisborolibrary.org
SUMMARY:Intermediate Mahjong
DESCRIPTION:Are you a mahjong player? A group of experienced players meets weekly Tuesdays at 1 pm at the Library. \nTheir roster is currently full\, but the number can vary with the season. Interested players should send an email to info@lewisborolibrary.org to be placed on the wait list. \nThere is always room in the Thursday evening session\, which meets at 6 pm. That is a mixed-level gathering\, with many newer players who have taken “Mahjong for Beginners” at the Library. If interested in joining the Thursday session\, or the next “Mahjong for Beginners”\, please contact the Library at the email above.
URL:https://lewisborolibrary.org/event/intermediate-mahjong/2022-05-17/
CATEGORIES:Adult
ATTACH;FMTTYPE=image/jpeg:https://lewisborolibrary.org/wp-content/uploads/2022/05/mahjong-compressed.jpg
END:VEVENT
BEGIN:VEVENT
DTSTART;TZID=America/New_York:20220517T190000
DTEND;TZID=America/New_York:20220517T203000
DTSTAMP:20260424T183519
CREATED:20220411T193227Z
LAST-MODIFIED:20220516T193412Z
UID:14006-1652814000-1652819400@lewisborolibrary.org
SUMMARY:Earring Design Workshop
DESCRIPTION:For Adults and Teens. In person at the Library.\n \nMake earrings to keep and earrings to donate to women’s shelters. \n Led by Joan Lloyd\, who donates over 900 pairs of earrings each month. \nSpace is limited\, please register below.
URL:https://lewisborolibrary.org/event/earring-design-workshop-2/
CATEGORIES:Adult
ATTACH;FMTTYPE=image/jpeg:https://lewisborolibrary.org/wp-content/uploads/2021/06/210803-Earring-Design-WOrkshop-compressed.jpg
END:VEVENT
END:VCALENDAR