BEGIN:VCALENDAR
VERSION:2.0
PRODID:-//Lewisboro Library - ECPv6.15.20//NONSGML v1.0//EN
CALSCALE:GREGORIAN
METHOD:PUBLISH
X-ORIGINAL-URL:https://lewisborolibrary.org
X-WR-CALDESC:Events for Lewisboro Library
REFRESH-INTERVAL;VALUE=DURATION:PT1H
X-Robots-Tag:noindex
X-PUBLISHED-TTL:PT1H
BEGIN:VTIMEZONE
TZID:America/New_York
BEGIN:DAYLIGHT
TZOFFSETFROM:-0500
TZOFFSETTO:-0400
TZNAME:EDT
DTSTART:20210314T070000
END:DAYLIGHT
BEGIN:STANDARD
TZOFFSETFROM:-0400
TZOFFSETTO:-0500
TZNAME:EST
DTSTART:20211107T060000
END:STANDARD
BEGIN:DAYLIGHT
TZOFFSETFROM:-0500
TZOFFSETTO:-0400
TZNAME:EDT
DTSTART:20220313T070000
END:DAYLIGHT
BEGIN:STANDARD
TZOFFSETFROM:-0400
TZOFFSETTO:-0500
TZNAME:EST
DTSTART:20221106T060000
END:STANDARD
BEGIN:DAYLIGHT
TZOFFSETFROM:-0500
TZOFFSETTO:-0400
TZNAME:EDT
DTSTART:20230312T070000
END:DAYLIGHT
BEGIN:STANDARD
TZOFFSETFROM:-0400
TZOFFSETTO:-0500
TZNAME:EST
DTSTART:20231105T060000
END:STANDARD
END:VTIMEZONE
BEGIN:VEVENT
DTSTART;TZID=America/New_York:20220504T183000
DTEND;TZID=America/New_York:20220504T200000
DTSTAMP:20260421T132907
CREATED:20220411T183658Z
LAST-MODIFIED:20220504T165953Z
UID:13992-1651689000-1651694400@lewisborolibrary.org
SUMMARY:(Virtual) What's it Worth: Antiques Road Show
DESCRIPTION:Via Zoom.\n \nBack by Popular Demand! \nAuthor\, Auctioneer\, Appraiser and Radio show Host Mike Ivankovich will reveal what your Antiques\, Collectibles\, and Personal Treasures are really worth today. \nHe will begin with a discussion on “10 Factors That Will Always Impact the Value of Your Treasures.” This will be followed by the appraisal portion of the program. \nEach attendee is invited to bring on 1 item for Mike to appraise (plus one back-up item\, in case he can’t virtually appraise the primary item). \nIf you have an item to be appraised\, please log on 15 minutes early so he can view the item. Space is limited.  Priority will be given to those people who participated in January and the appraiser did not have time to get to. \nPlease click HERE to join meeting. \nSponsored by the Lewisboro\, Pound Ridge and Ruth Keeler Memorial Libraries.
URL:https://lewisborolibrary.org/event/virtual-whats-it-worth-antiques-road-show-2/
CATEGORIES:Adult
ATTACH;FMTTYPE=image/jpeg:https://lewisborolibrary.org/wp-content/uploads/2021/11/220120-Whats-It-Worth-compressed.jpg
END:VEVENT
END:VCALENDAR