BEGIN:VCALENDAR
VERSION:2.0
PRODID:-//Lewisboro Library - ECPv6.15.20//NONSGML v1.0//EN
CALSCALE:GREGORIAN
METHOD:PUBLISH
X-WR-CALNAME:Lewisboro Library
X-ORIGINAL-URL:https://lewisborolibrary.org
X-WR-CALDESC:Events for Lewisboro Library
REFRESH-INTERVAL;VALUE=DURATION:PT1H
X-Robots-Tag:noindex
X-PUBLISHED-TTL:PT1H
BEGIN:VTIMEZONE
TZID:America/New_York
BEGIN:DAYLIGHT
TZOFFSETFROM:-0500
TZOFFSETTO:-0400
TZNAME:EDT
DTSTART:20210314T070000
END:DAYLIGHT
BEGIN:STANDARD
TZOFFSETFROM:-0400
TZOFFSETTO:-0500
TZNAME:EST
DTSTART:20211107T060000
END:STANDARD
BEGIN:DAYLIGHT
TZOFFSETFROM:-0500
TZOFFSETTO:-0400
TZNAME:EDT
DTSTART:20220313T070000
END:DAYLIGHT
BEGIN:STANDARD
TZOFFSETFROM:-0400
TZOFFSETTO:-0500
TZNAME:EST
DTSTART:20221106T060000
END:STANDARD
BEGIN:DAYLIGHT
TZOFFSETFROM:-0500
TZOFFSETTO:-0400
TZNAME:EDT
DTSTART:20230312T070000
END:DAYLIGHT
BEGIN:STANDARD
TZOFFSETFROM:-0400
TZOFFSETTO:-0500
TZNAME:EST
DTSTART:20231105T060000
END:STANDARD
END:VTIMEZONE
BEGIN:VEVENT
DTSTART;TZID=America/New_York:20220404T100000
DTEND;TZID=America/New_York:20220408T170000
DTSTAMP:20260424T211734
CREATED:20220310T174855Z
LAST-MODIFIED:20220310T174855Z
UID:13642-1649066400-1649437200@lewisborolibrary.org
SUMMARY:Welcome Spring Take & Make Craft Prep
DESCRIPTION:Calling all Lewisboro Community Crafters! Join us this month in welcoming spring and giving back to others! \n On April 19* we will be making pop-up cards and decorating flowerpots for our First Responder groups and some other Very Special People in town. Before we do that\, however\, volunteers are needed for some cutting and decorating prep work at home the week of April 4th.\n \nPlease register below\, and then pick up your craft kit between April 4 – April 8. Kits must be returned on or before Monday\, April 11. \n*If you’d also like to join us in person at the Library on April 19 to assemble the crafts\, please follow this LINK to that event page. \n  \n 
URL:https://lewisborolibrary.org/event/welcome-spring-take-make-craft-prep/
CATEGORIES:Adult
ATTACH;FMTTYPE=image/jpeg:https://lewisborolibrary.org/wp-content/uploads/2022/03/220404-Welcome-Spring-Take-and-Make-compressed.jpg
END:VEVENT
BEGIN:VEVENT
DTSTART;TZID=America/New_York:20220406T193000
DTEND;TZID=America/New_York:20220406T203000
DTSTAMP:20260424T211734
CREATED:20220310T172456Z
LAST-MODIFIED:20220405T183235Z
UID:13638-1649273400-1649277000@lewisborolibrary.org
SUMMARY:(Virtual) Author Talk with Ben Raines: "The Last Slave Ship"
DESCRIPTION:Via Zoom. \nBen Raines is the author of The Last Slave Ship: The True Story of how Clotilda was found\, Her Descendents\, and an Extraordinary Reckoning.\n\nHear about the incredible true story of the last ship to carry enslaved people to America. Learn about the remarkable town its survivors founded after emancipation\, and the complicated legacy their descendants carry with them to this day – by the journalist who discovered the ship’s remains. \nPlease register below\, then click THIS LINK to join the discussion that evening.
URL:https://lewisborolibrary.org/event/virtual-author-talk-with-ben-raines-the-last-slave-ship/
CATEGORIES:Adult
ATTACH;FMTTYPE=image/jpeg:https://lewisborolibrary.org/wp-content/uploads/2022/03/220406-Author-Talk-The-Last-Slave-Ship-compressed.jpg
END:VEVENT
END:VCALENDAR