BEGIN:VCALENDAR
VERSION:2.0
PRODID:-//Lewisboro Library - ECPv6.15.20//NONSGML v1.0//EN
CALSCALE:GREGORIAN
METHOD:PUBLISH
X-ORIGINAL-URL:https://lewisborolibrary.org
X-WR-CALDESC:Events for Lewisboro Library
REFRESH-INTERVAL;VALUE=DURATION:PT1H
X-Robots-Tag:noindex
X-PUBLISHED-TTL:PT1H
BEGIN:VTIMEZONE
TZID:America/New_York
BEGIN:DAYLIGHT
TZOFFSETFROM:-0500
TZOFFSETTO:-0400
TZNAME:EDT
DTSTART:20210314T070000
END:DAYLIGHT
BEGIN:STANDARD
TZOFFSETFROM:-0400
TZOFFSETTO:-0500
TZNAME:EST
DTSTART:20211107T060000
END:STANDARD
BEGIN:DAYLIGHT
TZOFFSETFROM:-0500
TZOFFSETTO:-0400
TZNAME:EDT
DTSTART:20220313T070000
END:DAYLIGHT
BEGIN:STANDARD
TZOFFSETFROM:-0400
TZOFFSETTO:-0500
TZNAME:EST
DTSTART:20221106T060000
END:STANDARD
BEGIN:DAYLIGHT
TZOFFSETFROM:-0500
TZOFFSETTO:-0400
TZNAME:EDT
DTSTART:20230312T070000
END:DAYLIGHT
BEGIN:STANDARD
TZOFFSETFROM:-0400
TZOFFSETTO:-0500
TZNAME:EST
DTSTART:20231105T060000
END:STANDARD
END:VTIMEZONE
BEGIN:VEVENT
DTSTART;TZID=America/New_York:20220306T150000
DTEND;TZID=America/New_York:20220306T170000
DTSTAMP:20260424T103434
CREATED:20220203T224844Z
LAST-MODIFIED:20220228T185456Z
UID:13169-1646578800-1646586000@lewisborolibrary.org
SUMMARY:Author Talk with Fiona Davis
DESCRIPTION:Join us in welcoming local author Fiona Davis for an in-person Author Talk at the Library! \nFiona Davis is the New York Times bestselling author of six historical fiction novels set in iconic New York City buildings\, including The Magnolia Palace\, The Address\, and The Lions of Fifth Avenue. She has spent the better part of a decade mining hidden histories of iconic New York City buildings\, skillfully using each setting to illuminate the experiences of women. Her new release\, The Magnolia Palace\, is a tantalizing historical novel about the secrets\, betrayal\, and murder within the Frick\, one of New York City’s most impressive Gilded Age mansions. \nFiona’s presentation will be followed by a book signing. Our thanks to Pound Ridge’s Booksy Galore\, which will be providing books for sale at this event\, as well as allowing people to purchase in advance on their site. \nSpace is limited. Please register below. \n 
URL:https://lewisborolibrary.org/event/author-talk-with-fiona-davis/
CATEGORIES:Adult
ATTACH;FMTTYPE=image/jpeg:https://lewisborolibrary.org/wp-content/uploads/2022/02/220306-Author-Talk-Fiona-Davis-merged-compressed.jpg
END:VEVENT
END:VCALENDAR