BEGIN:VCALENDAR
VERSION:2.0
PRODID:-//Lewisboro Library - ECPv6.15.20//NONSGML v1.0//EN
CALSCALE:GREGORIAN
METHOD:PUBLISH
X-ORIGINAL-URL:https://lewisborolibrary.org
X-WR-CALDESC:Events for Lewisboro Library
REFRESH-INTERVAL;VALUE=DURATION:PT1H
X-Robots-Tag:noindex
X-PUBLISHED-TTL:PT1H
BEGIN:VTIMEZONE
TZID:America/New_York
BEGIN:DAYLIGHT
TZOFFSETFROM:-0500
TZOFFSETTO:-0400
TZNAME:EDT
DTSTART:20210314T070000
END:DAYLIGHT
BEGIN:STANDARD
TZOFFSETFROM:-0400
TZOFFSETTO:-0500
TZNAME:EST
DTSTART:20211107T060000
END:STANDARD
BEGIN:DAYLIGHT
TZOFFSETFROM:-0500
TZOFFSETTO:-0400
TZNAME:EDT
DTSTART:20220313T070000
END:DAYLIGHT
BEGIN:STANDARD
TZOFFSETFROM:-0400
TZOFFSETTO:-0500
TZNAME:EST
DTSTART:20221106T060000
END:STANDARD
BEGIN:DAYLIGHT
TZOFFSETFROM:-0500
TZOFFSETTO:-0400
TZNAME:EDT
DTSTART:20230312T070000
END:DAYLIGHT
BEGIN:STANDARD
TZOFFSETFROM:-0400
TZOFFSETTO:-0500
TZNAME:EST
DTSTART:20231105T060000
END:STANDARD
END:VTIMEZONE
BEGIN:VEVENT
DTSTART;TZID=America/New_York:20220223T193000
DTEND;TZID=America/New_York:20220223T203000
DTSTAMP:20260424T143925
CREATED:20220119T215209Z
LAST-MODIFIED:20220119T215209Z
UID:12950-1645644600-1645648200@lewisborolibrary.org
SUMMARY:(Virtual) Grace & Beauty: The Rise of Black Popular Music
DESCRIPTION:Via Zoom. \nThis inspirational lecture-recital explores the treasury of songs and instrumentals written by black popular composers from the Civil War to the Great Depression. As an African American\, it was extraordinarily hard to make a mark in commercial music. Yet time and again\, individuals were able to break through\, creating some of the most innovative and inspirational music of the era – or any era. \nFeaturing works by Jelly Roll Morton\, Thomas “Fats” Waller\, Scott Joplin\, and many others. \nPeter Muir studied at the Royal College of Music in London and earned a Ph.D. in historic musicology from CUNY. \nPlease register HERE to receive your Zoom link. \nImportant note: This event is being hosted by the Ruth Keeler Memorial Library\, so the registration confirmation and Zoom link will come from Carolyn Reznik\, Director of Ruth Keeler. The link will arrive as soon as you register\, so please check your SPAM email if it doesn’t arrive. \n 
URL:https://lewisborolibrary.org/event/virtual-grace-beauty-the-rise-of-black-popular-music/
CATEGORIES:Adult
ATTACH;FMTTYPE=image/jpeg:https://lewisborolibrary.org/wp-content/uploads/2022/01/220223-Rise-of-Black-Popular-Music-compressed.jpg
END:VEVENT
END:VCALENDAR