BEGIN:VCALENDAR
VERSION:2.0
PRODID:-//Lewisboro Library - ECPv6.15.20//NONSGML v1.0//EN
CALSCALE:GREGORIAN
METHOD:PUBLISH
X-ORIGINAL-URL:https://lewisborolibrary.org
X-WR-CALDESC:Events for Lewisboro Library
REFRESH-INTERVAL;VALUE=DURATION:PT1H
X-Robots-Tag:noindex
X-PUBLISHED-TTL:PT1H
BEGIN:VTIMEZONE
TZID:America/New_York
BEGIN:DAYLIGHT
TZOFFSETFROM:-0500
TZOFFSETTO:-0400
TZNAME:EDT
DTSTART:20210314T070000
END:DAYLIGHT
BEGIN:STANDARD
TZOFFSETFROM:-0400
TZOFFSETTO:-0500
TZNAME:EST
DTSTART:20211107T060000
END:STANDARD
BEGIN:DAYLIGHT
TZOFFSETFROM:-0500
TZOFFSETTO:-0400
TZNAME:EDT
DTSTART:20220313T070000
END:DAYLIGHT
BEGIN:STANDARD
TZOFFSETFROM:-0400
TZOFFSETTO:-0500
TZNAME:EST
DTSTART:20221106T060000
END:STANDARD
BEGIN:DAYLIGHT
TZOFFSETFROM:-0500
TZOFFSETTO:-0400
TZNAME:EDT
DTSTART:20230312T070000
END:DAYLIGHT
BEGIN:STANDARD
TZOFFSETFROM:-0400
TZOFFSETTO:-0500
TZNAME:EST
DTSTART:20231105T060000
END:STANDARD
END:VTIMEZONE
BEGIN:VEVENT
DTSTART;VALUE=DATE:20220211
DTEND;VALUE=DATE:20220212
DTSTAMP:20260424T143906
CREATED:20220113T173046Z
LAST-MODIFIED:20220114T205028Z
UID:12784-1644537600-1644623999@lewisborolibrary.org
SUMMARY:Taste of the Town Raffle Drawing
DESCRIPTION:*Tonight we draw the winner of our Taste of the Town Raffle!* \n  \nBEAT THE WINTER BLUES! \nNeed to liven up your winter? How about sampling the finest dining at Lewisboro’s best restaurants? Whether dining in or ordering to go\, you can win an assortment of restaurant gift certificates by entering the Lewisboro Library’s “Taste of the Town” Raffle! \nThe winner will receive a package which includes the following gift certificates: \n\nThe Horse and Hound Inn – $100\nLa Vista Ristorante Italiano – $100\nOne Twenty Three Restaurant – $100\nBacio Trattoria – Lunch for 2\nHaiku Asian Bistro – $50\n\nIt’s going to be a long winter – hurry and buy your tickets today! \nRAFFLE DETAILS: \n\nPrize has a retail value of over $400.\nTickets are $25 each and can be purchased at the Library or online. (Weather permitting\, you may also find “pop-up” sales tables in Town.)\nTickets are on sale now. Ticket sales end Friday\, February 11 at 3 pm.\nWe will draw the winning ticket the evening of February 11 and contact the winner.\nWinner can claim their prizes at the Library.\n\nHOW TO PURCHASE TICKETS: \nPurchase tickets online HERE or at the Library. \n  \nThank you to the restaurants above for generously donating the gift certificates\, and thank you to those who  \npurchase tickets in support of this fundraiser for The Lewisboro Library –  \nThe Heart of the Community! \n 
URL:https://lewisborolibrary.org/event/taste-of-the-town-raffle-drawing/
CATEGORIES:Adult
ATTACH;FMTTYPE=image/jpeg:https://lewisborolibrary.org/wp-content/uploads/2022/01/food-with-wine-square-compressed.jpg
END:VEVENT
END:VCALENDAR