BEGIN:VCALENDAR
VERSION:2.0
PRODID:-//Lewisboro Library - ECPv6.15.20//NONSGML v1.0//EN
CALSCALE:GREGORIAN
METHOD:PUBLISH
X-ORIGINAL-URL:https://lewisborolibrary.org
X-WR-CALDESC:Events for Lewisboro Library
REFRESH-INTERVAL;VALUE=DURATION:PT1H
X-Robots-Tag:noindex
X-PUBLISHED-TTL:PT1H
BEGIN:VTIMEZONE
TZID:America/New_York
BEGIN:DAYLIGHT
TZOFFSETFROM:-0500
TZOFFSETTO:-0400
TZNAME:EDT
DTSTART:20210314T070000
END:DAYLIGHT
BEGIN:STANDARD
TZOFFSETFROM:-0400
TZOFFSETTO:-0500
TZNAME:EST
DTSTART:20211107T060000
END:STANDARD
BEGIN:DAYLIGHT
TZOFFSETFROM:-0500
TZOFFSETTO:-0400
TZNAME:EDT
DTSTART:20220313T070000
END:DAYLIGHT
BEGIN:STANDARD
TZOFFSETFROM:-0400
TZOFFSETTO:-0500
TZNAME:EST
DTSTART:20221106T060000
END:STANDARD
BEGIN:DAYLIGHT
TZOFFSETFROM:-0500
TZOFFSETTO:-0400
TZNAME:EDT
DTSTART:20230312T070000
END:DAYLIGHT
BEGIN:STANDARD
TZOFFSETFROM:-0400
TZOFFSETTO:-0500
TZNAME:EST
DTSTART:20231105T060000
END:STANDARD
END:VTIMEZONE
BEGIN:VEVENT
DTSTART;TZID=America/New_York:20220131T100000
DTEND;TZID=America/New_York:20220207T170000
DTSTAMP:20260424T121135
CREATED:20220106T195954Z
LAST-MODIFIED:20220114T213519Z
UID:12704-1643623200-1644253200@lewisborolibrary.org
SUMMARY:Adult Take & Make Craft: Secret Valentines
DESCRIPTION:The Lewisboro Library Community Crafters are back with another surprise gift to give back to the community!  Will you join us in spreading a little kindness?\n\nWe are planning a “Secret Valentine” gift for our local homebound seniors. Due to the rise in Covid cases\, we are doing this one as a simple Take & Make activity. We will provide all the materials needed in a “Secret Valentines” kit that can be picked up in our Curbside Service Vestibule. You can make the gift at home and then return it to the Library for delivery.\n\nPlease register below so we can leave a materials kit with your name on it for pick up in the Curbside Service Vestibule. We ask that you pick up the kit beginning Monday\, January 31 and return it NO LATER than Monday\, February 7.
URL:https://lewisborolibrary.org/event/adult-take-make-craft-secret-valentines/
CATEGORIES:Adult
ATTACH;FMTTYPE=image/jpeg:https://lewisborolibrary.org/wp-content/uploads/2022/01/220131-Secret-Valentines-compressed.jpg
END:VEVENT
BEGIN:VEVENT
DTSTART;TZID=America/New_York:20220203T190000
DTEND;TZID=America/New_York:20220203T200000
DTSTAMP:20260424T121135
CREATED:20211130T224128Z
LAST-MODIFIED:20220203T140057Z
UID:12220-1643914800-1643918400@lewisborolibrary.org
SUMMARY:(Virtual) "Alice's Ordinary People" - Presentation and Discussion with Filmmaker Craig Rudnick
DESCRIPTION:Via Zoom. \nAlice’s Ordinary People is a documentary about Alice Tregay\, an unsung heroine of the Civil Rights Movement. Her remarkable story spans the historic period from the marches of Dr. King to the election of Barack Obama – her great contribution is the thread which connects the two. Under the leadership of Reverend Jackson\, the months that Alice and her “ordinary people” spent picketing led to real change. It was through her Political Education class that Alice had her most significant impact. Over a four year period\, thousands were trained to work in independent political campaigns. \nJoin documentarian Craig Dudnick as he discusses the film and gives us an overview of the Civil Rights Movement as well as Alice’s role in bringing politics to the Movement. \nAlice’s Ordinary People is available free on Kanopy\, the Library’s streaming media service. Attendees are encouraged to watch the film beforehand\, but it is not required. \nPlease register below to receive your Zoom link.  It will be sent two days prior to the program. \nThat evening\, you can join the webinar via the link below: \nhttps://us02web.zoom.us/j/84649589548?pwd=NDlVaEVoeGZUU09GVkhoUHJ4V1h3QT09Passcode: 806835 \n 
URL:https://lewisborolibrary.org/event/virtual-alices-ordinary-people-presentation-and-discussion-with-filmmaker-craig-rudnick/
CATEGORIES:Adult
ATTACH;FMTTYPE=image/jpeg:https://lewisborolibrary.org/wp-content/uploads/2021/11/220203-Alices-Ordinary-People-compressed.jpg
END:VEVENT
END:VCALENDAR