BEGIN:VCALENDAR
VERSION:2.0
PRODID:-//Lewisboro Library - ECPv6.15.20//NONSGML v1.0//EN
CALSCALE:GREGORIAN
METHOD:PUBLISH
X-WR-CALNAME:Lewisboro Library
X-ORIGINAL-URL:https://lewisborolibrary.org
X-WR-CALDESC:Events for Lewisboro Library
REFRESH-INTERVAL;VALUE=DURATION:PT1H
X-Robots-Tag:noindex
X-PUBLISHED-TTL:PT1H
BEGIN:VTIMEZONE
TZID:America/New_York
BEGIN:DAYLIGHT
TZOFFSETFROM:-0500
TZOFFSETTO:-0400
TZNAME:EDT
DTSTART:20210314T070000
END:DAYLIGHT
BEGIN:STANDARD
TZOFFSETFROM:-0400
TZOFFSETTO:-0500
TZNAME:EST
DTSTART:20211107T060000
END:STANDARD
BEGIN:DAYLIGHT
TZOFFSETFROM:-0500
TZOFFSETTO:-0400
TZNAME:EDT
DTSTART:20220313T070000
END:DAYLIGHT
BEGIN:STANDARD
TZOFFSETFROM:-0400
TZOFFSETTO:-0500
TZNAME:EST
DTSTART:20221106T060000
END:STANDARD
BEGIN:DAYLIGHT
TZOFFSETFROM:-0500
TZOFFSETTO:-0400
TZNAME:EDT
DTSTART:20230312T070000
END:DAYLIGHT
BEGIN:STANDARD
TZOFFSETFROM:-0400
TZOFFSETTO:-0500
TZNAME:EST
DTSTART:20231105T060000
END:STANDARD
END:VTIMEZONE
BEGIN:VEVENT
DTSTART;TZID=America/New_York:20220127T190000
DTEND;TZID=America/New_York:20220127T200000
DTSTAMP:20260425T062002
CREATED:20211130T213756Z
LAST-MODIFIED:20220125T155711Z
UID:12215-1643310000-1643313600@lewisborolibrary.org
SUMMARY:(Virtual) Decoding the Mysteries of Cats
DESCRIPTION:Via Zoom. \n\nFeline Behaviorist\, Stephen Quandt\, most recently the Feline Behavior Coordinator for the Animal Care Centers of NYC and of the ASPCA.org\, has created a feline behavior webinar that explains cat behavior as shaped by evolutionary and adaptive forces.\n\n\n\nLearn about:\n\n– The Cycle of Predation that can lead to “drive-by” ankle biting\, play and food aggression and early morning wake up. Also\, their sense of identity in being a predator or prey that can result in fearful cats\, victimized cats\, fear aggression and redirected aggression.\n\n\n– Cats’ relationship with us as influenced by the Mother/Kitten Relationship that connects them to us through food needs\,\n\nattention seeking\, and their status with most favored and/or least favored people.\n\nPlease register below. Your Zoom link will be sent two days before program.
URL:https://lewisborolibrary.org/event/virtual-decoding-the-mysteries-of-cats/
CATEGORIES:Adult
ATTACH;FMTTYPE=image/jpeg:https://lewisborolibrary.org/wp-content/uploads/2021/11/220127-Decoding-the-Mysteries-of-Cats-compressed.jpg
END:VEVENT
END:VCALENDAR