BEGIN:VCALENDAR
VERSION:2.0
PRODID:-//Lewisboro Library - ECPv6.15.20//NONSGML v1.0//EN
CALSCALE:GREGORIAN
METHOD:PUBLISH
X-ORIGINAL-URL:https://lewisborolibrary.org
X-WR-CALDESC:Events for Lewisboro Library
REFRESH-INTERVAL;VALUE=DURATION:PT1H
X-Robots-Tag:noindex
X-PUBLISHED-TTL:PT1H
BEGIN:VTIMEZONE
TZID:America/New_York
BEGIN:DAYLIGHT
TZOFFSETFROM:-0500
TZOFFSETTO:-0400
TZNAME:EDT
DTSTART:20200308T070000
END:DAYLIGHT
BEGIN:STANDARD
TZOFFSETFROM:-0400
TZOFFSETTO:-0500
TZNAME:EST
DTSTART:20201101T060000
END:STANDARD
BEGIN:DAYLIGHT
TZOFFSETFROM:-0500
TZOFFSETTO:-0400
TZNAME:EDT
DTSTART:20210314T070000
END:DAYLIGHT
BEGIN:STANDARD
TZOFFSETFROM:-0400
TZOFFSETTO:-0500
TZNAME:EST
DTSTART:20211107T060000
END:STANDARD
BEGIN:DAYLIGHT
TZOFFSETFROM:-0500
TZOFFSETTO:-0400
TZNAME:EDT
DTSTART:20220313T070000
END:DAYLIGHT
BEGIN:STANDARD
TZOFFSETFROM:-0400
TZOFFSETTO:-0500
TZNAME:EST
DTSTART:20221106T060000
END:STANDARD
END:VTIMEZONE
BEGIN:VEVENT
DTSTART;TZID=America/New_York:20211120T110000
DTEND;TZID=America/New_York:20211120T120000
DTSTAMP:20260425T094252
CREATED:20211020T184901Z
LAST-MODIFIED:20211020T184901Z
UID:11680-1637406000-1637409600@lewisborolibrary.org
SUMMARY:(Virtual) FREE Books\, Movies & More - With Your Library Card
DESCRIPTION:Via Zoom.\n\nOverDrive/Libby\, hoopla\, Kanopy\, Freading\, PressReader – what do they have in common? They are all downloadable digital media and streaming services you can use FREE with your library card. Discover which services to use for free eBooks\, audiobooks\, music\, TV and film – and how to access them.\n\nPlease register HERE for the Zoom link.
URL:https://lewisborolibrary.org/event/virtual-free-books-movies-more-with-your-library-card/
CATEGORIES:Adult
ATTACH;FMTTYPE=image/jpeg:https://lewisborolibrary.org/wp-content/uploads/2021/10/211120-Free-Books-Movies-and-More-compressed.jpg
END:VEVENT
END:VCALENDAR