BEGIN:VCALENDAR
VERSION:2.0
PRODID:-//Lewisboro Library - ECPv6.15.20//NONSGML v1.0//EN
CALSCALE:GREGORIAN
METHOD:PUBLISH
X-ORIGINAL-URL:https://lewisborolibrary.org
X-WR-CALDESC:Events for Lewisboro Library
REFRESH-INTERVAL;VALUE=DURATION:PT1H
X-Robots-Tag:noindex
X-PUBLISHED-TTL:PT1H
BEGIN:VTIMEZONE
TZID:America/New_York
BEGIN:DAYLIGHT
TZOFFSETFROM:-0500
TZOFFSETTO:-0400
TZNAME:EDT
DTSTART:20200308T070000
END:DAYLIGHT
BEGIN:STANDARD
TZOFFSETFROM:-0400
TZOFFSETTO:-0500
TZNAME:EST
DTSTART:20201101T060000
END:STANDARD
BEGIN:DAYLIGHT
TZOFFSETFROM:-0500
TZOFFSETTO:-0400
TZNAME:EDT
DTSTART:20210314T070000
END:DAYLIGHT
BEGIN:STANDARD
TZOFFSETFROM:-0400
TZOFFSETTO:-0500
TZNAME:EST
DTSTART:20211107T060000
END:STANDARD
BEGIN:DAYLIGHT
TZOFFSETFROM:-0500
TZOFFSETTO:-0400
TZNAME:EDT
DTSTART:20220313T070000
END:DAYLIGHT
BEGIN:STANDARD
TZOFFSETFROM:-0400
TZOFFSETTO:-0500
TZNAME:EST
DTSTART:20221106T060000
END:STANDARD
END:VTIMEZONE
BEGIN:VEVENT
DTSTART;TZID=America/New_York:20211116T193000
DTEND;TZID=America/New_York:20211116T203000
DTSTAMP:20260425T110611
CREATED:20211012T195359Z
LAST-MODIFIED:20211103T164553Z
UID:11554-1637091000-1637094600@lewisborolibrary.org
SUMMARY:(Virtual) Author Talk: The Book Smugglers: Partisans\, Poets\, and the Race to Save Jewish Treasures from the Nazis
DESCRIPTION:Via Zoom \nWould you risk your life to save literature and art? Professor David Fishman of The Jewish Theological Seminary will discuss his book The Book Smugglers: Partisans\, Poets\, and the Race to Save Jewish Treasures from the Nazis. The book tells of the heroes of the Vilna ghetto who rescued art and literature from the Nazis. It is a stunning true story of heroism\, resistance\, spirit and romance. \nHis book has been hailed as has been hailed as “Monuments Men for book lovers” and “first rate scholarship that pulses with the beat of a most human heart.” \nThis is a joint program with the Pound Ridge\, Bedford and Chappaqua libraries\, hosted by the Ruth Keeler Memorial Library in conjunction with the generosity of Ruth and Gerry Fischbach. \nPlease register HERE to receive your Zoom link.
URL:https://lewisborolibrary.org/event/virtual-author-talk-the-book-smugglers-partisans-poets-and-the-race-to-save-jewish-treasures-from-the-nazis/
CATEGORIES:Adult
ATTACH;FMTTYPE=image/jpeg:https://lewisborolibrary.org/wp-content/uploads/2021/10/211116-Author-Talk-The-Book-Smugglers-compressed.jpg
END:VEVENT
END:VCALENDAR