BEGIN:VCALENDAR
VERSION:2.0
PRODID:-//Lewisboro Library - ECPv6.15.20//NONSGML v1.0//EN
CALSCALE:GREGORIAN
METHOD:PUBLISH
X-WR-CALNAME:Lewisboro Library
X-ORIGINAL-URL:https://lewisborolibrary.org
X-WR-CALDESC:Events for Lewisboro Library
REFRESH-INTERVAL;VALUE=DURATION:PT1H
X-Robots-Tag:noindex
X-PUBLISHED-TTL:PT1H
BEGIN:VTIMEZONE
TZID:America/New_York
BEGIN:DAYLIGHT
TZOFFSETFROM:-0500
TZOFFSETTO:-0400
TZNAME:EDT
DTSTART:20200308T070000
END:DAYLIGHT
BEGIN:STANDARD
TZOFFSETFROM:-0400
TZOFFSETTO:-0500
TZNAME:EST
DTSTART:20201101T060000
END:STANDARD
BEGIN:DAYLIGHT
TZOFFSETFROM:-0500
TZOFFSETTO:-0400
TZNAME:EDT
DTSTART:20210314T070000
END:DAYLIGHT
BEGIN:STANDARD
TZOFFSETFROM:-0400
TZOFFSETTO:-0500
TZNAME:EST
DTSTART:20211107T060000
END:STANDARD
BEGIN:DAYLIGHT
TZOFFSETFROM:-0500
TZOFFSETTO:-0400
TZNAME:EDT
DTSTART:20220313T070000
END:DAYLIGHT
BEGIN:STANDARD
TZOFFSETFROM:-0400
TZOFFSETTO:-0500
TZNAME:EST
DTSTART:20221106T060000
END:STANDARD
END:VTIMEZONE
BEGIN:VEVENT
DTSTART;TZID=America/New_York:20211022T130000
DTEND;TZID=America/New_York:20211022T143000
DTSTAMP:20260425T223648
CREATED:20210921T182534Z
LAST-MODIFIED:20210921T182534Z
UID:11187-1634907600-1634913000@lewisborolibrary.org
SUMMARY:Stitch Together
DESCRIPTION:This casual\, weekly gathering of those who knit/crochet and chat will meet outside\, weather permitting\, but will move indoors if rainy or too cold. Catch up on people’s craft projects and what is going on in Town – and beyond. Bring a project\, chair if outside and a mask if inside!  \nPlease register below.
URL:https://lewisborolibrary.org/event/stitch-together-24/
CATEGORIES:Adult
ATTACH;FMTTYPE=image/jpeg:https://lewisborolibrary.org/wp-content/uploads/2021/01/210514-Stitch2Gether-compressed.jpg
END:VEVENT
BEGIN:VEVENT
DTSTART;TZID=America/New_York:20211022T190000
DTEND;TZID=America/New_York:20211022T200000
DTSTAMP:20260425T223648
CREATED:20210921T194801Z
LAST-MODIFIED:20211019T020249Z
UID:11198-1634929200-1634932800@lewisborolibrary.org
SUMMARY:South Salem Ghost Walk
DESCRIPTION:Sorry\, this program is full. To get on the wait list\, please send an email to lewisborolibrary@gmail.com. \n  \nTown historian Maureen Koehl will lead a “Ghost Walk\,” a one-hour walking tour of local sites with a haunted history. The tour takes place on the roads surrounding the Library. Thrill seekers and history buffs should meet at the Library promptly at 7 pm – armed with flashlights (and reflective vests if you have them!) \nPlease bring a mask for gathering in the Library before the tour starts. Rain date is October 29. \n 
URL:https://lewisborolibrary.org/event/south-salem-ghost-walk/
CATEGORIES:Adult
ATTACH;FMTTYPE=image/jpeg:https://lewisborolibrary.org/wp-content/uploads/2021/09/211022-ghost-walk-compressed.jpg
END:VEVENT
END:VCALENDAR