BEGIN:VCALENDAR
VERSION:2.0
PRODID:-//Lewisboro Library - ECPv6.15.20//NONSGML v1.0//EN
CALSCALE:GREGORIAN
METHOD:PUBLISH
X-WR-CALNAME:Lewisboro Library
X-ORIGINAL-URL:https://lewisborolibrary.org
X-WR-CALDESC:Events for Lewisboro Library
REFRESH-INTERVAL;VALUE=DURATION:PT1H
X-Robots-Tag:noindex
X-PUBLISHED-TTL:PT1H
BEGIN:VTIMEZONE
TZID:America/New_York
BEGIN:DAYLIGHT
TZOFFSETFROM:-0500
TZOFFSETTO:-0400
TZNAME:EDT
DTSTART:20200308T070000
END:DAYLIGHT
BEGIN:STANDARD
TZOFFSETFROM:-0400
TZOFFSETTO:-0500
TZNAME:EST
DTSTART:20201101T060000
END:STANDARD
BEGIN:DAYLIGHT
TZOFFSETFROM:-0500
TZOFFSETTO:-0400
TZNAME:EDT
DTSTART:20210314T070000
END:DAYLIGHT
BEGIN:STANDARD
TZOFFSETFROM:-0400
TZOFFSETTO:-0500
TZNAME:EST
DTSTART:20211107T060000
END:STANDARD
BEGIN:DAYLIGHT
TZOFFSETFROM:-0500
TZOFFSETTO:-0400
TZNAME:EDT
DTSTART:20220313T070000
END:DAYLIGHT
BEGIN:STANDARD
TZOFFSETFROM:-0400
TZOFFSETTO:-0500
TZNAME:EST
DTSTART:20221106T060000
END:STANDARD
END:VTIMEZONE
BEGIN:VEVENT
DTSTART;TZID=America/New_York:20210804T190000
DTEND;TZID=America/New_York:20210804T203000
DTSTAMP:20260425T205210
CREATED:20210623T143052Z
LAST-MODIFIED:20210804T171638Z
UID:9795-1628103600-1628109000@lewisborolibrary.org
SUMMARY:Earring Design Workshop
DESCRIPTION:For Adults and Teens. \nMake earrings to keep and earrings to donate to women’s shelters. \n Led by Joan Lloyd\, who donates over 900 pairs of earrings each month. \nThis program will be held inside the Library\, socially distanced. \nSpace is limited\, please register below. \nAccording to NYS regulations\, all those UNVACCINATED are required to wear a mask indoors including all children above the age of two. \n 
URL:https://lewisborolibrary.org/event/earring-design-workshop/
CATEGORIES:Adult
ATTACH;FMTTYPE=image/jpeg:https://lewisborolibrary.org/wp-content/uploads/2021/06/210803-Earring-Design-WOrkshop-compressed.jpg
END:VEVENT
END:VCALENDAR