BEGIN:VCALENDAR
VERSION:2.0
PRODID:-//Lewisboro Library - ECPv6.15.20//NONSGML v1.0//EN
CALSCALE:GREGORIAN
METHOD:PUBLISH
X-ORIGINAL-URL:https://lewisborolibrary.org
X-WR-CALDESC:Events for Lewisboro Library
REFRESH-INTERVAL;VALUE=DURATION:PT1H
X-Robots-Tag:noindex
X-PUBLISHED-TTL:PT1H
BEGIN:VTIMEZONE
TZID:America/New_York
BEGIN:DAYLIGHT
TZOFFSETFROM:-0500
TZOFFSETTO:-0400
TZNAME:EDT
DTSTART:20240310T070000
END:DAYLIGHT
BEGIN:STANDARD
TZOFFSETFROM:-0400
TZOFFSETTO:-0500
TZNAME:EST
DTSTART:20241103T060000
END:STANDARD
BEGIN:DAYLIGHT
TZOFFSETFROM:-0500
TZOFFSETTO:-0400
TZNAME:EDT
DTSTART:20250309T070000
END:DAYLIGHT
BEGIN:STANDARD
TZOFFSETFROM:-0400
TZOFFSETTO:-0500
TZNAME:EST
DTSTART:20251102T060000
END:STANDARD
BEGIN:DAYLIGHT
TZOFFSETFROM:-0500
TZOFFSETTO:-0400
TZNAME:EDT
DTSTART:20260308T070000
END:DAYLIGHT
BEGIN:STANDARD
TZOFFSETFROM:-0400
TZOFFSETTO:-0500
TZNAME:EST
DTSTART:20261101T060000
END:STANDARD
END:VTIMEZONE
BEGIN:VEVENT
DTSTART;TZID=America/New_York:20250202T140000
DTEND;TZID=America/New_York:20250202T160000
DTSTAMP:20260425T064816
CREATED:20250107T153104Z
LAST-MODIFIED:20250107T153104Z
UID:30828-1738504800-1738512000@lewisborolibrary.org
SUMMARY:Annual Meeting with Featured Speaker J Henry Fair
DESCRIPTION:This year’s Annual Meeting features a presentation by J Henry Fair\, acclaimed photographer and environmental activist. \nJ Henry Fair has traveled around the world to take pictures of our fragile environment\, which have been exhibited in museums and galleries worldwide. His photographic work focuses on the effects of global warming\, environmental pollution and habitat destruction. His passion for environmental activism started right here in South Salem\, fighting to preserve the open spaces here\, and the vital link they create in the Eastern Biotic Corridor. \nMr. Fair’s presentation will be preceded by a short business meeting. We will also draw the winner of the 2025 “Taste of the Town” raffle at this meeting. \nPlease register below.
URL:https://lewisborolibrary.org/event/annual-meeting-with-featured-speaker-j-henry-fair/
CATEGORIES:Adult
ATTACH;FMTTYPE=image/jpeg:https://lewisborolibrary.org/wp-content/uploads/2025/01/250202-Annual-Meeting-Henry-Fair.jpg
END:VEVENT
BEGIN:VEVENT
DTSTART;TZID=America/New_York:20250205T190000
DTEND;TZID=America/New_York:20250205T200000
DTSTAMP:20260425T064816
CREATED:20250116T164619Z
LAST-MODIFIED:20250116T164619Z
UID:31034-1738782000-1738785600@lewisborolibrary.org
SUMMARY:(Virtual) Successfully Navigating College Admissions in 2025
DESCRIPTION:Via Zoom. For Families of High School Juniors\, Sophomores and Freshmen \nThis program for parents and their high school teens is a detailed and strategic overview of what students should focus on for a successful college admissions process. \nWe will discuss current college admissions trends\, admissions strategies\, the changing test-optional environment\, the importance of researching and visiting colleges to find schools that can be a good fit for your child\, a timeline and other action steps that can be taken to make the remainder of the school year productive and help reduce the stress around the college admissions process. \nWe will also discuss the importance of community service\, how it can provide an opportunity for meaningful experiences\, personal growth and a way to showcase a student’s character. Admissions officers place great emphasis on a student’s character and how the student has been able to give back and help others. \nThe presentation will be led by Ron Feuchs and Jackie Tepper\, partners at Stand Out For College\, LLC. (www.standoutforcollege.com). \nPlease register for the Zoom link HERE.  If you can not attend this session\, another will be offered on MARCH 11.
URL:https://lewisborolibrary.org/event/virtual-successfully-navigating-college-admissions-in-2025/
CATEGORIES:Adult,Teen
ATTACH;FMTTYPE=image/jpeg:https://lewisborolibrary.org/wp-content/uploads/2020/06/200729-college-admissions.jpg
END:VEVENT
BEGIN:VEVENT
DTSTART;TZID=America/New_York:20250206T110000
DTEND;TZID=America/New_York:20250206T120000
DTSTAMP:20260425T064816
CREATED:20250108T214812Z
LAST-MODIFIED:20250205T212445Z
UID:30838-1738839600-1738843200@lewisborolibrary.org
SUMMARY:Community Crafters: Valentine Sweets & Treats
DESCRIPTION:This program has been cancelled due to the weather forecast. Keep an eye out for our next session coming May 14! \nWe have another great project for those who love to craft – and give back to others in our community!  \nCrafters will make four “Crafty Clips” using washi tape\, jewels and flowers.\n \n \nThe clips will be included in a Valentine’s gift bag for Homebound Seniors in Lewisboro. The gift bag will also include a Red Rose wrapped in Lace\, Heart Tags\, Tea and Colored Sugar Crystals\, Lemon Biscotti\, Cookies and Chocolate Kisses. \nPlease register below. If the program is full you may email the Library to be placed on the wait list – info@lewisborolibrary.org.
URL:https://lewisborolibrary.org/event/community-crafters-valentine-sweets-treats/
CATEGORIES:Adult,Cancelled
ATTACH;FMTTYPE=image/jpeg:https://lewisborolibrary.org/wp-content/uploads/2025/01/250206-Comm-Crafters-Feb.jpg
END:VEVENT
BEGIN:VEVENT
DTSTART;TZID=America/New_York:20250210T130000
DTEND;TZID=America/New_York:20250210T150000
DTSTAMP:20260425T064816
CREATED:20250122T210857Z
LAST-MODIFIED:20250122T210857Z
UID:31068-1739192400-1739199600@lewisborolibrary.org
SUMMARY:Afternoon Film Series: "Conclave"
DESCRIPTION:Our afternoon film series continues with a showing of Conclave\, a Golden Globe Award nominee for Best Motion Picture\, Best Director and Best Actor. \nConclave follows one of the world’s most secretive and ancient events – selecting a new pope. Cardinal Lawrence uncovers a trail of deep secrets that could shake the very foundation of the Roman Catholic Church. \nPlease register below.
URL:https://lewisborolibrary.org/event/afternoon-film-series-conclave/
CATEGORIES:Adult
ATTACH;FMTTYPE=image/jpeg:https://lewisborolibrary.org/wp-content/uploads/2025/01/250210-film-Conclave.jpg
END:VEVENT
BEGIN:VEVENT
DTSTART;TZID=America/New_York:20250219T110000
DTEND;TZID=America/New_York:20250219T120000
DTSTAMP:20260425T064816
CREATED:20250121T150058Z
LAST-MODIFIED:20250206T193022Z
UID:31061-1739962800-1739966400@lewisborolibrary.org
SUMMARY:Lewisboro Seniors Book Group: "James"
DESCRIPTION:Our group meets in person on (usually) the third Wednesday of the month during the Lewisboro Senior Adults meeting at the Stevens Memorial United Methodist Church. The church is located at 9 Shady Lane\, South Salem All seniors are welcome! \nThis month the group will be discussing James\, by Percival Everett. The novel is a brilliant\, action-packed re-imagining of The Adventures of Huckleberry Finn\, both harrowing and darkly humorous\, told from the enslaved Jim’s point of view. \nThe Library will provide copies of the book to all participants. Large print copies are also available upon request. Please contact the Library if you need a copy of the book – (914) 875-9004 or lewisborolibrary@gmail.com. The book is also available as an eBook and audiobook via Overdrive/Libby.
URL:https://lewisborolibrary.org/event/lewisboro-seniors-book-group-james/
CATEGORIES:Adult
ATTACH;FMTTYPE=image/jpeg:https://lewisborolibrary.org/wp-content/uploads/2025/01/250219-Sr-Book-James.jpg
END:VEVENT
BEGIN:VEVENT
DTSTART;TZID=America/New_York:20250220T190000
DTEND;TZID=America/New_York:20250220T200000
DTSTAMP:20260425T064816
CREATED:20250117T224154Z
LAST-MODIFIED:20250117T224154Z
UID:31049-1740078000-1740081600@lewisborolibrary.org
SUMMARY:(Virtual) The 10 Warning Signs of Alzheimer's
DESCRIPTION:Via Zoom \nAlzheimer’s is not normal aging; it’s a disease of the brain that causes problems with memory\, thinking and behavior.  \nThis course helps caregivers recognize common signs of the disease in themselves and others and identify next steps to take\, including how to talk to their doctor. Discover the difference between Alzheimer’s and dementia\, Alzheimer’s disease stages and risk factors\, current research\, treatments available to address some symptoms and Alzheimer’s Association resources available to you. \nPresented by the Alzheimer’s Association Hudson Valley Chapter. Please register for your zoom link HERE.
URL:https://lewisborolibrary.org/event/virtual-the-10-warning-signs-of-alzheimers/
CATEGORIES:Adult
ATTACH;FMTTYPE=image/jpeg:https://lewisborolibrary.org/wp-content/uploads/2023/05/230608-Alzheimers-Caregivers-compressed1.jpg
END:VEVENT
BEGIN:VEVENT
DTSTART;TZID=America/New_York:20250224T130000
DTEND;TZID=America/New_York:20250224T160000
DTSTAMP:20260425T064816
CREATED:20250122T212743Z
LAST-MODIFIED:20250122T212743Z
UID:31071-1740402000-1740412800@lewisborolibrary.org
SUMMARY:Afternoon Film Series: "Wicked"
DESCRIPTION:Our afternoon film series continues with a showing of the 2024 blockbuster Wicked. \nWicked is the first installment of a two-part film adaptation of the stage musical by Stephen Schwartz and Winnie Holzman\, which is loosely based on the 1995 novel\, in turn based on the 1939 film The Wizard of Oz. The film tells the story of a young woman named Elphaba\, who is misunderstood because of her green skin and forges an unlikely but profound friendship with Glinda\, a student with an unflinching desire for popularity. Following an encounter with the Wizard of Oz\, their relationship soon reaches a crossroad as their lives begin to take very different paths. \nPlease register below.
URL:https://lewisborolibrary.org/event/afternoon-film-series-wicked/
CATEGORIES:Adult
ATTACH;FMTTYPE=image/jpeg:https://lewisborolibrary.org/wp-content/uploads/2025/01/250224-Wicked.jpg
END:VEVENT
BEGIN:VEVENT
DTSTART;TZID=America/New_York:20250226T193000
DTEND;TZID=America/New_York:20250226T203000
DTSTAMP:20260425T064816
CREATED:20250203T163130Z
LAST-MODIFIED:20250203T205444Z
UID:31333-1740598200-1740601800@lewisborolibrary.org
SUMMARY:Lewisboro Library Book Group: "Erasure"
DESCRIPTION:The Lewisboro Library Book Group usually meets at the Library on the last Wednesday of each month at 7:30 p.m. \nThis month the group will be discussing Erasure\, by Percival Everett. The novel is about a Black upper-class author whose novels receive academic praise\, but sell poorly due to not being “Black enough.” Frustrated\, he writes a deliberately offensive stereotypical novel that accidentally becomes a best-seller\, sending him on a winding journey of identity\, grief\, and defining Blackness\, blurring the lines between satire and reality. In 2023 Erasure was made into a film and renamed American Fiction. It won an Academy Award for Best Adapted Screenplay.\n \nBooks are available through the Westchester Library System and copies are often ordered in advance for members to pick up at the Library. New members are always welcome in this adult\, co-ed book group. For more information contact Myrna or Steve Shomstein at (914) 533-2550.
URL:https://lewisborolibrary.org/event/lewisboro-library-book-group-erasure/
CATEGORIES:Adult
ATTACH;FMTTYPE=image/jpeg:https://lewisborolibrary.org/wp-content/uploads/2025/02/250226-LL-Book-Group-Erasure.jpg
END:VEVENT
BEGIN:VEVENT
DTSTART;TZID=America/New_York:20250227T190000
DTEND;TZID=America/New_York:20250227T210000
DTSTAMP:20260425T064816
CREATED:20250127T191617Z
LAST-MODIFIED:20250213T175137Z
UID:31187-1740682800-1740690000@lewisborolibrary.org
SUMMARY:Trivia Night at Taconah Cantina - SOLD OUT!
DESCRIPTION:That’s right – MORE Trivia in a NEW pop-up location!\nJoin us for a special\, pop-up Trivia Night at Taconah Cantina in Goldens Bridge to benefit the Lewisboro Library! Get ready for challenging questions\, drinks at Happy Hour prices\, delicious food and prizes. \nQuestions will cover a range of topics including general knowledge\, pop culture\, history\, music\, and more. A great way to gather with your neighbors\, win prizes\, and compete for the title of Lewisboro Library Trivia Champions! \nReserved seats are $25 per player. The best way to reserve seating is to form your team (ideally 2 – 4 players)\, and then have a team captain purchase seats for the group. Knowing the number on each team will help us in setting up the venue before everyone arrives. Of course\, individual players are also welcome\, and we’ll do our best to pair you with another team. Please Note: Tables of six are SOLD OUT! \nALL SEATS ARE NOW SOLD OUT!! \nThank you to Taconah Cantina for hosting this special pop-up edition of Trivia Night! The restaurant is located at 108 N. County Shopping Center in Goldens Bridge. Be sure to arrive early to beat the rush and place your food/drink orders before the games begin at 7pm! \np.s. Stay tuned for the return of more Trivia Nights at the Horse and Hound soon!
URL:https://lewisborolibrary.org/event/trivia-night-at-taconah-cantina/
CATEGORIES:Adult
ATTACH;FMTTYPE=image/jpeg:https://lewisborolibrary.org/wp-content/uploads/2025/01/250227-Trivia-Night-Taconah-Cantina.jpg
END:VEVENT
END:VCALENDAR