BEGIN:VCALENDAR
VERSION:2.0
PRODID:-//Lewisboro Library - ECPv6.15.20//NONSGML v1.0//EN
CALSCALE:GREGORIAN
METHOD:PUBLISH
X-WR-CALNAME:Lewisboro Library
X-ORIGINAL-URL:https://lewisborolibrary.org
X-WR-CALDESC:Events for Lewisboro Library
REFRESH-INTERVAL;VALUE=DURATION:PT1H
X-Robots-Tag:noindex
X-PUBLISHED-TTL:PT1H
BEGIN:VTIMEZONE
TZID:America/New_York
BEGIN:DAYLIGHT
TZOFFSETFROM:-0500
TZOFFSETTO:-0400
TZNAME:EDT
DTSTART:20240310T070000
END:DAYLIGHT
BEGIN:STANDARD
TZOFFSETFROM:-0400
TZOFFSETTO:-0500
TZNAME:EST
DTSTART:20241103T060000
END:STANDARD
BEGIN:DAYLIGHT
TZOFFSETFROM:-0500
TZOFFSETTO:-0400
TZNAME:EDT
DTSTART:20250309T070000
END:DAYLIGHT
BEGIN:STANDARD
TZOFFSETFROM:-0400
TZOFFSETTO:-0500
TZNAME:EST
DTSTART:20251102T060000
END:STANDARD
BEGIN:DAYLIGHT
TZOFFSETFROM:-0500
TZOFFSETTO:-0400
TZNAME:EDT
DTSTART:20260308T070000
END:DAYLIGHT
BEGIN:STANDARD
TZOFFSETFROM:-0400
TZOFFSETTO:-0500
TZNAME:EST
DTSTART:20261101T060000
END:STANDARD
END:VTIMEZONE
BEGIN:VEVENT
DTSTART;TZID=America/New_York:20250106T190000
DTEND;TZID=America/New_York:20250106T200000
DTSTAMP:20260424T173539
CREATED:20241106T170116Z
LAST-MODIFIED:20241106T170151Z
UID:29776-1736190000-1736193600@lewisborolibrary.org
SUMMARY:(Virtual) Healthy Living for the Brain and Body
DESCRIPTION:Via Zoom. \nAt every age\, there are lifestyle habits we can adopt to help maintain or even potentially improve our health. These habits may also help to keep our brains healthy as we age and possibly delay the onset of cognitive decline.  \nThis workshop covers four areas of lifestyle habits associated with healthy aging: Cognitive activity\, exercise\, diet/nutrition and social engagement. In each area\, we will discuss what we know\, drawing on current research\, as well as what we can do — steps to take now to improve or maintain overall health in each area.  \nGet these great tips from the latest research by the Alzheimer’s Association. \nPlease register for your Zoom link HERE.
URL:https://lewisborolibrary.org/event/healthy-living-for-the-brain-and-body/
CATEGORIES:Adult
ATTACH;FMTTYPE=image/jpeg:https://lewisborolibrary.org/wp-content/uploads/2022/01/220215-Healthy-Living-for-Body-Brain-compressed.jpg
END:VEVENT
BEGIN:VEVENT
DTSTART;TZID=America/New_York:20250107T130000
DTEND;TZID=America/New_York:20250107T150000
DTSTAMP:20260424T173539
CREATED:20241211T210740Z
LAST-MODIFIED:20241211T210740Z
UID:30396-1736254800-1736262000@lewisborolibrary.org
SUMMARY:Intermediate Mahjong
DESCRIPTION:Are you a mahjong player? A group of experienced players meets weekly Tuesdays at 1 pm at the Library. \nTheir roster is currently full\, but tends to open up in the winter months. Interested players should send an email to lewisborolibrary@gmail.com to be placed on the wait list.
URL:https://lewisborolibrary.org/event/intermediate-mahjong-3/
CATEGORIES:Adult
ATTACH;FMTTYPE=image/jpeg:https://lewisborolibrary.org/wp-content/uploads/2022/05/mahjong-compressed.jpg
END:VEVENT
BEGIN:VEVENT
DTSTART;TZID=America/New_York:20250108T190000
DTEND;TZID=America/New_York:20250108T210000
DTSTAMP:20260424T173539
CREATED:20250102T223222Z
LAST-MODIFIED:20250102T223222Z
UID:30758-1736362800-1736370000@lewisborolibrary.org
SUMMARY:Library Board Meeting
DESCRIPTION:The monthly meeting of the Lewisboro Library Board of Trustees meets in person at the Library. \nMeetings are open to the public.
URL:https://lewisborolibrary.org/event/library-board-meeting-22/2025-01-08/
CATEGORIES:Adult
ATTACH;FMTTYPE=image/jpeg:https://lewisborolibrary.org/wp-content/uploads/2020/02/LL-Logo.jpg
END:VEVENT
BEGIN:VEVENT
DTSTART;TZID=America/New_York:20250109T140000
DTEND;TZID=America/New_York:20250109T160000
DTSTAMP:20260424T173539
CREATED:20240425T164927Z
LAST-MODIFIED:20250109T173232Z
UID:30003-1736431200-1736438400@lewisborolibrary.org
SUMMARY:Afternoon Writers Group
DESCRIPTION:Are you an aspiring writer who would like to get feedback on your work? The Afternoon Writers Group meets every Thursday\, from 2 to 4 pm\, to discuss their work and share feedback with others.  \nWe currently have a few spots open in the group. If you are interested in joining\, please email the Library at info@lewisborolibrary.org.
URL:https://lewisborolibrary.org/event/afternoon-writers-group-new-2024-06-06-2025-01-09/2025-01-09/
CATEGORIES:Adult
ATTACH;FMTTYPE=image/jpeg:https://lewisborolibrary.org/wp-content/uploads/2023/08/231004-Life-Sketches-compressed.jpg
END:VEVENT
BEGIN:VEVENT
DTSTART;TZID=America/New_York:20250110T193000
DTEND;TZID=America/New_York:20250110T213000
DTSTAMP:20260424T173539
CREATED:20241203T225503Z
LAST-MODIFIED:20250104T225703Z
UID:30314-1736537400-1736544600@lewisborolibrary.org
SUMMARY:In Concert: Jay Prince & Friends
DESCRIPTION:We’re going to raise the roof in January – this time with a concert featuring popular favorite Jay Prince & Friends! \nA Hudson Valley legend\, guitarist and vocalist Jay Prince has been packing houses full of smiling music lovers for as long as anyone can remember. Known for his soulful style and impeccable taste in material\, you can expect an evening of rockin\, bluesy\, familiar good times. In addition to Jay on guitar & vocals\, the band features Bill Heller on keyboard & vocals\, Tyger MacNeal on drums\, Dave Anderson on bass and Chris Eminizer on sax and vocals – plus special guest vocalist Christine Tambakis! \nMembers of the band have performed with: Roberta Flack\, Luther Vandross\, Bruce Springsteen\, Ashford & Simpson\, Rippingtons\, Michael McDonald\, Bernie Williams\, Paul Simon\, Janet Jackson\, Keith Urban\, Average White Band\, Jose Feliciano\, Donna Summer & many more. With a killer band like this\, you know you’re in for a great night! \nReserved seating is $45 per person. Wine\, beer and light bites are included. Doors will open at 7:00 pm for the 7:30 show. \nMake your reservations now while there are still seats – they always sell out fast! Paid reservations can be made in person at the Library or online by using the “Buy Now” button below. When you click on the box above the “Buy Now” button\, you can elect to pay $45.00\, or $46.40 to cover the credit card processing fee and enhance your donation. \nThis event is a benefit for the Lewisboro Library. Thank you to our sponsors\, The Horse & Hound and Lily’s Deli & Market for providing light bites\, and Cross River Wine Merchant for a select wine tasting. We so appreciate their ongoing support of the Library! \nIn the case of inclement weather\, the concert will be postponed to January 24. \n  \n\n\n\n Jay Prince & Friends Payment Options\n\n\nTicket Plus Processing Fees $46.40 USDTicket Only $45.00 USD
URL:https://lewisborolibrary.org/event/in-concert-jay-prince-friends/
CATEGORIES:Adult
ATTACH;FMTTYPE=image/jpeg:https://lewisborolibrary.org/wp-content/uploads/2024/12/250110-Jay-Prince-solo.jpg
END:VEVENT
BEGIN:VEVENT
DTSTART;TZID=America/New_York:20250113T130000
DTEND;TZID=America/New_York:20250113T150000
DTSTAMP:20260424T173539
CREATED:20241212T182052Z
LAST-MODIFIED:20241212T182052Z
UID:30434-1736773200-1736780400@lewisborolibrary.org
SUMMARY:Afternoon Film: "It Ends with Us"
DESCRIPTION:Our afternoon film series continues with a showing of the 2024 movie hit movie It Ends with Us. \nBased on the best-selling novel by Colleen Hoover\, the film’s main character is Lily Bloom\, a young woman with a troubled past who runs a successful flower shop in Boston. Lily finds herself grappling with that past as she experiences love\, resilience\, and domestic abuse. \nPlease register below.
URL:https://lewisborolibrary.org/event/afternoon-film-it-ends-with-us/
CATEGORIES:Adult
ATTACH;FMTTYPE=image/jpeg:https://lewisborolibrary.org/wp-content/uploads/2024/12/250113-Film-It-Ends-with-Us.jpg
END:VEVENT
BEGIN:VEVENT
DTSTART;TZID=America/New_York:20250115T110000
DTEND;TZID=America/New_York:20250115T120000
DTSTAMP:20260424T173539
CREATED:20241220T200623Z
LAST-MODIFIED:20241220T200623Z
UID:30635-1736938800-1736942400@lewisborolibrary.org
SUMMARY:Lewisboro Seniors Book Group: "Life After Life"
DESCRIPTION:Our group meets in person on (usually) the third Wednesday of the month during the Lewisboro Senior Adults meeting at the Stevens Memorial United Methodist Church. The church is located at 9 Shady Lane\, South Salem All seniors are welcome! \nThis month the group will be discussing Life After Life\, by Kate Atkinson.  The novel tells the story of a girl named Ursula Todd\, born in England in 1911\, who has an odd ability to die and be reborn again and again into the exact same life\, after dying in various ways. It is a book about life\, and all the different ways one person can live it\, even when born into the exact same circumstances. \nThe Library will provide copies of the book to all participants. Large print copies are also available upon request. Please contact the Library if you need a copy of the book – (914) 875-9004 or lewisborolibrary@gmail.com. The book is also available as an eBook and audiobook via Overdrive/Libby.
URL:https://lewisborolibrary.org/event/lewisboro-seniors-book-group-life-after-life/
CATEGORIES:Adult
ATTACH;FMTTYPE=image/jpeg:https://lewisborolibrary.org/wp-content/uploads/2024/12/250115-Sr-Book-Life-After-Life.jpg
END:VEVENT
BEGIN:VEVENT
DTSTART;TZID=America/New_York:20250121T183000
DTEND;TZID=America/New_York:20250121T193000
DTSTAMP:20260424T173539
CREATED:20241212T213824Z
LAST-MODIFIED:20241212T213824Z
UID:30444-1737484200-1737487800@lewisborolibrary.org
SUMMARY:(Virtual) The 8th Wonder of the World: The Brooklyn Bridge
DESCRIPTION:Via Zoom. \nOpened on May 24\, 1883\, the Brooklyn Bridge was hailed as “the eighth wonder of the world.” Well over a century later\, it still stands as one of the world’s most recognizable spans. \nThis interactive virtual presentation\, presented by the New York Historical Society\, explores the amazing history of the bridge’s construction and the heroic and sometimes tragic stories of the men and women who made it possible. Discover how the bridge’s construction helped lead to the consolidation of New York and how old-world engineering know-how and modern industrial innovation came together to complete the project. \nPlease register for the Zoom link HERE. Presented by the Lewisboro\, Irvington\, New Rochelle and Yonkers Libraries.
URL:https://lewisborolibrary.org/event/virtual-the-8th-wonder-of-the-world-the-brooklyn-bridge/
CATEGORIES:Adult
ATTACH;FMTTYPE=image/jpeg:https://lewisborolibrary.org/wp-content/uploads/2024/12/250121-Brooklyn-Bridge.jpg
END:VEVENT
BEGIN:VEVENT
DTSTART;TZID=America/New_York:20250125T150000
DTEND;TZID=America/New_York:20250125T160000
DTSTAMP:20260424T173539
CREATED:20241220T204036Z
LAST-MODIFIED:20250120T174412Z
UID:30639-1737817200-1737820800@lewisborolibrary.org
SUMMARY:Poems of Winter: Reading & Discussion
DESCRIPTION:This is the make-up date for the program snowed-out on January 19.\n\n\nWhat is revealed when we see our lives through the lens of winter?  Selected poems exemplify some of the ways poets have reflected on this question.\n\n\n  \nThe session will be geared toward discussion\, and everyone is encouraged to take part. The Library will provide copies of the poems. \nOur poetry discussions are led by David Sanders\, a retired Professor of English and resident of South Salem. \nPlease register below. If the program is full you may email the Library to be placed on the wait list – info@lewisborolibrary.org.
URL:https://lewisborolibrary.org/event/poems-of-winter-reading-discussion-2/
CATEGORIES:Adult
ATTACH;FMTTYPE=image/jpeg:https://lewisborolibrary.org/wp-content/uploads/2024/01/240225-Poems-of-Winter-Robert-Frost-compressed.jpg
END:VEVENT
BEGIN:VEVENT
DTSTART;TZID=America/New_York:20250126T150000
DTEND;TZID=America/New_York:20250126T160000
DTSTAMP:20260424T173539
CREATED:20241212T214749Z
LAST-MODIFIED:20250126T131706Z
UID:30446-1737903600-1737907200@lewisborolibrary.org
SUMMARY:Bearing Witness to the Holocaust
DESCRIPTION:A special presentation in honor of International Holocaust Remembrance Day (January 27). \nAs a descendant of two Holocaust survivors\, Renee Bronner Pessin will tell the story of her parents\, Helen and Sam Bronner\, who met while imprisoned in a concentration camp. Helen was the only survivor of more than 50 members of her immediate and extended family\, while Sam and one brother were the only survivors of his immediate family. \nThe couple became separated during the war\, but they eventually found each other following liberation. Soon after\, Helen and Sam got married and immigrated to the United States to start a new life in Brooklyn\, NY.  Renee shares the story of her parents through excerpts of her mother’s video testimony to the Shoah Foundation and through family pictures that survived the horrors of the Holocaust. \nPlease register below.
URL:https://lewisborolibrary.org/event/bearing-witness-to-the-holocaust/
CATEGORIES:Adult
ATTACH;FMTTYPE=image/jpeg:https://lewisborolibrary.org/wp-content/uploads/2024/12/250126-My-Familys-Holocaust-Story-cropped.jpg
END:VEVENT
BEGIN:VEVENT
DTSTART;TZID=America/New_York:20250127T130000
DTEND;TZID=America/New_York:20250127T150000
DTSTAMP:20260424T173539
CREATED:20241212T184258Z
LAST-MODIFIED:20241212T184258Z
UID:30437-1737982800-1737990000@lewisborolibrary.org
SUMMARY:Afternoon Film: "Irena's Vow"
DESCRIPTION:Our afternoon film series honors International Holocaust Remembrance Day with a showing of the movie Irena’s Vow. \nThis biographic film is about Irene Gut Opdyke\, a young Polish woman during the Second World War\, who hid a group of Jews in the house of her boss – a high-ranking Nazi commander\, risking her life to save a generation of Jews from the atrocities of the Holocaust. \nPlease register below.
URL:https://lewisborolibrary.org/event/afternoon-film-irenas-vow/
CATEGORIES:Adult
ATTACH;FMTTYPE=image/jpeg:https://lewisborolibrary.org/wp-content/uploads/2024/12/250127-Film-Irenas-vow.jpg
END:VEVENT
BEGIN:VEVENT
DTSTART;TZID=America/New_York:20250129T193000
DTEND;TZID=America/New_York:20250129T203000
DTSTAMP:20260424T173539
CREATED:20241220T201109Z
LAST-MODIFIED:20241220T201121Z
UID:30637-1738179000-1738182600@lewisborolibrary.org
SUMMARY:Lewisboro Library Book Group: "North Woods"
DESCRIPTION:The Lewisboro Library Book Group usually meets at the Library on the last Wednesday of each month at 7:30 p.m. \nThis month the group will be discussing North Woods\, by Daniel Mason. It is a sweeping novel about a single house in the woods of New England\, told through the lives of those who inhabit it across the centuries. \nBooks are available through the Westchester Library System and copies are often ordered in advance for members to pick up at the Library. New members are always welcome in this adult\, co-ed book group. For more information contact Myrna or Steve Shomstein at (914) 533-2550.
URL:https://lewisborolibrary.org/event/lewisboro-library-book-group-north-woods/
CATEGORIES:Adult
ATTACH;FMTTYPE=image/jpeg:https://lewisborolibrary.org/wp-content/uploads/2024/03/240417-Sr-Book-North-Woods-compressed.jpg
END:VEVENT
END:VCALENDAR