BEGIN:VCALENDAR
VERSION:2.0
PRODID:-//Lewisboro Library - ECPv6.15.20//NONSGML v1.0//EN
CALSCALE:GREGORIAN
METHOD:PUBLISH
X-ORIGINAL-URL:https://lewisborolibrary.org
X-WR-CALDESC:Events for Lewisboro Library
REFRESH-INTERVAL;VALUE=DURATION:PT1H
X-Robots-Tag:noindex
X-PUBLISHED-TTL:PT1H
BEGIN:VTIMEZONE
TZID:America/New_York
BEGIN:DAYLIGHT
TZOFFSETFROM:-0500
TZOFFSETTO:-0400
TZNAME:EDT
DTSTART:20230312T070000
END:DAYLIGHT
BEGIN:STANDARD
TZOFFSETFROM:-0400
TZOFFSETTO:-0500
TZNAME:EST
DTSTART:20231105T060000
END:STANDARD
BEGIN:DAYLIGHT
TZOFFSETFROM:-0500
TZOFFSETTO:-0400
TZNAME:EDT
DTSTART:20240310T070000
END:DAYLIGHT
BEGIN:STANDARD
TZOFFSETFROM:-0400
TZOFFSETTO:-0500
TZNAME:EST
DTSTART:20241103T060000
END:STANDARD
BEGIN:DAYLIGHT
TZOFFSETFROM:-0500
TZOFFSETTO:-0400
TZNAME:EDT
DTSTART:20250309T070000
END:DAYLIGHT
BEGIN:STANDARD
TZOFFSETFROM:-0400
TZOFFSETTO:-0500
TZNAME:EST
DTSTART:20251102T060000
END:STANDARD
END:VTIMEZONE
BEGIN:VEVENT
DTSTART;TZID=America/New_York:20241202T130000
DTEND;TZID=America/New_York:20241202T140000
DTSTAMP:20260420T093248
CREATED:20241105T215831Z
LAST-MODIFIED:20241105T215831Z
UID:29768-1733144400-1733148000@lewisborolibrary.org
SUMMARY:Managing Money: A Caregiver's Guide to Finances
DESCRIPTION:This presentation\, by a volunteer from the Alzheimer’s Association\, helps caregivers understand the costs of caregiving and the benefits of early planning. It will teach you how to start a conversation about finances\, assess financial and legal needs\, avoid financial abuse and fraud\, and find support when needed. \nPlease register below.
URL:https://lewisborolibrary.org/event/managing-money-a-caregivers-guide-to-finances/
CATEGORIES:Adult
ATTACH;FMTTYPE=image/jpeg:https://lewisborolibrary.org/wp-content/uploads/2024/11/241202-Caregivers-Guide-to-FInances.jpg
END:VEVENT
BEGIN:VEVENT
DTSTART;TZID=America/New_York:20241204T190000
DTEND;TZID=America/New_York:20241204T203000
DTSTAMP:20260420T093248
CREATED:20241111T183351Z
LAST-MODIFIED:20241202T154624Z
UID:29833-1733338800-1733344200@lewisborolibrary.org
SUMMARY:Wreath Making Workshop - Cancelled
DESCRIPTION:GET IN THE HOLIDAY SPIRIT BY JOINING THE LEWISBORO LIBRARY FOR A WREATH MAKING FUNDRAISER!! \nLearn an easy-to-follow technique to make a gorgeous\, 18” wreath using a mixture of dried\, preserved and faux material that will last for years to come. \nGrab your friends and join expert florist\, Estelle Silberman\, of Flower Party by Estelle\, for this fun and super crafty hands-on wreath making workshop. Keep it for yourself or gift to a loved one!  All materials provided and all crafting skill levels welcome. \nThe fee is $125 per person\, which includes a wreath-making lesson and all the materials to make a one-of-a-kind\, seasonal wreath – plus festive beverages and light bites! \n This event is a fundraiser for the Lewisboro Library.  \n \n 
URL:https://lewisborolibrary.org/event/wreath-making-workshop/
CATEGORIES:Adult,Cancelled
ATTACH;FMTTYPE=image/jpeg:https://lewisborolibrary.org/wp-content/uploads/2024/11/241204-Wreath-Making.jpg
END:VEVENT
BEGIN:VEVENT
DTSTART;TZID=America/New_York:20241208T150000
DTEND;TZID=America/New_York:20241208T160000
DTSTAMP:20260420T093248
CREATED:20241113T200742Z
LAST-MODIFIED:20241114T141156Z
UID:29884-1733670000-1733673600@lewisborolibrary.org
SUMMARY:Author Talk: "South Brooklyn Exterminating"
DESCRIPTION:Local author Ian S. Maloney will discuss his book South Brooklyn Exterminating\, which was published in May of this year. It documents the complications of growing up and navigating through a working class family and that family’s business – the exterminating business. Maloney’s Brooklyn comes to life in startling ways\, funny and sad in equal measure\, an ode to old Brooklyn\, all the way down to how to properly pronounce the Kosciuszko Bridge. \nIan S. Maloney grew up in Marine Park\, Brooklyn\, where he worked as a NYS Pest Control Technician. He is Director of the Jack Hazard Fellowship for the New Literary Project\, Contributor at Vol. 1 Brooklyn\, and former Professor of Literature\, Writing\, and Publishing at St. Francis College in Brooklyn\, NY. Ian serves on the Literary Council for the Brooklyn Book Festival and on the Board for the Walt Whitman Initiative.\n\nPlease register below.\n\n 
URL:https://lewisborolibrary.org/event/author-talk-south-brooklyn-exterminating/
CATEGORIES:Adult
ATTACH;FMTTYPE=image/jpeg:https://lewisborolibrary.org/wp-content/uploads/2024/11/241208-AUthro-Talk-South-Brooklyn-Exterminating.jpg
END:VEVENT
BEGIN:VEVENT
DTSTART;TZID=America/New_York:20241209T130000
DTEND;TZID=America/New_York:20241209T150000
DTSTAMP:20260420T093248
CREATED:20241105T224107Z
LAST-MODIFIED:20241105T224107Z
UID:29772-1733749200-1733756400@lewisborolibrary.org
SUMMARY:Afternoon Film: "Beetlejuice Beetlejuice"
DESCRIPTION:Our afternoon film series continues with a showing of the 2024 sequel Beetlejuice Beetlejuice. \nStill haunted by Beetlejuice\, Lydia’s life gets turned upside down when her daughter discovers a portal to the afterlife. When someone says Beetlejuice’s name three times\, the mischievous demon soon returns to unleash his very own brand of mayhem. \nPlease register below.
URL:https://lewisborolibrary.org/event/afternoon-film-beetlejuice-beetlejuice/
CATEGORIES:Adult
ATTACH;FMTTYPE=image/jpeg:https://lewisborolibrary.org/wp-content/uploads/2024/10/241209-film-Beetlejuice.jpg
END:VEVENT
BEGIN:VEVENT
DTSTART;TZID=America/New_York:20241212T190000
DTEND;TZID=America/New_York:20241212T203000
DTSTAMP:20260420T093248
CREATED:20230109T214002Z
LAST-MODIFIED:20241121T200010Z
UID:24281-1734030000-1734035400@lewisborolibrary.org
SUMMARY:Stitch Together Evening
DESCRIPTION:This casual\, monthly gathering is for those who want to work on needle crafts (knit/crochet/cross-stitch/quilting\, etc) while meeting and chatting with neighbors. It usually meets on the third Thursday of the month. Bring a project you are working on.\n \nCatch up on people’s craft projects and what is going on in Town – and beyond. \nIf you are interested in attending\, please register below so we can add you to the contact list\, in case we need to switch the meeting date some month.
URL:https://lewisborolibrary.org/event/stitch-together-evening-4-2024-08-15-2024-12-19/
CATEGORIES:Adult
ATTACH;FMTTYPE=image/jpeg:https://lewisborolibrary.org/wp-content/uploads/2022/10/210514-Stitch2Gether-compressed.jpg
END:VEVENT
BEGIN:VEVENT
DTSTART;TZID=America/New_York:20241216T130000
DTEND;TZID=America/New_York:20241216T140000
DTSTAMP:20260420T093248
CREATED:20241113T202924Z
LAST-MODIFIED:20241126T221728Z
UID:29888-1734354000-1734357600@lewisborolibrary.org
SUMMARY:Community Crafters: Holiday Sweet Treat!
DESCRIPTION:We have another great project for those who love to craft – and give back to others in our community! Join us in preparing a holiday gift bag for our homebound senior adults in Lewisboro.\n \nCrafters will assemble an adorable felt reindeer with a jingle bell nose and candy cane antlers. The reindeer will accompany holiday sweets and treats in a decorated gift bag\, including a votive candle decorated with snowflakes and jewels\, Holiday Gift Notes\, envelopes and a sparkly pen\, cute cocoa containers\, and seasonal goodies.\nThis Program is Full.
URL:https://lewisborolibrary.org/event/community-crafters-holiday-sweet-treat/
CATEGORIES:Adult
ATTACH;FMTTYPE=image/jpeg:https://lewisborolibrary.org/wp-content/uploads/2024/11/241216-Community-Crafters.jpg
END:VEVENT
BEGIN:VEVENT
DTSTART;TZID=America/New_York:20241216T190000
DTEND;TZID=America/New_York:20241216T210000
DTSTAMP:20260420T093248
CREATED:20241007T223050Z
LAST-MODIFIED:20241118T153630Z
UID:29420-1734375600-1734382800@lewisborolibrary.org
SUMMARY:Trivia Night at the Horse and Hound - SOLD OUT!!
DESCRIPTION:TRICKY TRIVIA IS BACK!\n\n\n\nJoin us this fall for exciting evenings of trivia at the Horse and Hound in support of the Lewisboro Library!\n\nGet ready for even more challenging questions and fun. Questions will cover a range of topics\, from general knowledge\, pop culture\, history\, sports and more. A great way to gather with your neighbors and compete for the title of Lewisboro Trivia Champions! \nThe best way to reserve seating is to form your team (ideally 2 – 5 players)\, and then have a team captain purchase seats for the group. Knowing the number on each team will help us in setting up the venue before everyone arrives. Of course\, individual players are also welcome! \nReserved seats are $25 per player per trivia night\, and include a complimentary miniature cheese plate for each table. A reduced Pub Menu and cash bar will also be available. We recommend teams arrive early to beat the rush and place their food/drink orders before the games begin at 7 pm! \nHurry and reserve your spot today! Purchase your reserved seats at the Library or online HERE.\n\n\n\n\nThank you to the Horse and Hound for hosting again!!
URL:https://lewisborolibrary.org/event/trivia-night-at-the-horse-and-hound-2024-11-12-2024-12-16/
CATEGORIES:Adult
ATTACH;FMTTYPE=image/jpeg:https://lewisborolibrary.org/wp-content/uploads/2024/10/Trivia-Master-of-ceremonies-ALex.jpg
END:VEVENT
BEGIN:VEVENT
DTSTART;TZID=America/New_York:20241219T180000
DTEND;TZID=America/New_York:20241219T203000
DTSTAMP:20260420T093248
CREATED:20230815T195920Z
LAST-MODIFIED:20241218T170148Z
UID:24282-1734631200-1734640200@lewisborolibrary.org
SUMMARY:Evening Mahjong: Mixed Level
DESCRIPTION:Are you a mahjong player? This is a group of mixed level players that meets weekly Thursday evenings at 6:00 pm. \nThis is NOT a drop-in program. We need to know the number of players to set up the room. \nInterested players should send an email to info@lewisborolibrary.org\, with your name and level of experience.
URL:https://lewisborolibrary.org/event/evening-mahjong-mixed-level-2-2024-12-19/
CATEGORIES:Adult,Cancelled
ATTACH;FMTTYPE=image/jpeg:https://lewisborolibrary.org/wp-content/uploads/2022/05/mahjong-compressed.jpg
END:VEVENT
BEGIN:VEVENT
DTSTART;TZID=America/New_York:20241226T180000
DTEND;TZID=America/New_York:20241226T203000
DTSTAMP:20260420T093248
CREATED:20230815T195920Z
LAST-MODIFIED:20241218T170232Z
UID:24377-1735236000-1735245000@lewisborolibrary.org
SUMMARY:Evening Mahjong: Mixed Level
DESCRIPTION:Are you a mahjong player? This is a group of mixed level players that meets weekly Thursday evenings at 6:00 pm. \nThis is NOT a drop-in program. We need to know the number of players to set up the room. \nInterested players should send an email to info@lewisborolibrary.org\, with your name and level of experience.
URL:https://lewisborolibrary.org/event/evening-mahjong-mixed-level-2-2024-12-26/
CATEGORIES:Adult,Cancelled
ATTACH;FMTTYPE=image/jpeg:https://lewisborolibrary.org/wp-content/uploads/2022/05/mahjong-compressed.jpg
END:VEVENT
END:VCALENDAR