BEGIN:VCALENDAR
VERSION:2.0
PRODID:-//Lewisboro Library - ECPv6.15.20//NONSGML v1.0//EN
CALSCALE:GREGORIAN
METHOD:PUBLISH
X-WR-CALNAME:Lewisboro Library
X-ORIGINAL-URL:https://lewisborolibrary.org
X-WR-CALDESC:Events for Lewisboro Library
REFRESH-INTERVAL;VALUE=DURATION:PT1H
X-Robots-Tag:noindex
X-PUBLISHED-TTL:PT1H
BEGIN:VTIMEZONE
TZID:America/New_York
BEGIN:DAYLIGHT
TZOFFSETFROM:-0500
TZOFFSETTO:-0400
TZNAME:EDT
DTSTART:20220313T070000
END:DAYLIGHT
BEGIN:STANDARD
TZOFFSETFROM:-0400
TZOFFSETTO:-0500
TZNAME:EST
DTSTART:20221106T060000
END:STANDARD
BEGIN:DAYLIGHT
TZOFFSETFROM:-0500
TZOFFSETTO:-0400
TZNAME:EDT
DTSTART:20230312T070000
END:DAYLIGHT
BEGIN:STANDARD
TZOFFSETFROM:-0400
TZOFFSETTO:-0500
TZNAME:EST
DTSTART:20231105T060000
END:STANDARD
BEGIN:DAYLIGHT
TZOFFSETFROM:-0500
TZOFFSETTO:-0400
TZNAME:EDT
DTSTART:20240310T070000
END:DAYLIGHT
BEGIN:STANDARD
TZOFFSETFROM:-0400
TZOFFSETTO:-0500
TZNAME:EST
DTSTART:20241103T060000
END:STANDARD
END:VTIMEZONE
BEGIN:VEVENT
DTSTART;TZID=America/New_York:20230106T190000
DTEND;TZID=America/New_York:20230106T203000
DTSTAMP:20260422T042545
CREATED:20221214T204052Z
LAST-MODIFIED:20221214T204052Z
UID:17786-1673031600-1673037000@lewisborolibrary.org
SUMMARY:Craft Night: Vision & Dream Boards
DESCRIPTION:For Teens & Adults \nStart the New Year on a fun and positive note. Create a vision or dream board\, a collage of images and words that represent your goals and dreams for the future. \nAll materials provided\, but feel free to bring personal photos or mementos to include. \nSpace is limited; please register below.
URL:https://lewisborolibrary.org/event/craft-night-vision-dream-boards/
CATEGORIES:Adult,Teen
ATTACH;FMTTYPE=image/jpeg:https://lewisborolibrary.org/wp-content/uploads/2022/12/230106-Visions-Dreamboards-compressed1.jpg
END:VEVENT
BEGIN:VEVENT
DTSTART;TZID=America/New_York:20230111T193000
DTEND;TZID=America/New_York:20230111T203000
DTSTAMP:20260422T042546
CREATED:20221220T161903Z
LAST-MODIFIED:20221220T161903Z
UID:17977-1673465400-1673469000@lewisborolibrary.org
SUMMARY:Library Board Meeting
DESCRIPTION:The monthly meeting of the Lewisboro Library Board of Trustees meets in person at the Library. \nMeetings are open to the public.
URL:https://lewisborolibrary.org/event/library-board-meeting-19/
CATEGORIES:Adult
ATTACH;FMTTYPE=image/jpeg:https://lewisborolibrary.org/wp-content/uploads/2020/02/LL-Logo.jpg
END:VEVENT
BEGIN:VEVENT
DTSTART;TZID=America/New_York:20230114T100000
DTEND;TZID=America/New_York:20230114T110000
DTSTAMP:20260422T042546
CREATED:20221228T180048Z
LAST-MODIFIED:20221228T180048Z
UID:18045-1673690400-1673694000@lewisborolibrary.org
SUMMARY:(Virtual) Modern Cloth Diapering 101
DESCRIPTION:Via Zoom. \n\nCloth diapers are enjoying a comeback! \nIn this workshop and discussion session\, Liz Anastasi\, a librarian and cloth diaper aficionado from the Greenburgh Public Library\, shares her hard-earned tips and tricks of cloth diapering. Useful whether you are curious about cloth diapers\, starting your diaper journey\, or a cloth diaper veteran. Make sure to bring your questions and anecdotes as this will be a great opportunity to learn from one another’s experiences. \nTopics include: \n\nWhat are modern cloth diapers? \nCloth vs. disposable diapers: You don’t have to pick just one or the other.\nComparing cloth diaper styles\, types and sizes: (velcro\, snaps\, and bamboo\, oh my) and figuring out which are best for you and your little ones.\nBudgets and prices: how much do different styles cost? New vs. pre-loved cloth diapers?\nCleaning: Your own cloth diapers vs. diaper cleaning services\, cloth diaper safe detergents\, wash and dry regimens.\nReturn on Investment: Reselling your pre-loved cloth diapers\nResources and more\n\nPlease register HERE to receive your Zoom link. \nCo-sponsored by the Greenburgh\, Lewisboro\, Tuckahoe & Yonkers libraries.
URL:https://lewisborolibrary.org/event/virtual-modern-cloth-diapering-101/
CATEGORIES:Adult
ATTACH;FMTTYPE=image/jpeg:https://lewisborolibrary.org/wp-content/uploads/2022/12/230114-Modern-Cloth-Diapering-compressed.jpg
END:VEVENT
BEGIN:VEVENT
DTSTART;TZID=America/New_York:20230118T110000
DTEND;TZID=America/New_York:20230118T120000
DTSTAMP:20260422T042546
CREATED:20221214T212446Z
LAST-MODIFIED:20221214T212446Z
UID:17794-1674039600-1674043200@lewisborolibrary.org
SUMMARY:Lewisboro Seniors Book Group: "Remarkably Bright Creatures"
DESCRIPTION:Our group meets in person on (usually) the third Wednesday of the month during the Lewisboro Senior Adults meeting at the South Salem Firehouse. All seniors are welcome! \nFor the January 18 meeting\, the group will be discussing Remarkably Bright Creatures\, by Shelby Van Pelt. It is a charming story about family\, friendships\, loss\, loneliness\, unlikely connections and moving on. \nThe Library will provide copies of the book to all participants. Large print copies are also available upon request. Please contact the Library if you need a copy of the book – (914) 875-9004 or lewisborolibrary@gmail.com. The book is also available as an eBook and audiobook via Overdrive/Libby.
URL:https://lewisborolibrary.org/event/lewisboro-seniors-book-group-remarkably-bright-creatures/
CATEGORIES:Adult
ATTACH;FMTTYPE=image/jpeg:https://lewisborolibrary.org/wp-content/uploads/2022/12/23118-Senior-Book-Remarkably-Bright-Creatures.jpg
END:VEVENT
BEGIN:VEVENT
DTSTART;TZID=America/New_York:20230123T190000
DTEND;TZID=America/New_York:20230123T200000
DTSTAMP:20260422T042546
CREATED:20221214T220047Z
LAST-MODIFIED:20230103T172411Z
UID:17800-1674500400-1674504000@lewisborolibrary.org
SUMMARY:(Virtual) Hacking Disability: Accessible & Adaptable Tech
DESCRIPTION:Via Zoom. \nIn 2015\, after over a decade of programming\, Dr. Naomi Saphra lost the ability to type. Confronted with a programmer’s worst nightmare\, she began the slow process of learning to dictate code. While attempting to customize her environment\, she was confronted with paternalistic attitudes towards disabled people\, which framed accessibility as “accommodation.” \nOften\, accommodations and products for disabled people have a rigid model for their use – but the needs of the disabled are diverse\, and disabled people are perfectly capable of improving on the technology that they are offered. Like the diabetic hackers\, who discovered that they could hack into their insulin pumps to make the device smarter\, and shared step-by-step instructions online for others. \nIn this Tech Talk\, Dr. Saphra will talk about the intersection of technology and disability\, and the need for accessible systems that are open and adaptable\, to allow people like Dr. Saphra to improve the tools they use. \nPlease register HERE for the Zoom link.
URL:https://lewisborolibrary.org/event/virtual-hacking-disability-accessible-adaptable-tech/
CATEGORIES:Adult
ATTACH;FMTTYPE=image/jpeg:https://lewisborolibrary.org/wp-content/uploads/2022/12/230123-Hacking-Disability-compressed-1.jpg
END:VEVENT
BEGIN:VEVENT
DTSTART;TZID=America/New_York:20230125T193000
DTEND;TZID=America/New_York:20230125T203000
DTSTAMP:20260422T042546
CREATED:20221214T210458Z
LAST-MODIFIED:20221228T162814Z
UID:17792-1674675000-1674678600@lewisborolibrary.org
SUMMARY:Lewisboro Library Book Group: "The Winter of Our Discontent"
DESCRIPTION:The Lewisboro Library Book Group usually meets at the Library on the last Wednesday of each month at 7:30 p.m. Books are available through the Westchester Library System. New members are always welcome in this adult\, co-ed book group. For more information contact Myrna or Steve Shomstein at (914) 533-2550. \nThe book selection for January is The Winter of Our Discontent\, by John Steinbeck.
URL:https://lewisborolibrary.org/event/lewisboro-library-book-group-the-winter-of-our-discontent/
CATEGORIES:Adult
ATTACH;FMTTYPE=image/jpeg:https://lewisborolibrary.org/wp-content/uploads/2022/12/230125-Lew-Library-Book-Group-Winter-of-Our-Discontent-compressed.jpg
END:VEVENT
END:VCALENDAR