BEGIN:VCALENDAR
VERSION:2.0
PRODID:-//Lewisboro Library - ECPv6.15.20//NONSGML v1.0//EN
CALSCALE:GREGORIAN
METHOD:PUBLISH
X-ORIGINAL-URL:https://lewisborolibrary.org
X-WR-CALDESC:Events for Lewisboro Library
REFRESH-INTERVAL;VALUE=DURATION:PT1H
X-Robots-Tag:noindex
X-PUBLISHED-TTL:PT1H
BEGIN:VTIMEZONE
TZID:America/New_York
BEGIN:DAYLIGHT
TZOFFSETFROM:-0500
TZOFFSETTO:-0400
TZNAME:EDT
DTSTART:20210314T070000
END:DAYLIGHT
BEGIN:STANDARD
TZOFFSETFROM:-0400
TZOFFSETTO:-0500
TZNAME:EST
DTSTART:20211107T060000
END:STANDARD
BEGIN:DAYLIGHT
TZOFFSETFROM:-0500
TZOFFSETTO:-0400
TZNAME:EDT
DTSTART:20220313T070000
END:DAYLIGHT
BEGIN:STANDARD
TZOFFSETFROM:-0400
TZOFFSETTO:-0500
TZNAME:EST
DTSTART:20221106T060000
END:STANDARD
BEGIN:DAYLIGHT
TZOFFSETFROM:-0500
TZOFFSETTO:-0400
TZNAME:EDT
DTSTART:20230312T070000
END:DAYLIGHT
BEGIN:STANDARD
TZOFFSETFROM:-0400
TZOFFSETTO:-0500
TZNAME:EST
DTSTART:20231105T060000
END:STANDARD
END:VTIMEZONE
BEGIN:VEVENT
DTSTART;TZID=America/New_York:20220403T140000
DTEND;TZID=America/New_York:20220403T150000
DTSTAMP:20260424T025650
CREATED:20220303T202910Z
LAST-MODIFIED:20220403T162906Z
UID:13544-1648994400-1648998000@lewisborolibrary.org
SUMMARY:(Virtual) Author Talk with Tom Dunne "Notes from the Fireground"
DESCRIPTION:Via Zoom. \nRetired FDNY Deputy Chief Tom Dunne discusses his book “Notes from the Fireground: Memoir of a New York Firefighter.” \nIn a 33 year career with the New York City Fire Department\, Tom Dunne fought hundreds of fires\, survived near death incidents and was witness to multiple tragedies. He was one of the responders to the Happy Lands Social Club fire in the Bronx\, a disaster of historical proportions where 87 people died. He worked through Hurricane Sandy\, which flooded and devastated whole sections of New York City. Most notably\, Chief Dunne worked for months supervising rescue and recovery operations following the World Trade Center terrorist attack. He saw how people in crisis lived and survived and how the firefighters who served them worked and bonded. His no-holds barred memoir provides an honest account of an occupation that outsiders seldom get to see. \nPlease register HERE for your Zoom link. The meeting link is sent right away and comes directly from Zoom. If you don’t receive it\, please check your spam email.
URL:https://lewisborolibrary.org/event/virtual-author-talk-with-tom-dunne-notes-from-the-fireground/
CATEGORIES:Adult
ATTACH;FMTTYPE=image/jpeg:https://lewisborolibrary.org/wp-content/uploads/2022/03/220403-Author-Talk-Tom-Dunne-compressed.jpg
END:VEVENT
BEGIN:VEVENT
DTSTART;TZID=America/New_York:20220404T100000
DTEND;TZID=America/New_York:20220408T170000
DTSTAMP:20260424T025650
CREATED:20220310T174855Z
LAST-MODIFIED:20220310T174855Z
UID:13642-1649066400-1649437200@lewisborolibrary.org
SUMMARY:Welcome Spring Take & Make Craft Prep
DESCRIPTION:Calling all Lewisboro Community Crafters! Join us this month in welcoming spring and giving back to others! \n On April 19* we will be making pop-up cards and decorating flowerpots for our First Responder groups and some other Very Special People in town. Before we do that\, however\, volunteers are needed for some cutting and decorating prep work at home the week of April 4th.\n \nPlease register below\, and then pick up your craft kit between April 4 – April 8. Kits must be returned on or before Monday\, April 11. \n*If you’d also like to join us in person at the Library on April 19 to assemble the crafts\, please follow this LINK to that event page. \n  \n 
URL:https://lewisborolibrary.org/event/welcome-spring-take-make-craft-prep/
CATEGORIES:Adult
ATTACH;FMTTYPE=image/jpeg:https://lewisborolibrary.org/wp-content/uploads/2022/03/220404-Welcome-Spring-Take-and-Make-compressed.jpg
END:VEVENT
BEGIN:VEVENT
DTSTART;TZID=America/New_York:20220406T193000
DTEND;TZID=America/New_York:20220406T203000
DTSTAMP:20260424T025650
CREATED:20220310T172456Z
LAST-MODIFIED:20220405T183235Z
UID:13638-1649273400-1649277000@lewisborolibrary.org
SUMMARY:(Virtual) Author Talk with Ben Raines: "The Last Slave Ship"
DESCRIPTION:Via Zoom. \nBen Raines is the author of The Last Slave Ship: The True Story of how Clotilda was found\, Her Descendents\, and an Extraordinary Reckoning.\n\nHear about the incredible true story of the last ship to carry enslaved people to America. Learn about the remarkable town its survivors founded after emancipation\, and the complicated legacy their descendants carry with them to this day – by the journalist who discovered the ship’s remains. \nPlease register below\, then click THIS LINK to join the discussion that evening.
URL:https://lewisborolibrary.org/event/virtual-author-talk-with-ben-raines-the-last-slave-ship/
CATEGORIES:Adult
ATTACH;FMTTYPE=image/jpeg:https://lewisborolibrary.org/wp-content/uploads/2022/03/220406-Author-Talk-The-Last-Slave-Ship-compressed.jpg
END:VEVENT
BEGIN:VEVENT
DTSTART;TZID=America/New_York:20220409T110000
DTEND;TZID=America/New_York:20220409T120000
DTSTAMP:20260424T025650
CREATED:20220309T213427Z
LAST-MODIFIED:20220309T213427Z
UID:13610-1649502000-1649505600@lewisborolibrary.org
SUMMARY:Free Books\, Movie & More - with Your Library Card
DESCRIPTION:Held In Person at the Library \nOverDrive/Libby\, hoopla and Kanopy – what do they have in common? They are all downloadable digital media and streaming services you can use FREE with your library card. \nDiscover which library services to use for free eBooks\, audiobooks\, music\, TV and film – and how to access them. \nSpace is limited. Please register below.
URL:https://lewisborolibrary.org/event/free-books-movie-more-with-your-library-card/
CATEGORIES:Adult
ATTACH;FMTTYPE=image/jpeg:https://lewisborolibrary.org/wp-content/uploads/2022/03/220409-Free-Books-Movies-and-More-2-compressed.jpg
END:VEVENT
BEGIN:VEVENT
DTSTART;TZID=America/New_York:20220419T140000
DTEND;TZID=America/New_York:20220419T160000
DTSTAMP:20260424T025650
CREATED:20220310T174759Z
LAST-MODIFIED:20220310T174943Z
UID:13648-1650376800-1650384000@lewisborolibrary.org
SUMMARY:Welcome Spring: Lewisboro Community Crafters Project
DESCRIPTION:Calling all Lewisboro Community Crafters! Join us this month in welcoming spring and giving back to others!  \nWe will be making pop-up cards and decorating flowerpots for our First Responder groups and some other Very Special People in town.\n \nMany thanks to our partner\, the Lewisboro Garden Club\, and to Copia Home and Garden for their help with the flowers. \nPlease register below. \n(If you can not make this time\, but want to help\, volunteers are needed for some cutting and decorating prep work at home the week of April 4th. Follow this LINK for info about helping with prep work.)
URL:https://lewisborolibrary.org/event/welcome-spring-lewisboro-community-crafters-project/
CATEGORIES:Adult
ATTACH;FMTTYPE=image/jpeg:https://lewisborolibrary.org/wp-content/uploads/2022/03/220419-Welcome-Spring-Craft-compressed-1.jpg
END:VEVENT
BEGIN:VEVENT
DTSTART;TZID=America/New_York:20220420T110000
DTEND;TZID=America/New_York:20220420T120000
DTSTAMP:20260424T025650
CREATED:20220309T214859Z
LAST-MODIFIED:20220309T214859Z
UID:13616-1650452400-1650456000@lewisborolibrary.org
SUMMARY:Lewisboro Seniors Book Group: "Once There Were Wolves"
DESCRIPTION:Our group meets in person on (usually) the third Wednesday of the month during the Lewisboro Senior Adults meeting at the South Salem Firehouse. All seniors are welcome! \nFor the April 20 meeting\, the group will be discussing Charlotte McConaghy’s Once There Were Wolves\, a novel about a woman leading a team of biologists tasked with reintroducing fourteen gray wolves into the remote Highlands. \nThe Library will provide copies of the book to all participants. Large print copies are also available upon request. Please contact the Library if you need a copy of the book – 875-9004 or lewisborolibrary@gmail.com. The book is also available as an eBook and audiobook via Overdrive/Libby.
URL:https://lewisborolibrary.org/event/lewisboro-seniors-book-group-once-there-were-wolves/
CATEGORIES:Adult
ATTACH;FMTTYPE=image/jpeg:https://lewisborolibrary.org/wp-content/uploads/2022/03/220420-Sr-Book-Once-There-Were-Wolves.jpg
END:VEVENT
BEGIN:VEVENT
DTSTART;TZID=America/New_York:20220420T193000
DTEND;TZID=America/New_York:20220420T203000
DTSTAMP:20260424T025650
CREATED:20220411T210522Z
LAST-MODIFIED:20220411T210522Z
UID:14010-1650483000-1650486600@lewisborolibrary.org
SUMMARY:Library Board Meeting
DESCRIPTION:The monthly meeting of the Lewisboro Library Board of Trustees meets in person at the Library. \nMeetings are open to the public.
URL:https://lewisborolibrary.org/event/library-board-meeting-9/
CATEGORIES:Adult
ATTACH;FMTTYPE=image/jpeg:https://lewisborolibrary.org/wp-content/uploads/2020/02/LL-Logo.jpg
END:VEVENT
BEGIN:VEVENT
DTSTART;TZID=America/New_York:20220421T190000
DTEND;TZID=America/New_York:20220421T200000
DTSTAMP:20260424T025650
CREATED:20220310T171618Z
LAST-MODIFIED:20220420T165207Z
UID:13636-1650567600-1650571200@lewisborolibrary.org
SUMMARY:(Virtual) Stress Management for Busy Bodies
DESCRIPTION:Via Zoom. \nThis program will cover an introduction to acute and chronic stress\, what happens inside your body when you experience stress and a layered approach to help your body deal with stress.  \nLocal resident Sarah Menichelli is a Health at Every Size (HAES) Nutritionist. HAES is an approach that seeks to de-emphasize weight loss as a health goal\, and reduce stigma towards people who are overweight or obese. She has her Master of Science in Human Nutrition and is currently seeing clients virtually. Her presentation will be followed by a Q & A session.To learn more please check out her website at www.chellihealth.com. \nPlease register HERE to receive your Zoom link. A confirmation with the meeting link will be sent directly from Zoom.
URL:https://lewisborolibrary.org/event/virtual-stress-management-for-busy-bodies/
CATEGORIES:Adult
ATTACH;FMTTYPE=image/jpeg:https://lewisborolibrary.org/wp-content/uploads/2022/03/220421-Stress-Managment-for-Busy-Bodies-compressed.jpg
END:VEVENT
BEGIN:VEVENT
DTSTART;TZID=America/New_York:20220427T193000
DTEND;TZID=America/New_York:20220427T203000
DTSTAMP:20260424T025650
CREATED:20220331T204947Z
LAST-MODIFIED:20220331T204947Z
UID:13907-1651087800-1651091400@lewisborolibrary.org
SUMMARY:Lewisboro Library Book Group
DESCRIPTION:The Lewisboro Library Book Group is back in person! The group usually meets at the Library on the fourth Wednesday of each month at 7:30 p.m. Books are available through the Westchester Library System. New members are always welcome in this adult\, co-ed book group. For more information contact Myrna or Steve Shomstein at 533-2550. \nThe book selection for April is Winesburg\, Ohio\, by Sherwood Anderson.
URL:https://lewisborolibrary.org/event/lewisboro-library-book-group-2/
CATEGORIES:Adult
ATTACH;FMTTYPE=image/jpeg:https://lewisborolibrary.org/wp-content/uploads/2022/03/220427-LL-Book-Group-Winesburg-Ohio-compressed.jpg
END:VEVENT
BEGIN:VEVENT
DTSTART;TZID=America/New_York:20220430T100000
DTEND;TZID=America/New_York:20220430T160000
DTSTAMP:20260424T025650
CREATED:20220303T204816Z
LAST-MODIFIED:20220406T210623Z
UID:13546-1651312800-1651334400@lewisborolibrary.org
SUMMARY:Defensive Driving Class
DESCRIPTION:THIS PROGRAM IS FULL!  The instructor is also offering the class in the following locations in the next 2 months: Putnam Valley Library (May 7)\, Mahopac Library (May 21)\, Croton Recreation Dept. (June 4). Please contact these facilities. \nThis is a six hour Defensive Driving course. Completion of the course results in a ten percent liability insurance discount to the principal operator as well as a maximum of four points off the driver’s violation record. \nSpace is limited. Please register below and pay in person at the Library to hold your reservation. Must pay by April 18 to hold your space.  \nThe fee is $45; seniors over 65 is $35. Check should be made payable to John Coxen. \nSince this course is 6 hours\, be sure to bring a lunch to eat at the midday break.
URL:https://lewisborolibrary.org/event/defensive-driving-class/
CATEGORIES:Adult
ATTACH;FMTTYPE=image/jpeg:https://lewisborolibrary.org/wp-content/uploads/2022/03/220430-Defensive-Driving-compressed.jpg
END:VEVENT
END:VCALENDAR