BEGIN:VCALENDAR
VERSION:2.0
PRODID:-//Lewisboro Library - ECPv6.15.20//NONSGML v1.0//EN
CALSCALE:GREGORIAN
METHOD:PUBLISH
X-ORIGINAL-URL:https://lewisborolibrary.org
X-WR-CALDESC:Events for Lewisboro Library
REFRESH-INTERVAL;VALUE=DURATION:PT1H
X-Robots-Tag:noindex
X-PUBLISHED-TTL:PT1H
BEGIN:VTIMEZONE
TZID:America/New_York
BEGIN:DAYLIGHT
TZOFFSETFROM:-0500
TZOFFSETTO:-0400
TZNAME:EDT
DTSTART:20200308T070000
END:DAYLIGHT
BEGIN:STANDARD
TZOFFSETFROM:-0400
TZOFFSETTO:-0500
TZNAME:EST
DTSTART:20201101T060000
END:STANDARD
BEGIN:DAYLIGHT
TZOFFSETFROM:-0500
TZOFFSETTO:-0400
TZNAME:EDT
DTSTART:20210314T070000
END:DAYLIGHT
BEGIN:STANDARD
TZOFFSETFROM:-0400
TZOFFSETTO:-0500
TZNAME:EST
DTSTART:20211107T060000
END:STANDARD
BEGIN:DAYLIGHT
TZOFFSETFROM:-0500
TZOFFSETTO:-0400
TZNAME:EDT
DTSTART:20220313T070000
END:DAYLIGHT
BEGIN:STANDARD
TZOFFSETFROM:-0400
TZOFFSETTO:-0500
TZNAME:EST
DTSTART:20221106T060000
END:STANDARD
END:VTIMEZONE
BEGIN:VEVENT
DTSTART;TZID=America/New_York:20211001T130000
DTEND;TZID=America/New_York:20211001T140000
DTSTAMP:20260425T140322
CREATED:20210920T213419Z
LAST-MODIFIED:20210920T213419Z
UID:11154-1633093200-1633096800@lewisborolibrary.org
SUMMARY:Stitch Together
DESCRIPTION:This casual\, weekly gathering of those who knit/crochet and chat will meet outside\, weather permitting\, but will move indoors if rainy or too cold. Catch up on people’s craft projects and what is going on in Town – and beyond. Bring a project\, chair if outside and a mask if inside!  \nPlease register below.
URL:https://lewisborolibrary.org/event/stitch-together-21/
CATEGORIES:Adult
ATTACH;FMTTYPE=image/jpeg:https://lewisborolibrary.org/wp-content/uploads/2019/10/191121-Stitch-2gether.jpg
END:VEVENT
BEGIN:VEVENT
DTSTART;TZID=America/New_York:20211007T190000
DTEND;TZID=America/New_York:20211007T210000
DTSTAMP:20260425T140322
CREATED:20210916T180745Z
LAST-MODIFIED:20210916T180745Z
UID:11046-1633633200-1633640400@lewisborolibrary.org
SUMMARY:How to Use Native Plants in the Landscape
DESCRIPTION:The Lewisboro Garden Club is hosting this presentation by landscape architect Lisa Turoczi\, owner of Earth Tones Native Plant Nursery in Woodbury CT.\n\n\n\n\n\nLisa has worked in the Landscape Design business for nearly 20 years. After finding it difficult to source native plant material\, she and her husband Kyle created their own Native Plant Nursery. Most of the plant material offered at the nursery has been grown from locally collected seed sources.  \nEarth Tones\, LLC is a 100% native plant nursery that offers grasses\, ferns\, perennials\, shrubs and trees that are native to New England. They also provide landscape design\, installation\, and consultation services as well as storm water management and wetland enhancements\, all with a focus on environmentally sound practices.  \n\n\n\n\n\nSpace is limited and registration is required. Please register below. This event is currently scheduled to take place in person. If rising COVID numbers cause restrictions on indoor gatherings\, the program will be virtual and we will send you the Zoom link.
URL:https://lewisborolibrary.org/event/how-to-use-native-plants-in-the-landscape/
CATEGORIES:Adult
ATTACH;FMTTYPE=image/jpeg:https://lewisborolibrary.org/wp-content/uploads/2021/09/211007-Native-Plants-compressed.jpg
END:VEVENT
BEGIN:VEVENT
DTSTART;TZID=America/New_York:20211008T130000
DTEND;TZID=America/New_York:20211008T140000
DTSTAMP:20260425T140322
CREATED:20210920T213549Z
LAST-MODIFIED:20210920T213549Z
UID:11157-1633698000-1633701600@lewisborolibrary.org
SUMMARY:Stitch Together
DESCRIPTION:This casual\, weekly gathering of those who knit/crochet and chat will meet outside\, weather permitting\, but will move indoors if rainy or too cold. Catch up on people’s craft projects and what is going on in Town – and beyond. Bring a project\, chair if outside and a mask if inside!  \nPlease register below.
URL:https://lewisborolibrary.org/event/stitch-together-22/
CATEGORIES:Adult
ATTACH;FMTTYPE=image/jpeg:https://lewisborolibrary.org/wp-content/uploads/2019/10/191121-Stitch-2gether.jpg
END:VEVENT
BEGIN:VEVENT
DTSTART;TZID=America/New_York:20211013T193000
DTEND;TZID=America/New_York:20211013T210000
DTSTAMP:20260425T140322
CREATED:20210922T150520Z
LAST-MODIFIED:20210922T150520Z
UID:11225-1634153400-1634158800@lewisborolibrary.org
SUMMARY:Library Board Meeting
DESCRIPTION:The monthly meeting of the Lewisboro Library Board of Trustees will be held in person at the Library. \nMeetings are open to the public.
URL:https://lewisborolibrary.org/event/library-board-meeting-5/
CATEGORIES:Adult
ATTACH;FMTTYPE=image/jpeg:https://lewisborolibrary.org/wp-content/uploads/2020/02/LL-Logo.jpg
END:VEVENT
BEGIN:VEVENT
DTSTART;TZID=America/New_York:20211014T190000
DTEND;TZID=America/New_York:20211014T200000
DTSTAMP:20260425T140322
CREATED:20210924T200103Z
LAST-MODIFIED:20210925T160329Z
UID:11227-1634238000-1634241600@lewisborolibrary.org
SUMMARY:(Virtual) Choosing Funds to Create a Customized Portfolio.
DESCRIPTION:Via Zoom. \n\nAre you a novice in the finance world or looking to pick up tips for your portfolio? You’ll want to register for this informative presentation by Vern Hayden\, a leading certified financial planner since 1978.\n\n     Mr. Hayden and his team will discuss active vs passive funds\, the five steps to create a customized portfolio\, how to understand Morningstar categories\, asset allocation strategies\, picking funds and more.\n\n     The president and founder of Hayden Wealth Management from 1988 to 2017\, Vern Hayden has logged more than 300 appearances on CNBC\, Bloomberg\, NBC\, ABC\, CNN and others\, even dubbed “Mr Mutual Funds” by CNBC. In addition\, he wrote the first training manual for financial planners entitled “The Process of Financial Planning\,” and is currently writing his fourth book called “How Do I Know You Won’t Steal My Money?”\n\n     Please register HERE to receive your Zoom link.
URL:https://lewisborolibrary.org/event/virtual-choosing-funds-to-create-a-customized-portfolio/
CATEGORIES:Adult
ATTACH;FMTTYPE=image/jpeg:https://lewisborolibrary.org/wp-content/uploads/2021/09/211014-Choosing-funds-to-create-a-customized-portfolio-compressed.jpg
END:VEVENT
BEGIN:VEVENT
DTSTART;TZID=America/New_York:20211015T130000
DTEND;TZID=America/New_York:20211015T143000
DTSTAMP:20260425T140322
CREATED:20210921T182344Z
LAST-MODIFIED:20210921T182344Z
UID:11184-1634302800-1634308200@lewisborolibrary.org
SUMMARY:Stitch Together
DESCRIPTION:This casual\, weekly gathering of those who knit/crochet and chat will meet outside\, weather permitting\, but will move indoors if rainy or too cold. Catch up on people’s craft projects and what is going on in Town – and beyond. Bring a project\, chair if outside and a mask if inside!  \nPlease register below.
URL:https://lewisborolibrary.org/event/stitch-together-23/
CATEGORIES:Adult
ATTACH;FMTTYPE=image/jpeg:https://lewisborolibrary.org/wp-content/uploads/2021/01/210514-Stitch2Gether-compressed.jpg
END:VEVENT
BEGIN:VEVENT
DTSTART;TZID=America/New_York:20211016T140000
DTEND;TZID=America/New_York:20211016T153000
DTSTAMP:20260425T140322
CREATED:20210922T030216Z
LAST-MODIFIED:20210922T030216Z
UID:11204-1634392800-1634398200@lewisborolibrary.org
SUMMARY:(Virtual) Cutting the Cord
DESCRIPTION:Via Zoom.\n\nBreak free from the high cost of TV! Find out about the latest cost-saving alternatives to cable and satellite television.\n\nPlease register HERE for the Zoom link.
URL:https://lewisborolibrary.org/event/virtual-cutting-the-cord/
CATEGORIES:Adult
ATTACH;FMTTYPE=image/jpeg:https://lewisborolibrary.org/wp-content/uploads/2021/09/211016-Cutting-the-Cord-compressed.jpg
END:VEVENT
BEGIN:VEVENT
DTSTART;TZID=America/New_York:20211022T130000
DTEND;TZID=America/New_York:20211022T143000
DTSTAMP:20260425T140322
CREATED:20210921T182534Z
LAST-MODIFIED:20210921T182534Z
UID:11187-1634907600-1634913000@lewisborolibrary.org
SUMMARY:Stitch Together
DESCRIPTION:This casual\, weekly gathering of those who knit/crochet and chat will meet outside\, weather permitting\, but will move indoors if rainy or too cold. Catch up on people’s craft projects and what is going on in Town – and beyond. Bring a project\, chair if outside and a mask if inside!  \nPlease register below.
URL:https://lewisborolibrary.org/event/stitch-together-24/
CATEGORIES:Adult
ATTACH;FMTTYPE=image/jpeg:https://lewisborolibrary.org/wp-content/uploads/2021/01/210514-Stitch2Gether-compressed.jpg
END:VEVENT
BEGIN:VEVENT
DTSTART;TZID=America/New_York:20211022T190000
DTEND;TZID=America/New_York:20211022T200000
DTSTAMP:20260425T140322
CREATED:20210921T194801Z
LAST-MODIFIED:20211019T020249Z
UID:11198-1634929200-1634932800@lewisborolibrary.org
SUMMARY:South Salem Ghost Walk
DESCRIPTION:Sorry\, this program is full. To get on the wait list\, please send an email to lewisborolibrary@gmail.com. \n  \nTown historian Maureen Koehl will lead a “Ghost Walk\,” a one-hour walking tour of local sites with a haunted history. The tour takes place on the roads surrounding the Library. Thrill seekers and history buffs should meet at the Library promptly at 7 pm – armed with flashlights (and reflective vests if you have them!) \nPlease bring a mask for gathering in the Library before the tour starts. Rain date is October 29. \n 
URL:https://lewisborolibrary.org/event/south-salem-ghost-walk/
CATEGORIES:Adult
ATTACH;FMTTYPE=image/jpeg:https://lewisborolibrary.org/wp-content/uploads/2021/09/211022-ghost-walk-compressed.jpg
END:VEVENT
BEGIN:VEVENT
DTSTART;TZID=America/New_York:20211027T110000
DTEND;TZID=America/New_York:20211027T120000
DTSTAMP:20260425T140322
CREATED:20210922T031240Z
LAST-MODIFIED:20210922T031240Z
UID:11212-1635332400-1635336000@lewisborolibrary.org
SUMMARY:Lewisboro Seniors Book Group
DESCRIPTION:Our group meets in person on (usually) the third Wednesday of the month during the Lewisboro Senior Adults meeting at the South Salem Firehouse. All seniors are welcome! \nThe next meeting is October 27. The group will be discussing The Kitchen Front\, by Jennifer Ryan\, bestselling author of The Chilbury Ladies’ Choir. \nThe Library will provide copies of the book to all participants. Large print copies and CD audio books are also available upon request. Please contact the Library if you need a copy of the book – 875-9004 or lewisborolibrary@gmail.com. The book is also available as an eBook and audiobook via Overdrive.
URL:https://lewisborolibrary.org/event/lewisboro-seniors-book-group-2/
CATEGORIES:Adult
ATTACH;FMTTYPE=image/jpeg:https://lewisborolibrary.org/wp-content/uploads/2021/09/211027-Senior-Book-The-Kitchen-Front-compressed.jpg
END:VEVENT
BEGIN:VEVENT
DTSTART;TZID=America/New_York:20211027T190000
DTEND;TZID=America/New_York:20211027T200000
DTSTAMP:20260425T140322
CREATED:20210922T164123Z
LAST-MODIFIED:20210930T165905Z
UID:11252-1635361200-1635364800@lewisborolibrary.org
SUMMARY:(Virtual) Navigating College Admissions Successfully and the Importance of Community Service
DESCRIPTION:Via Zoom. For Teens & Parents.\n \nWe are offering this Zoom presentation to help families understand how COVID-19 has changed the college admissions landscape and how it will affect Juniors\, Sophomores and Freshmen. \nThis recent college admissions cycle has turned out to be the most competitive to date. As most colleges go test-optional and increase their virtual outreach to high school students\, a record number of candidates are applying. With record high numbers of applications come record low acceptance rates at many popular colleges and universities. \nAdmissions officers are giving greater consideration to extracurricular activities\, since most students will have had a year or more of grades earned during remote/hybrid learning\, which will carry less weight when applications are reviewed. With that in mind\, we will discuss the importance of community service\, how it can provide an opportunity for personal growth and an opportunity to showcase a student’s character\, especially during these challenging times. \nThe presentation will be led by Ron Feuchs and Jackie Tepper\, partners at Stand Out For College\, LLC. (www.standoutforcollege.com) \nPlease RSVP to ron@standoutforcollege.com.  You will receive a private invitation with a Zoom link in reply.
URL:https://lewisborolibrary.org/event/virtual-navigating-college-admissions-successfully-and-the-importance-of-community-service/
CATEGORIES:Adult,Teen
ATTACH;FMTTYPE=image/jpeg:https://lewisborolibrary.org/wp-content/uploads/2021/09/211027-Navigating-College-Admissions-compressed.jpg
END:VEVENT
BEGIN:VEVENT
DTSTART;TZID=America/New_York:20211029T130000
DTEND;TZID=America/New_York:20211029T143000
DTSTAMP:20260425T140322
CREATED:20210921T182715Z
LAST-MODIFIED:20210921T182715Z
UID:11190-1635512400-1635517800@lewisborolibrary.org
SUMMARY:Stitch Together
DESCRIPTION:This casual\, weekly gathering of those who knit/crochet and chat will meet outside\, weather permitting\, but will move indoors if rainy or too cold. Catch up on people’s craft projects and what is going on in Town – and beyond. Bring a project\, chair if outside and a mask if inside!  \nPlease register below.
URL:https://lewisborolibrary.org/event/stitch-together-25/
CATEGORIES:Adult
ATTACH;FMTTYPE=image/jpeg:https://lewisborolibrary.org/wp-content/uploads/2021/01/210514-Stitch2Gether-compressed.jpg
END:VEVENT
BEGIN:VEVENT
DTSTART;TZID=America/New_York:20211030T101500
DTEND;TZID=America/New_York:20211030T131500
DTSTAMP:20260425T140322
CREATED:20210909T022732Z
LAST-MODIFIED:20211025T154828Z
UID:10953-1635588900-1635599700@lewisborolibrary.org
SUMMARY:Demystifying Medicare & Healthcare Options for Seniors
DESCRIPTION:This program is full. \nA must for anyone trying to navigate their way through our complicated healthcare system for older adults. It will help those who already have Medicare\, as well as people soon to be 65\, planning their retirement\, or assisting relatives and friends with their medical decisions. \nThis engaging\, interactive program outlines the various parts of Medicare and lays out the costs associated with the medical and drug insurance provided by the government and private companies. \nTopics include:\nOriginal Medicare\nMedicare Advantage Plans\nPrescription drug plans (Part D)\nMedigaps (supplemental plans)\nVarious cost-saving programs (MSPs\,\nExtra Help\, EPIC\, etc. \nThis program will be held in-person at the Library. Space is limited and registration is required. Please register below.
URL:https://lewisborolibrary.org/event/demystifying-medicare-healthcare-options-for-seniors-2/
CATEGORIES:Adult
ATTACH;FMTTYPE=image/jpeg:https://lewisborolibrary.org/wp-content/uploads/2020/01/200502-demystifying-medicare.jpg
END:VEVENT
END:VCALENDAR