BEGIN:VCALENDAR
VERSION:2.0
PRODID:-//Lewisboro Library - ECPv6.15.20//NONSGML v1.0//EN
CALSCALE:GREGORIAN
METHOD:PUBLISH
X-ORIGINAL-URL:https://lewisborolibrary.org
X-WR-CALDESC:Events for Lewisboro Library
REFRESH-INTERVAL;VALUE=DURATION:PT1H
X-Robots-Tag:noindex
X-PUBLISHED-TTL:PT1H
BEGIN:VTIMEZONE
TZID:America/New_York
BEGIN:DAYLIGHT
TZOFFSETFROM:-0500
TZOFFSETTO:-0400
TZNAME:EDT
DTSTART:20200308T070000
END:DAYLIGHT
BEGIN:STANDARD
TZOFFSETFROM:-0400
TZOFFSETTO:-0500
TZNAME:EST
DTSTART:20201101T060000
END:STANDARD
BEGIN:DAYLIGHT
TZOFFSETFROM:-0500
TZOFFSETTO:-0400
TZNAME:EDT
DTSTART:20210314T070000
END:DAYLIGHT
BEGIN:STANDARD
TZOFFSETFROM:-0400
TZOFFSETTO:-0500
TZNAME:EST
DTSTART:20211107T060000
END:STANDARD
BEGIN:DAYLIGHT
TZOFFSETFROM:-0500
TZOFFSETTO:-0400
TZNAME:EDT
DTSTART:20220313T070000
END:DAYLIGHT
BEGIN:STANDARD
TZOFFSETFROM:-0400
TZOFFSETTO:-0500
TZNAME:EST
DTSTART:20221106T060000
END:STANDARD
END:VTIMEZONE
BEGIN:VEVENT
DTSTART;TZID=America/New_York:20210804T190000
DTEND;TZID=America/New_York:20210804T203000
DTSTAMP:20260425T204940
CREATED:20210623T143052Z
LAST-MODIFIED:20210804T171638Z
UID:9795-1628103600-1628109000@lewisborolibrary.org
SUMMARY:Earring Design Workshop
DESCRIPTION:For Adults and Teens. \nMake earrings to keep and earrings to donate to women’s shelters. \n Led by Joan Lloyd\, who donates over 900 pairs of earrings each month. \nThis program will be held inside the Library\, socially distanced. \nSpace is limited\, please register below. \nAccording to NYS regulations\, all those UNVACCINATED are required to wear a mask indoors including all children above the age of two. \n 
URL:https://lewisborolibrary.org/event/earring-design-workshop/
CATEGORIES:Adult
ATTACH;FMTTYPE=image/jpeg:https://lewisborolibrary.org/wp-content/uploads/2021/06/210803-Earring-Design-WOrkshop-compressed.jpg
END:VEVENT
BEGIN:VEVENT
DTSTART;TZID=America/New_York:20210806T130000
DTEND;TZID=America/New_York:20210806T140000
DTSTAMP:20260425T204940
CREATED:20210630T191618Z
LAST-MODIFIED:20210805T211428Z
UID:10018-1628254800-1628258400@lewisborolibrary.org
SUMMARY:Stitch Together
DESCRIPTION:This casual\, weekly gathering of those who knit/crochet and chat will meet outside\, weather permitting\, but will move indoors if rainy or too hot. Catch up on people’s craft projects and what is going on in Town – and beyond. Bring a project and a chair!  \nPlease register below.  \nIn accordance with the CDC’s recommendation for Westchester County\, the Lewisboro Library will be requiring everyone to wear a mask inside the building effective Friday\, August 6th. \n 
URL:https://lewisborolibrary.org/event/stitch-together-13/
CATEGORIES:Adult
ATTACH;FMTTYPE=image/jpeg:https://lewisborolibrary.org/wp-content/uploads/2019/10/191121-Stitch-2gether.jpg
END:VEVENT
BEGIN:VEVENT
DTSTART;TZID=America/New_York:20210810T190000
DTEND;TZID=America/New_York:20210810T200000
DTSTAMP:20260425T204940
CREATED:20210623T183629Z
LAST-MODIFIED:20210719T152132Z
UID:9817-1628622000-1628625600@lewisborolibrary.org
SUMMARY:(Virtual) Lotus Flower Lantern Craft
DESCRIPTION:THIS PROGRAM IS FULL. PLEASE EMAIL LEWISBOROLIBRARY@GMAIL.COM TO BE PLACED ON THE WAIT LIST. \nVia Zoom. For Adults and Teens. \nFollowing along via Zoom\, you will learn how to make a lovely lotus flower lantern using colored paper and wire frames.  \nEach registrant will receive a Zoom link for the class\, and will be instructed to pick up your Lotus Flower Lantern kit at the Library starting the week before. \nPlease register by JULY 28\, as the instructor needs to know the number of kits to drop off before August 2.
URL:https://lewisborolibrary.org/event/virtual-lotus-flower-lantern-craft/
CATEGORIES:Adult
ATTACH;FMTTYPE=image/jpeg:https://lewisborolibrary.org/wp-content/uploads/2021/06/210810-Lotus-Lantern-Craft.jpg
END:VEVENT
BEGIN:VEVENT
DTSTART;TZID=America/New_York:20210813T130000
DTEND;TZID=America/New_York:20210813T140000
DTSTAMP:20260425T204940
CREATED:20210630T191903Z
LAST-MODIFIED:20210805T211539Z
UID:10021-1628859600-1628863200@lewisborolibrary.org
SUMMARY:Stitch Together
DESCRIPTION:This casual\, weekly gathering of those who knit/crochet and chat will meet outside\, weather permitting\, but will move indoors if rainy or too hot. Catch up on people’s craft projects and what is going on in Town – and beyond. Bring a project and a chair!  \nPlease register below.  \nIn accordance with the CDC’s recommendation for Westchester County\, the Lewisboro Library will be requiring everyone to wear a mask inside the building effective Friday\, August 6th.
URL:https://lewisborolibrary.org/event/stitch-together-14/
CATEGORIES:Adult
ATTACH;FMTTYPE=image/jpeg:https://lewisborolibrary.org/wp-content/uploads/2019/10/191121-Stitch-2gether.jpg
END:VEVENT
BEGIN:VEVENT
DTSTART;TZID=America/New_York:20210814T090000
DTEND;TZID=America/New_York:20210814T130000
DTSTAMP:20260425T204940
CREATED:20210729T171702Z
LAST-MODIFIED:20210729T172355Z
UID:10112-1628931600-1628946000@lewisborolibrary.org
SUMMARY:Library Fair Donation Days at Onatru Farm
DESCRIPTION:Want to help support the Library? \nThe Lewisboro Library Fair returns this year on Saturday\, September 18 at Onatru Farm. \nThe Book Sale and Attic Treasures Sale are the most popular events at the Library Fair. Donations of gently-used\, high-quality books and items for the Attic Treasures Sale are accepted on Donation Days\, Saturday August 14\, 21 and 28. Donations can be dropped off at Onatru Farm from 9 am to 1 pm on these days only. Onatru Farm is located at 99 Elmwood Road in South Salem. Volunteers will be there to accept donations on these dates and times only\, so please do not leave unattended items outside Onatru (or the Library) at any other time. \nRemember\, the Library Fair is our biggest fundraiser to keep the Library running. We make the most money by offering clean\, high-quality\, gently-used items. While sorting items to donate\, ask yourself\, “Would I or a family member buy this?” If the answer is no\, then we probably can’t sell it! \nClick HERE for more information on Donation Days\, including a handy checklist of items we DO and Do Not take. While you are on the Fair page\, please consider becoming a Fair Volunteer!
URL:https://lewisborolibrary.org/event/library-fair-donation-days-at-onatru-farm/
LOCATION:Onatru Farm\, 99 Elmwood Road\, South Salem\, NY\, 10590
CATEGORIES:Adult
ATTACH;FMTTYPE=image/jpeg:https://lewisborolibrary.org/wp-content/uploads/2021/07/Save-the-Date-Lewisboro-Library-Fair-compressed.jpg
END:VEVENT
BEGIN:VEVENT
DTSTART;TZID=America/New_York:20210817T193000
DTEND;TZID=America/New_York:20210817T203000
DTSTAMP:20260425T204940
CREATED:20210805T194121Z
LAST-MODIFIED:20210805T211711Z
UID:10498-1629228600-1629232200@lewisborolibrary.org
SUMMARY:Library Board Meeting
DESCRIPTION:The monthly meeting of the Lewisboro Library Board of Trustees will be held in person at the Library. The date has been changed because of the South Salem Fire Department’s Parade and Carnival. \nMeetings are open to the public. \nIn accordance with the CDC’s recommendation for Westchester County\, the Lewisboro Library will be requiring everyone to wear a mask inside the building effective Friday\, August 6th.
URL:https://lewisborolibrary.org/event/library-board-meeting-3/
CATEGORIES:Adult
ATTACH;FMTTYPE=image/jpeg:https://lewisborolibrary.org/wp-content/uploads/2020/02/LL-Logo.jpg
END:VEVENT
BEGIN:VEVENT
DTSTART;TZID=America/New_York:20210818T110000
DTEND;TZID=America/New_York:20210818T120000
DTSTAMP:20260425T204940
CREATED:20210623T190450Z
LAST-MODIFIED:20210623T190450Z
UID:9822-1629284400-1629288000@lewisborolibrary.org
SUMMARY:Lewisboro Seniors Book Group: "The Midnight Library"
DESCRIPTION:This group meets in person on the third Wednesday of the month during the Lewisboro Senior Adults meeting at the South Salem Firehouse. All seniors are welcome! \nThe next meeting is August 18. The group will be discussing the very popular novel The Midnight Library\, by Matt Haig. \nThe Library will provide copies of the book to all participants. Large print copies and CD audio books are also available upon request. Please contact the Library if you need a copy of the book – 875-9004 or lewisborolibrary@gmail.com. The book is also available as an eBook and audiobook via Overdrive.
URL:https://lewisborolibrary.org/event/lewisboro-seniors-book-group-the-midnight-library/
CATEGORIES:Adult
ATTACH;FMTTYPE=image/jpeg:https://lewisborolibrary.org/wp-content/uploads/2021/06/210818-Senior-Book-The-Midnight-Library-compressed.jpg
END:VEVENT
BEGIN:VEVENT
DTSTART;TZID=America/New_York:20210819T190000
DTEND;TZID=America/New_York:20210819T203000
DTSTAMP:20260425T204940
CREATED:20210623T185256Z
LAST-MODIFIED:20210623T185256Z
UID:9820-1629399600-1629405000@lewisborolibrary.org
SUMMARY:(Virtual) Lady Liberty: The History of the Statue of Liberty
DESCRIPTION:Via Zoom.\n\nThe Statue of Liberty was dedicated on October 28\, 1886\, after more than twenty years of planning\, fund raising\, and construction. \nPresenter Kevin Woyce will explain how she was built and what she symbolizes\, and introduce some of the people involved in her creation\, including sculptor Frederic Bartholdi\, engineer Gustave Eiffel\, architect Richard Morris Hunt\, and newspaper publisher Joseph Pulitzer. \nThe program ends with brief histories of Ellis Island and Liberty State Park. \n\n\nPlease register HERE for the Zoom link.
URL:https://lewisborolibrary.org/event/virtual-lady-liberty-the-history-of-the-statue-of-liberty/
CATEGORIES:Adult
ATTACH;FMTTYPE=image/jpeg:https://lewisborolibrary.org/wp-content/uploads/2021/06/210819-History-of-the-Statue-of-Liberty-compressed.jpg
END:VEVENT
BEGIN:VEVENT
DTSTART;TZID=America/New_York:20210820T130000
DTEND;TZID=America/New_York:20210820T140000
DTSTAMP:20260425T204940
CREATED:20210630T195522Z
LAST-MODIFIED:20210805T211630Z
UID:10024-1629464400-1629468000@lewisborolibrary.org
SUMMARY:Stitch Together
DESCRIPTION:This casual\, weekly gathering of those who knit/crochet and chat will meet outside\, weather permitting\, but will move indoors if rainy or too hot. Catch up on people’s craft projects and what is going on in Town – and beyond. Bring a project and a chair.  \nPlease register below.  \nIn accordance with the CDC’s recommendation for Westchester County\, the Lewisboro Library will be requiring everyone to wear a mask inside the building effective Friday\, August 6th
URL:https://lewisborolibrary.org/event/stitch-together-15/
CATEGORIES:Adult
ATTACH;FMTTYPE=image/jpeg:https://lewisborolibrary.org/wp-content/uploads/2019/10/191121-Stitch-2gether.jpg
END:VEVENT
BEGIN:VEVENT
DTSTART;TZID=America/New_York:20210821T090000
DTEND;TZID=America/New_York:20210821T130000
DTSTAMP:20260425T204940
CREATED:20210729T171933Z
LAST-MODIFIED:20210729T171933Z
UID:10385-1629536400-1629550800@lewisborolibrary.org
SUMMARY:Library Fair Donation Days at Onatru Farm
DESCRIPTION:Want to help support the Library? \nThe Lewisboro Library Fair returns this year on Saturday\, September 18 at Onatru Farm. \nThe Book Sale and Attic Treasures Sale are the most popular events at the Library Fair. Donations of gently-used\, high-quality books and items for the Attic Treasures Sale are accepted on Donation Days\, Saturday August 14\, 21 and 28. Donations can be dropped off at Onatru Farm from 9 am to 1 pm on these days only. Onatru Farm is located at 99 Elmwood Road in South Salem. Volunteers will be there to accept donations on these dates and times only\, so please do not leave unattended items outside Onatru (or the Library) at any other time. \nRemember\, the Library Fair is our biggest fundraiser to keep the Library running. We make the most money by offering clean\, high-quality\, gently-used items. While sorting items to donate\, ask yourself\, “Would I or a family member buy this?” If the answer is no\, then we probably can’t sell it! \nClick HERE for more information on Donation Days\, including a handy checklist of items we DO and Do Not take. While you are on the Fair page\, please consider becoming a Fair Volunteer!
URL:https://lewisborolibrary.org/event/library-fair-donation-days-at-onatru-farm-2/
CATEGORIES:Adult
ATTACH;FMTTYPE=image/jpeg:https://lewisborolibrary.org/wp-content/uploads/2021/07/Save-the-Date-Lewisboro-Library-Fair-compressed.jpg
END:VEVENT
BEGIN:VEVENT
DTSTART;TZID=America/New_York:20210824T190000
DTEND;TZID=America/New_York:20210824T200000
DTSTAMP:20260425T204940
CREATED:20210623T192328Z
LAST-MODIFIED:20210813T193208Z
UID:9825-1629831600-1629835200@lewisborolibrary.org
SUMMARY:Adult Craft: Dog Pull Toys
DESCRIPTION:Celebrate National Dog Month by helping us braid fleece pull toys for the dogs of Guiding Eyes for the Blind! \nThis program will be held indoors\, socially distanced. We are seeking donations of fleece material or throws to use for this project.  Please bring in to the Library. Thank you! \nSpace is limited\, please register below. \nIn accordance with the CDC’s recommendation for Westchester County\, the Lewisboro Library will be requiring everyone to wear a mask inside the building effective Friday\, August 6th
URL:https://lewisborolibrary.org/event/adult-craft-dog-pull-toys/
CATEGORIES:Adult
ATTACH;FMTTYPE=image/jpeg:https://lewisborolibrary.org/wp-content/uploads/2021/06/210824-Dog-Pull-Toys-compressed-1.jpg
END:VEVENT
BEGIN:VEVENT
DTSTART;TZID=America/New_York:20210827T130000
DTEND;TZID=America/New_York:20210827T140000
DTSTAMP:20260425T204940
CREATED:20210630T195825Z
LAST-MODIFIED:20210805T211843Z
UID:10029-1630069200-1630072800@lewisborolibrary.org
SUMMARY:Stitch Together
DESCRIPTION:This casual\, weekly gathering of those who knit/crochet and chat will meet outside\, weather permitting\, but will move indoors if rainy or too hot. Catch up on people’s craft projects and what is going on in Town – and beyond. Bring a project and a chair.  \nPlease register below.  \nIn accordance with the CDC’s recommendation for Westchester County\, the Lewisboro Library will be requiring everyone to wear a mask inside the building effective Friday\, August 6th. \n 
URL:https://lewisborolibrary.org/event/stitch-together-16/
CATEGORIES:Adult
ATTACH;FMTTYPE=image/jpeg:https://lewisborolibrary.org/wp-content/uploads/2019/10/191121-Stitch-2gether.jpg
END:VEVENT
BEGIN:VEVENT
DTSTART;TZID=America/New_York:20210828T090000
DTEND;TZID=America/New_York:20210828T130000
DTSTAMP:20260425T204940
CREATED:20210729T172123Z
LAST-MODIFIED:20210729T172228Z
UID:10387-1630141200-1630155600@lewisborolibrary.org
SUMMARY:Library Fair Donation Days at Onatru Farm
DESCRIPTION:Want to help support the Library? \nThe Lewisboro Library Fair returns this year on Saturday\, September 18 at Onatru Farm. \nThe Book Sale and Attic Treasures Sale are the most popular events at the Library Fair. Donations of gently-used\, high-quality books and items for the Attic Treasures Sale are accepted on Donation Days\, Saturday August 14\, 21 and 28. Donations can be dropped off at Onatru Farm from 9 am to 1 pm on these days only. Onatru Farm is located at 99 Elmwood Road in South Salem. Volunteers will be there to accept donations on these dates and times only\, so please do not leave unattended items outside Onatru (or the Library) at any other time. \nRemember\, the Library Fair is our biggest fundraiser to keep the Library running. We make the most money by offering clean\, high-quality\, gently-used items. While sorting items to donate\, ask yourself\, “Would I or a family member buy this?” If the answer is no\, then we probably can’t sell it! \nClick HERE for more information on Donation Days\, including a handy checklist of items we DO and Do Not take. While you are on the Fair page\, please consider becoming a Fair Volunteer!
URL:https://lewisborolibrary.org/event/library-fair-donation-days-at-onatru-farm-3/
CATEGORIES:Adult
ATTACH;FMTTYPE=image/jpeg:https://lewisborolibrary.org/wp-content/uploads/2021/07/Save-the-Date-Lewisboro-Library-Fair-compressed.jpg
END:VEVENT
END:VCALENDAR