BEGIN:VCALENDAR
VERSION:2.0
PRODID:-//Lewisboro Library - ECPv6.15.20//NONSGML v1.0//EN
CALSCALE:GREGORIAN
METHOD:PUBLISH
X-WR-CALNAME:Lewisboro Library
X-ORIGINAL-URL:https://lewisborolibrary.org
X-WR-CALDESC:Events for Lewisboro Library
REFRESH-INTERVAL;VALUE=DURATION:PT1H
X-Robots-Tag:noindex
X-PUBLISHED-TTL:PT1H
BEGIN:VTIMEZONE
TZID:America/New_York
BEGIN:DAYLIGHT
TZOFFSETFROM:-0500
TZOFFSETTO:-0400
TZNAME:EDT
DTSTART:20200308T070000
END:DAYLIGHT
BEGIN:STANDARD
TZOFFSETFROM:-0400
TZOFFSETTO:-0500
TZNAME:EST
DTSTART:20201101T060000
END:STANDARD
BEGIN:DAYLIGHT
TZOFFSETFROM:-0500
TZOFFSETTO:-0400
TZNAME:EDT
DTSTART:20210314T070000
END:DAYLIGHT
BEGIN:STANDARD
TZOFFSETFROM:-0400
TZOFFSETTO:-0500
TZNAME:EST
DTSTART:20211107T060000
END:STANDARD
BEGIN:DAYLIGHT
TZOFFSETFROM:-0500
TZOFFSETTO:-0400
TZNAME:EDT
DTSTART:20220313T070000
END:DAYLIGHT
BEGIN:STANDARD
TZOFFSETFROM:-0400
TZOFFSETTO:-0500
TZNAME:EST
DTSTART:20221106T060000
END:STANDARD
END:VTIMEZONE
BEGIN:VEVENT
DTSTART;TZID=America/New_York:20210702T130000
DTEND;TZID=America/New_York:20210702T140000
DTSTAMP:20260425T204209
CREATED:20210622T164324Z
LAST-MODIFIED:20210622T164324Z
UID:9713-1625230800-1625234400@lewisborolibrary.org
SUMMARY:Stitch Together
DESCRIPTION:This casual\, weekly gathering of those who knit/crochet and chat will meet outside\, weather permitting\, but will move indoors if rainy or too hot. Catch up on people’s craft projects and what is going on in Town – and beyond. Bring a project\, chair and a mask! \nPlease register below.
URL:https://lewisborolibrary.org/event/stitch-together-8/
CATEGORIES:Adult
ATTACH;FMTTYPE=image/jpeg:https://lewisborolibrary.org/wp-content/uploads/2019/10/191121-Stitch-2gether.jpg
END:VEVENT
BEGIN:VEVENT
DTSTART;TZID=America/New_York:20210709T130000
DTEND;TZID=America/New_York:20210709T140000
DTSTAMP:20260425T204209
CREATED:20210622T164846Z
LAST-MODIFIED:20210622T164846Z
UID:9716-1625835600-1625839200@lewisborolibrary.org
SUMMARY:Stitch Together
DESCRIPTION:This casual\, weekly gathering of those who knit/crochet and chat will meet outside\, weather permitting\, but will move indoors if rainy or too hot. Catch up on people’s craft projects and what is going on in Town – and beyond. Bring a project\, chair and a mask! \nPlease register below.
URL:https://lewisborolibrary.org/event/stitch-together-9/
CATEGORIES:Adult
ATTACH;FMTTYPE=image/jpeg:https://lewisborolibrary.org/wp-content/uploads/2019/10/191121-Stitch-2gether.jpg
END:VEVENT
BEGIN:VEVENT
DTSTART;TZID=America/New_York:20210713T190000
DTEND;TZID=America/New_York:20210713T203000
DTSTAMP:20260425T204209
CREATED:20210622T202929Z
LAST-MODIFIED:20210712T153930Z
UID:9739-1626202800-1626208200@lewisborolibrary.org
SUMMARY:Adult Craft: Illuminated Wine Bottles
DESCRIPTION:Design your own illuminated wine bottle to capture the beach at night. Start with a recycled wine bottle\, fill with a little sand if desired\, then decorate the outside with glass beads or small shells. \nWe’ll provide the materials\, including LED lights for that starry night sparkle! Some recycled wine bottles will be on hand\, but feel free to bring your own – particularly any colorful ones. A great craft to keep\, or for a hostess gift this summer. \nSpace is limited\, please register below.
URL:https://lewisborolibrary.org/event/illuminated-wine-bottle-craft/
CATEGORIES:Adult
ATTACH;FMTTYPE=image/jpeg:https://lewisborolibrary.org/wp-content/uploads/2021/06/210713-Illuminated-Wine-Bottle-Craft-compressed.jpg
END:VEVENT
BEGIN:VEVENT
DTSTART;TZID=America/New_York:20210716T130000
DTEND;TZID=America/New_York:20210716T140000
DTSTAMP:20260425T204209
CREATED:20210622T165052Z
LAST-MODIFIED:20210714T202517Z
UID:9719-1626440400-1626444000@lewisborolibrary.org
SUMMARY:Stitch Together
DESCRIPTION:This casual\, weekly gathering of those who knit/crochet and chat will meet outside\, weather permitting\, but will move indoors if rainy or too hot. Catch up on people’s craft projects and what is going on in Town – and beyond. Bring a project and chair! \nPlease register below. \nAccording to NYS regulations\, all those UNVACCINATED are required to wear a mask indoors including all children above the age of two.
URL:https://lewisborolibrary.org/event/stitch-together-10/
CATEGORIES:Adult
ATTACH;FMTTYPE=image/jpeg:https://lewisborolibrary.org/wp-content/uploads/2019/10/191121-Stitch-2gether.jpg
END:VEVENT
BEGIN:VEVENT
DTSTART;TZID=America/New_York:20210721T110000
DTEND;TZID=America/New_York:20210721T120000
DTSTAMP:20260425T204209
CREATED:20210623T141513Z
LAST-MODIFIED:20210623T141513Z
UID:9792-1626865200-1626868800@lewisborolibrary.org
SUMMARY:Lewisboro Seniors Book Group: "Anxious People"
DESCRIPTION:Good News! Starting this month\, we will resume meeting monthly on the third Wednesday during the Lewisboro Senior Adults meeting at the South Salem Firehouse. All seniors are welcome! \nThe next meeting is July 21. The group will be discussing Anxious People\, by Fredrik Backman\, the NY Times Bestselling author of A Man Called Ove. \nThe Library will provide copies of the book to all participants. Large print copies and CD audio books are also available upon request. Please contact the Library if you need a copy of the book – 875-9004 or lewisborolibrary@gmail.com. The book is also available as an eBook and audiobook via Overdrive.
URL:https://lewisborolibrary.org/event/lewisboro-seniors-book-group-anxious-people/
CATEGORIES:Adult
ATTACH;FMTTYPE=image/jpeg:https://lewisborolibrary.org/wp-content/uploads/2021/06/210721-Senior-Book-Anxious-People-compressed.jpg
END:VEVENT
BEGIN:VEVENT
DTSTART;TZID=America/New_York:20210721T193000
DTEND;TZID=America/New_York:20210721T203000
DTSTAMP:20260425T204209
CREATED:20210623T202249Z
LAST-MODIFIED:20210714T200949Z
UID:9840-1626895800-1626899400@lewisborolibrary.org
SUMMARY:Library Board Meeting
DESCRIPTION:The monthly meeting of the Lewisboro Library Board of Trustees will be held in person at the Library. \nMeetings are open to the public. \nAccording to NYS regulations\, all those UNVACCINATED are required to wear a mask indoors including all children above the age of two.
URL:https://lewisborolibrary.org/event/library-board-meeting-2/
CATEGORIES:Adult
ATTACH;FMTTYPE=image/jpeg:https://lewisborolibrary.org/wp-content/uploads/2020/02/LL-Logo.jpg
END:VEVENT
BEGIN:VEVENT
DTSTART;TZID=America/New_York:20210723T130000
DTEND;TZID=America/New_York:20210723T140000
DTSTAMP:20260425T204209
CREATED:20210622T165316Z
LAST-MODIFIED:20210714T202418Z
UID:9723-1627045200-1627048800@lewisborolibrary.org
SUMMARY:Stitch Together
DESCRIPTION:This casual\, weekly gathering of those who knit/crochet and chat will meet outside\, weather permitting\, but will move indoors if rainy or too hot. Catch up on people’s craft projects and what is going on in Town – and beyond. Bring a project and chair! \nPlease register below. \nAccording to NYS regulations\, all those UNVACCINATED are required to wear a mask indoors including all children above the age of two.
URL:https://lewisborolibrary.org/event/stitch-together-11/
CATEGORIES:Adult
ATTACH;FMTTYPE=image/jpeg:https://lewisborolibrary.org/wp-content/uploads/2019/10/191121-Stitch-2gether.jpg
END:VEVENT
BEGIN:VEVENT
DTSTART;TZID=America/New_York:20210723T180000
DTEND;TZID=America/New_York:20210723T200000
DTSTAMP:20260425T204209
CREATED:20210623T022415Z
LAST-MODIFIED:20210714T202636Z
UID:9781-1627063200-1627070400@lewisborolibrary.org
SUMMARY:Adult Paint Night
DESCRIPTION:Join us for an adult paint night! \nSouth Salem artist and art teacher Samantha Kanner will guide the class in painting a unique scene sea-themed scene to celebrate summer. \nSpace is limited\, please register below. \nAccording to NYS regulations\, all those UNVACCINATED are required to wear a mask indoors including all children above the age of two.
URL:https://lewisborolibrary.org/event/adult-paint-night/
CATEGORIES:Adult
ATTACH;FMTTYPE=image/jpeg:https://lewisborolibrary.org/wp-content/uploads/2021/06/210709-Teen-Paint-Night-compressed.jpg
END:VEVENT
BEGIN:VEVENT
DTSTART;TZID=America/New_York:20210728T190000
DTEND;TZID=America/New_York:20210728T200000
DTSTAMP:20260425T204209
CREATED:20210623T023456Z
LAST-MODIFIED:20210623T023456Z
UID:9785-1627498800-1627502400@lewisborolibrary.org
SUMMARY:(Virtual) The Great British Baking Tour
DESCRIPTION:Via Zoom. \nAre you missing the “Great British Baking Show?”\n\n\nJoin UK travel/relocation consultant Claire Evans for a delightful culinary tour of the UK inspired by “The Great British Baking Show” television series. Learn about making a proper cup of tea\, regional specialties\, their origins\, and the particular parts of the UK they hail from.\n\n\nShe’ll translate the trickiest parts of British recipes for Americans so you can try them in your own kitchen. Pick up useful travel tips as well\, just in case you’d like to create your own tour!\n\n\n\nPlease register HERE for the Zoom link. \nCo-sponsored by the Bedford Free\, Lewisboro & Pound Ridge Libraries.
URL:https://lewisborolibrary.org/event/virtual-the-great-british-baking-tour/
CATEGORIES:Adult
ATTACH;FMTTYPE=image/jpeg:https://lewisborolibrary.org/wp-content/uploads/2021/06/210728-Great-British-Baking-Tour-compressed.jpg
END:VEVENT
BEGIN:VEVENT
DTSTART;TZID=America/New_York:20210730T130000
DTEND;TZID=America/New_York:20210730T140000
DTSTAMP:20260425T204209
CREATED:20210622T165449Z
LAST-MODIFIED:20210714T202835Z
UID:9726-1627650000-1627653600@lewisborolibrary.org
SUMMARY:Stitch Together
DESCRIPTION:This casual\, weekly gathering of those who knit/crochet and chat will meet outside\, weather permitting\, but will move indoors if rainy or too hot. Catch up on people’s craft projects and what is going on in Town – and beyond. Bring a project and a chair! \nPlease register below. \nAccording to NYS regulations\, all those UNVACCINATED are required to wear a mask indoors including all children above the age of two. \n 
URL:https://lewisborolibrary.org/event/stitch-together-12/
CATEGORIES:Adult
ATTACH;FMTTYPE=image/jpeg:https://lewisborolibrary.org/wp-content/uploads/2019/10/191121-Stitch-2gether.jpg
END:VEVENT
END:VCALENDAR