BEGIN:VCALENDAR
VERSION:2.0
PRODID:-//Lewisboro Library - ECPv6.15.20//NONSGML v1.0//EN
CALSCALE:GREGORIAN
METHOD:PUBLISH
X-ORIGINAL-URL:https://lewisborolibrary.org
X-WR-CALDESC:Events for Lewisboro Library
REFRESH-INTERVAL;VALUE=DURATION:PT1H
X-Robots-Tag:noindex
X-PUBLISHED-TTL:PT1H
BEGIN:VTIMEZONE
TZID:America/New_York
BEGIN:DAYLIGHT
TZOFFSETFROM:-0500
TZOFFSETTO:-0400
TZNAME:EDT
DTSTART:20200308T070000
END:DAYLIGHT
BEGIN:STANDARD
TZOFFSETFROM:-0400
TZOFFSETTO:-0500
TZNAME:EST
DTSTART:20201101T060000
END:STANDARD
BEGIN:DAYLIGHT
TZOFFSETFROM:-0500
TZOFFSETTO:-0400
TZNAME:EDT
DTSTART:20210314T070000
END:DAYLIGHT
BEGIN:STANDARD
TZOFFSETFROM:-0400
TZOFFSETTO:-0500
TZNAME:EST
DTSTART:20211107T060000
END:STANDARD
BEGIN:DAYLIGHT
TZOFFSETFROM:-0500
TZOFFSETTO:-0400
TZNAME:EDT
DTSTART:20220313T070000
END:DAYLIGHT
BEGIN:STANDARD
TZOFFSETFROM:-0400
TZOFFSETTO:-0500
TZNAME:EST
DTSTART:20221106T060000
END:STANDARD
END:VTIMEZONE
BEGIN:VEVENT
DTSTART;TZID=America/New_York:20210603T190000
DTEND;TZID=America/New_York:20210603T203000
DTSTAMP:20260425T235821
CREATED:20210511T165408Z
LAST-MODIFIED:20210511T165408Z
UID:9021-1622746800-1622752200@lewisborolibrary.org
SUMMARY:(Virtual) I Like It\, I Love It and the Deer Don't Eat It!
DESCRIPTION:Via Zoom. \nWant to learn about attractive\, deer-resistant plants? Adam Wheeler\, of Broken Arrow Nursery\, leads this lecture on planting a garden free from the impact of deer. Adam will discuss the ornamental qualities of a diverse assortment of exceptional plants that show strong resistance to deer browse. In addition\, learn strategies for managing the impact of deer in the garden as well as tricks to succeed with “deer candy.” \n  \nAdam Wheeler is the Horticulture and Container Production Manager at Broken Arrow Nursery in Hamden\, CT. He manages plant propagation\, container production and the acquisition and development of new plants. He loves to share his passion for plants through photography and educational outreach and is an adjunct lecturer at Naugatuck Valley Community College and the Berkshire Botantical Garden.\n \nThis program is sponsored by the Lewisboro Garden Club. Please register HERE to receive your Zoom link.
URL:https://lewisborolibrary.org/event/virtual-i-like-it-i-love-it-and-the-deer-dont-eat-it/
CATEGORIES:Adult
ATTACH;FMTTYPE=image/jpeg:https://lewisborolibrary.org/wp-content/uploads/2021/05/210603-I-Like-It-I-Love-It-and-the-Deer-Dont-Eat-It-compressed.jpg
END:VEVENT
BEGIN:VEVENT
DTSTART;TZID=America/New_York:20210607T150000
DTEND;TZID=America/New_York:20210607T163000
DTSTAMP:20260425T235821
CREATED:20210511T190526Z
LAST-MODIFIED:20210511T190526Z
UID:9025-1623078000-1623083400@lewisborolibrary.org
SUMMARY:(Virtual) Lewisboro Seniors Book Group: "The Four Winds"
DESCRIPTION:Via Zoom. \nThis book group used to meet monthly during the Lewisboro Senior Adults meeting at the South Salem Firehouse. It has now moved to Zoom and all seniors are welcome! \nThe next meeting is June 7. The group will be discussing The Four Winds\, by Kristin Hannah. \nThe Library will provide copies of the book to all participants. Large print copies and CD audio books are also available upon request. Please contact the Library if you need a copy of the book – 875-9004 or lewisborolibrary@gmail.com. The book is also available as an eBook and audiobook via Overdrive. \nPlease register below for the Zoom link.  The link will be emailed the day before.
URL:https://lewisborolibrary.org/event/virtual-lewisboro-seniors-book-group-the-four-winds/
CATEGORIES:Adult
ATTACH;FMTTYPE=image/jpeg:https://lewisborolibrary.org/wp-content/uploads/2021/05/210607-Senior-Book-Group-The-Four-Winds-compressed.jpg
END:VEVENT
BEGIN:VEVENT
DTSTART;TZID=America/New_York:20210610T180000
DTEND;TZID=America/New_York:20210610T190000
DTSTAMP:20260425T235821
CREATED:20210511T201139Z
LAST-MODIFIED:20210511T201139Z
UID:9029-1623348000-1623351600@lewisborolibrary.org
SUMMARY:(Virtual) Food for 50
DESCRIPTION:Via Zoom. \nNutritional needs often change with age. Discover online resources to help the “over 50” crowd find healthy recipes\, locate a nutritionist\, and identify diet fads and scams to avoid. Hear about nutrition programs available through the Center for Nutritional and Behavioral Health. Featuring guest speaker Erica Christ\, a registered dietician. \n  \nPlease register HERE for your Zoom link.
URL:https://lewisborolibrary.org/event/virtual-food-for-50/
CATEGORIES:Adult
ATTACH;FMTTYPE=image/jpeg:https://lewisborolibrary.org/wp-content/uploads/2021/05/210610-Food-for-50-compressed.jpg
END:VEVENT
BEGIN:VEVENT
DTSTART;TZID=America/New_York:20210611T130000
DTEND;TZID=America/New_York:20210611T140000
DTSTAMP:20260425T235821
CREATED:20210608T152258Z
LAST-MODIFIED:20210608T152258Z
UID:9405-1623416400-1623420000@lewisborolibrary.org
SUMMARY:Stitch Together
DESCRIPTION:This casual\, weekly gathering of those who knit/crochet and chat will meet outside\, weather permitting\, but will move to Zoom if rainy. Catch up on people’s craft projects and what is going on in Town – and beyond. Bring a project\, chair and a mask!  \nPlease register below. A Zoom link will be emailed the day before if needed.
URL:https://lewisborolibrary.org/event/stitch-together-5/
CATEGORIES:Adult
ATTACH;FMTTYPE=image/jpeg:https://lewisborolibrary.org/wp-content/uploads/2019/10/191121-Stitch-2gether.jpg
END:VEVENT
BEGIN:VEVENT
DTSTART;TZID=America/New_York:20210615T190000
DTEND;TZID=America/New_York:20210615T203000
DTSTAMP:20260425T235821
CREATED:20210520T190847Z
LAST-MODIFIED:20210520T190847Z
UID:9113-1623783600-1623789000@lewisborolibrary.org
SUMMARY:(Virtual) DNA Testing Companies: Pros & Cons\, Costs & Features
DESCRIPTION:Via Zoom. \nWant to learn more about your ancestry\, health & fitness – but not sure which company to use? Eric Migdal\, owner of It’s All Relative Genealogy LLC\, leads this fun and informative program about autosomal DNA testing\, YDNA testing as well as Mitochondrial DNA testing. Learn the differences\, pros and cons of each type of testing\, analysis of data\, pricing and subscription costs of several of the most popular testing companies. \nEric has personal experience with DNA testing: “As an adoptee\, I started my search for my biological family before the advent of the modern DNA testing companies and with very little and incorrect starting information. DNA testing helped me break through the unknown that I needed to find my family.” \nPresented by the Lewisboro\, Bedford Free & Ruth Keeler Memorial Libraries. Register HERE.
URL:https://lewisborolibrary.org/event/virtual-dna-testing-companies-pros-cons-costs-features/
CATEGORIES:Adult
ATTACH;FMTTYPE=image/jpeg:https://lewisborolibrary.org/wp-content/uploads/2021/05/210615-DNA-Testing-compressed.jpg
END:VEVENT
BEGIN:VEVENT
DTSTART;TZID=America/New_York:20210618T130000
DTEND;TZID=America/New_York:20210618T140000
DTSTAMP:20260425T235821
CREATED:20210608T152719Z
LAST-MODIFIED:20210608T152719Z
UID:9408-1624021200-1624024800@lewisborolibrary.org
SUMMARY:Stitch Together
DESCRIPTION:This casual\, weekly gathering of those who knit/crochet and chat will meet outside\, weather permitting\, but will move to Zoom if rainy. Catch up on people’s craft projects and what is going on in Town – and beyond. Bring a project\, chair and a mask!  \nPlease register below. A Zoom link will be emailed the day before if needed.
URL:https://lewisborolibrary.org/event/stitch-together-6/
CATEGORIES:Adult
ATTACH;FMTTYPE=image/jpeg:https://lewisborolibrary.org/wp-content/uploads/2021/01/210514-Stitch2Gether-compressed.jpg
END:VEVENT
BEGIN:VEVENT
DTSTART;TZID=America/New_York:20210625T130000
DTEND;TZID=America/New_York:20210625T140000
DTSTAMP:20260425T235821
CREATED:20210608T152940Z
LAST-MODIFIED:20210608T152940Z
UID:9411-1624626000-1624629600@lewisborolibrary.org
SUMMARY:Stitch Together
DESCRIPTION:This casual\, weekly gathering of those who knit/crochet and chat will meet outside\, weather permitting\, but will move to Zoom if rainy. Catch up on people’s craft projects and what is going on in Town – and beyond. Bring a project\, chair and a mask!  \nPlease register below. A Zoom link will be emailed the day before if needed.
URL:https://lewisborolibrary.org/event/stitch-together-7/
CATEGORIES:Adult
ATTACH;FMTTYPE=image/jpeg:https://lewisborolibrary.org/wp-content/uploads/2021/01/210514-Stitch2Gether-compressed.jpg
END:VEVENT
END:VCALENDAR