BEGIN:VCALENDAR
VERSION:2.0
PRODID:-//Lewisboro Library - ECPv6.15.20//NONSGML v1.0//EN
CALSCALE:GREGORIAN
METHOD:PUBLISH
X-ORIGINAL-URL:https://lewisborolibrary.org
X-WR-CALDESC:Events for Lewisboro Library
REFRESH-INTERVAL;VALUE=DURATION:PT1H
X-Robots-Tag:noindex
X-PUBLISHED-TTL:PT1H
BEGIN:VTIMEZONE
TZID:America/New_York
BEGIN:DAYLIGHT
TZOFFSETFROM:-0500
TZOFFSETTO:-0400
TZNAME:EDT
DTSTART:20250309T070000
END:DAYLIGHT
BEGIN:STANDARD
TZOFFSETFROM:-0400
TZOFFSETTO:-0500
TZNAME:EST
DTSTART:20251102T060000
END:STANDARD
BEGIN:DAYLIGHT
TZOFFSETFROM:-0500
TZOFFSETTO:-0400
TZNAME:EDT
DTSTART:20260308T070000
END:DAYLIGHT
BEGIN:STANDARD
TZOFFSETFROM:-0400
TZOFFSETTO:-0500
TZNAME:EST
DTSTART:20261101T060000
END:STANDARD
BEGIN:DAYLIGHT
TZOFFSETFROM:-0500
TZOFFSETTO:-0400
TZNAME:EDT
DTSTART:20270314T070000
END:DAYLIGHT
BEGIN:STANDARD
TZOFFSETFROM:-0400
TZOFFSETTO:-0500
TZNAME:EST
DTSTART:20271107T060000
END:STANDARD
END:VTIMEZONE
BEGIN:VEVENT
DTSTART;TZID=America/New_York:20260616T103000
DTEND;TZID=America/New_York:20260616T110000
DTSTAMP:20260423T181923
CREATED:20251219T185949Z
LAST-MODIFIED:20251219T185949Z
UID:37503-1781605800-1781607600@lewisborolibrary.org
SUMMARY:Family Storytime
DESCRIPTION:For infants through age 4\, accompanied by a caregiver. \nJoin Miss Ally in the Children’s Room on Tuesdays\, Wednesdays\, Thursdays & Fridays for Family Storytime\, where we’ll be reading books\, singing songs\, and playing with scarves\, shakers and other props – activities meant to be both fun and promote development. \nNo registration required. \nNote: photographs are often taken at our events to post on social media and our website. Please let the event leader know if you would prefer your child not be photographed.
URL:https://lewisborolibrary.org/event/family-storytime-44/2026-06-16/
CATEGORIES:Child
ATTACH;FMTTYPE=image/jpeg:https://lewisborolibrary.org/wp-content/uploads/2025/06/Ally-STorytime.jpg
END:VEVENT
BEGIN:VEVENT
DTSTART;TZID=America/New_York:20260616T110000
DTEND;TZID=America/New_York:20260616T120000
DTSTAMP:20260423T181923
CREATED:20260319T211640Z
LAST-MODIFIED:20260319T212301Z
UID:39755-1781607600-1781611200@lewisborolibrary.org
SUMMARY:"Write to Heal" for Caretakers
DESCRIPTION:This monthly\, one hour prompt-led workshop is for those who are caring for and supporting a loved one alongside an illness\, diagnosis or aging. This is a time just for you\, to be in community and connection with others who understand. \nThe workshop is led by Grief Coach and Educator\, Barri Leiner Grant\, Founder of The Memory Circle (www.thememorycircle.com) for grief and loss. Barri supports grievers in her work and spent ten years as a caregiver for her father Neil who lived with Alzheimer’s. \nThis prompt and process workshop allows you to be your own story witness\, and helps to process and tend to your experience through writing and discussion. No writing experience necessary. Just bring yourself and your curiosity. \nPlease register below.
URL:https://lewisborolibrary.org/event/write-to-heal-for-caretakers-2026-06-16/
CATEGORIES:Adult
ATTACH;FMTTYPE=image/jpeg:https://lewisborolibrary.org/wp-content/uploads/2026/03/260421-Write-to-Heal.jpg
END:VEVENT
BEGIN:VEVENT
DTSTART;TZID=America/New_York:20260616T130000
DTEND;TZID=America/New_York:20260616T150000
DTSTAMP:20260423T181923
CREATED:20220516T215316Z
LAST-MODIFIED:20260225T163449Z
UID:33678-1781614800-1781622000@lewisborolibrary.org
SUMMARY:Intermediate Mahjong
DESCRIPTION:Are you a mahjong player? A group of experienced players meets weekly Tuesdays at 1 pm at the Library. \nTheir roster is currently full\, but the number can vary with the season. Interested players should send an email to info@lewisborolibrary.org to be placed on the wait list. \nThere is always room in the Thursday evening session\, which meets at 6 pm. That is a mixed-level gathering\, with many newer players who have taken “Mahjong for Beginners” at the Library. If interested in joining the Thursday session\, or the next “Mahjong for Beginners”\, please contact the Library at the email above.
URL:https://lewisborolibrary.org/event/intermediate-mahjong-2026-03-03/2026-06-16/
CATEGORIES:Adult
ATTACH;FMTTYPE=image/jpeg:https://lewisborolibrary.org/wp-content/uploads/2022/05/mahjong-compressed.jpg
END:VEVENT
END:VCALENDAR