BEGIN:VCALENDAR
VERSION:2.0
PRODID:-//Lewisboro Library - ECPv6.15.20//NONSGML v1.0//EN
CALSCALE:GREGORIAN
METHOD:PUBLISH
X-ORIGINAL-URL:https://lewisborolibrary.org
X-WR-CALDESC:Events for Lewisboro Library
REFRESH-INTERVAL;VALUE=DURATION:PT1H
X-Robots-Tag:noindex
X-PUBLISHED-TTL:PT1H
BEGIN:VTIMEZONE
TZID:America/New_York
BEGIN:DAYLIGHT
TZOFFSETFROM:-0500
TZOFFSETTO:-0400
TZNAME:EDT
DTSTART:20250309T070000
END:DAYLIGHT
BEGIN:STANDARD
TZOFFSETFROM:-0400
TZOFFSETTO:-0500
TZNAME:EST
DTSTART:20251102T060000
END:STANDARD
BEGIN:DAYLIGHT
TZOFFSETFROM:-0500
TZOFFSETTO:-0400
TZNAME:EDT
DTSTART:20260308T070000
END:DAYLIGHT
BEGIN:STANDARD
TZOFFSETFROM:-0400
TZOFFSETTO:-0500
TZNAME:EST
DTSTART:20261101T060000
END:STANDARD
BEGIN:DAYLIGHT
TZOFFSETFROM:-0500
TZOFFSETTO:-0400
TZNAME:EDT
DTSTART:20270314T070000
END:DAYLIGHT
BEGIN:STANDARD
TZOFFSETFROM:-0400
TZOFFSETTO:-0500
TZNAME:EST
DTSTART:20271107T060000
END:STANDARD
END:VTIMEZONE
BEGIN:VEVENT
DTSTART;TZID=America/New_York:20260615T160000
DTEND;TZID=America/New_York:20260615T180000
DTSTAMP:20260423T181850
CREATED:20260422T172755Z
LAST-MODIFIED:20260422T172755Z
UID:40392-1781539200-1781546400@lewisborolibrary.org
SUMMARY:Dungeons & Dragons
DESCRIPTION:For Grades 6 – 12 \nDungeons & Dragons is back! The group meets twice a month on Monday afternoon at 4 pm. Beginners are welcome. \nDungeons & Dragons has been shown to: Enhance Creativity\, Encourage Teamwork and Solving Problems\, and Increase Social Learning Skills in the Digital Age. \nThe current campaign is closed for registration. To get on the list for the next campaign\, email info@lewisborolibrary.org.
URL:https://lewisborolibrary.org/event/dungeons-dragons-12/2026-06-15/
CATEGORIES:Teen
ATTACH;FMTTYPE=image/jpeg:https://lewisborolibrary.org/wp-content/uploads/2025/12/260112-Dungeons-Dragons.jpg
END:VEVENT
BEGIN:VEVENT
DTSTART;TZID=America/New_York:20260615T163000
DTEND;TZID=America/New_York:20260615T170000
DTSTAMP:20260423T181850
CREATED:20260422T162420Z
LAST-MODIFIED:20260422T162420Z
UID:40384-1781541000-1781542800@lewisborolibrary.org
SUMMARY:Art & Science Storytime
DESCRIPTION:For Ages 4 – 7\, accompanied by a caregiver. \nThis is called “Art & Science Storytime” because Miss Ally includes arts & crafts or science experiments as part of her weekly storytime for this age group. \nNote: photographs are often taken at our events to post on social media and our website. Please let the event leader know if you would prefer your child not be photographed.
URL:https://lewisborolibrary.org/event/art-science-storytime-7/2026-06-15/
CATEGORIES:Child
ATTACH;FMTTYPE=image/jpeg:https://lewisborolibrary.org/wp-content/uploads/2025/05/250512-Artist.Scientist-Storytime.jpg
END:VEVENT
END:VCALENDAR