BEGIN:VCALENDAR
VERSION:2.0
PRODID:-//Lewisboro Library - ECPv6.15.20//NONSGML v1.0//EN
CALSCALE:GREGORIAN
METHOD:PUBLISH
X-ORIGINAL-URL:https://lewisborolibrary.org
X-WR-CALDESC:Events for Lewisboro Library
REFRESH-INTERVAL;VALUE=DURATION:PT1H
X-Robots-Tag:noindex
X-PUBLISHED-TTL:PT1H
BEGIN:VTIMEZONE
TZID:America/New_York
BEGIN:DAYLIGHT
TZOFFSETFROM:-0500
TZOFFSETTO:-0400
TZNAME:EDT
DTSTART:20250309T070000
END:DAYLIGHT
BEGIN:STANDARD
TZOFFSETFROM:-0400
TZOFFSETTO:-0500
TZNAME:EST
DTSTART:20251102T060000
END:STANDARD
BEGIN:DAYLIGHT
TZOFFSETFROM:-0500
TZOFFSETTO:-0400
TZNAME:EDT
DTSTART:20260308T070000
END:DAYLIGHT
BEGIN:STANDARD
TZOFFSETFROM:-0400
TZOFFSETTO:-0500
TZNAME:EST
DTSTART:20261101T060000
END:STANDARD
BEGIN:DAYLIGHT
TZOFFSETFROM:-0500
TZOFFSETTO:-0400
TZNAME:EDT
DTSTART:20270314T070000
END:DAYLIGHT
BEGIN:STANDARD
TZOFFSETFROM:-0400
TZOFFSETTO:-0500
TZNAME:EST
DTSTART:20271107T060000
END:STANDARD
END:VTIMEZONE
BEGIN:VEVENT
DTSTART;TZID=America/New_York:20260514T103000
DTEND;TZID=America/New_York:20260514T110000
DTSTAMP:20260425T163116
CREATED:20251219T185949Z
LAST-MODIFIED:20251219T185949Z
UID:37485-1778754600-1778756400@lewisborolibrary.org
SUMMARY:Family Storytime
DESCRIPTION:For infants through age 4\, accompanied by a caregiver. \nJoin Miss Ally in the Children’s Room on Tuesdays\, Wednesdays\, Thursdays & Fridays for Family Storytime\, where we’ll be reading books\, singing songs\, and playing with scarves\, shakers and other props – activities meant to be both fun and promote development. \nNo registration required. \nNote: photographs are often taken at our events to post on social media and our website. Please let the event leader know if you would prefer your child not be photographed.
URL:https://lewisborolibrary.org/event/family-storytime-44/2026-05-14/
CATEGORIES:Child
ATTACH;FMTTYPE=image/jpeg:https://lewisborolibrary.org/wp-content/uploads/2025/06/Ally-STorytime.jpg
END:VEVENT
BEGIN:VEVENT
DTSTART;TZID=America/New_York:20260514T140000
DTEND;TZID=America/New_York:20260514T160000
DTSTAMP:20260425T163116
CREATED:20251219T003925Z
LAST-MODIFIED:20260306T192146Z
UID:37192-1778767200-1778774400@lewisborolibrary.org
SUMMARY:Afternoon Writers Group
DESCRIPTION:Are you an aspiring writer who would like to get feedback on your work?  \nThe Afternoon Writers Group meets every Thursday\, from 2 to 4 pm\, to discuss their work and share feedback with others.There is no formal instruction\, just a gathering of writers sharing their work. \nIf you are interested in joining\, please email the Library at info@lewisborolibrary.org.
URL:https://lewisborolibrary.org/event/afternoon-writers-group/2026-05-14/
CATEGORIES:Adult
ATTACH;FMTTYPE=image/jpeg:https://lewisborolibrary.org/wp-content/uploads/2023/08/231004-Life-Sketches-compressed.jpg
END:VEVENT
BEGIN:VEVENT
DTSTART;TZID=America/New_York:20260514T190000
DTEND;TZID=America/New_York:20260514T200000
DTSTAMP:20260425T163116
CREATED:20260413T140407Z
LAST-MODIFIED:20260413T140407Z
UID:40199-1778785200-1778788800@lewisborolibrary.org
SUMMARY:The Why\, Where\, What and How of Tree Planting at Home
DESCRIPTION:Westchester County’s forests are under stress from invasive pests\, climate change\, deer predation\, and development. While park and preserve managers are doing their best to mitigate the damage\, it will take the efforts of private landowners to ensure we have a healthy and diverse tree canopy for ourselves and our local wildlife. \nIn this program\, Taro Ietaka will discuss how homeowners can help by planting trees\, including which species will do well\, tips for planting and pruning\, and more. \nIn addition to being a certified arborist\, Taro Ietaka is Westchester County’s Assistant Director of Conservation and the supervisor of Ward Pound Ridge Reservation\, the largest park in the County. He has been instrumental in the County’s invasive species management and biodiversity programs. He is the recipient of the New York State Recreation and Parks Society’s 2025 Environmental Stewardship award. \nSponsored by the Lewisboro Garden Club. Please register below.
URL:https://lewisborolibrary.org/event/the-why-where-what-and-how-of-tree-planting-at-home/
CATEGORIES:Adult
ATTACH;FMTTYPE=image/jpeg:https://lewisborolibrary.org/wp-content/uploads/2026/04/260514-Tree-Planting.jpg
END:VEVENT
BEGIN:VEVENT
DTSTART;TZID=America/New_York:20260514T190000
DTEND;TZID=America/New_York:20260514T210000
DTSTAMP:20260425T163116
CREATED:20260413T201454Z
LAST-MODIFIED:20260414T195402Z
UID:40205-1778785200-1778792400@lewisborolibrary.org
SUMMARY:May Trivia Night at the Horse and Hound!
DESCRIPTION:Join us for another fun-filled pop-up Trivia Night at the House and Hound to benefit the Lewisboro Library! Get ready for challenging questions\, drinks at Happy Hour prices\, delicious food and prizes – all under the lights of the patio! \nQuestions will cover a range of topics including general knowledge\, pop culture\, history\, music\, and more. A great way to gather with your neighbors\, win prizes\, and compete for the title of Lewisboro Library Trivia Champions! \nReserved seats are $25 per player. The best way to reserve seating is to form your team (ideally 2 – 4 players)\, and then have a team captain purchase seats for the group. Knowing the number on each team will help us in setting up the venue before everyone arrives. Of course\, individual players are also welcome\, and we’ll do our best to pair you with another team. Please Note: There are a limited number of tables that seat six players\, so reserve your seats today! \nReserve your seats HERE\, or in person at the Library. \nThank you to the Horse and Hound for hosting this special pop-up edition of Trivia Night! The restaurant is located at 94 Spring Street in South Salem.
URL:https://lewisborolibrary.org/event/may-trivia-night-at-the-horse-and-hound/
CATEGORIES:Adult
ATTACH;FMTTYPE=image/jpeg:https://lewisborolibrary.org/wp-content/uploads/2026/04/260514-May-June-Trivia-Night-image-grey.jpg
END:VEVENT
END:VCALENDAR