BEGIN:VCALENDAR
VERSION:2.0
PRODID:-//Lewisboro Library - ECPv6.15.20//NONSGML v1.0//EN
CALSCALE:GREGORIAN
METHOD:PUBLISH
X-WR-CALNAME:Lewisboro Library
X-ORIGINAL-URL:https://lewisborolibrary.org
X-WR-CALDESC:Events for Lewisboro Library
REFRESH-INTERVAL;VALUE=DURATION:PT1H
X-Robots-Tag:noindex
X-PUBLISHED-TTL:PT1H
BEGIN:VTIMEZONE
TZID:America/New_York
BEGIN:DAYLIGHT
TZOFFSETFROM:-0500
TZOFFSETTO:-0400
TZNAME:EDT
DTSTART:20250309T070000
END:DAYLIGHT
BEGIN:STANDARD
TZOFFSETFROM:-0400
TZOFFSETTO:-0500
TZNAME:EST
DTSTART:20251102T060000
END:STANDARD
BEGIN:DAYLIGHT
TZOFFSETFROM:-0500
TZOFFSETTO:-0400
TZNAME:EDT
DTSTART:20260308T070000
END:DAYLIGHT
BEGIN:STANDARD
TZOFFSETFROM:-0400
TZOFFSETTO:-0500
TZNAME:EST
DTSTART:20261101T060000
END:STANDARD
BEGIN:DAYLIGHT
TZOFFSETFROM:-0500
TZOFFSETTO:-0400
TZNAME:EDT
DTSTART:20270314T070000
END:DAYLIGHT
BEGIN:STANDARD
TZOFFSETFROM:-0400
TZOFFSETTO:-0500
TZNAME:EST
DTSTART:20271107T060000
END:STANDARD
END:VTIMEZONE
BEGIN:VEVENT
DTSTART;TZID=America/New_York:20260420T130000
DTEND;TZID=America/New_York:20260420T140000
DTSTAMP:20260420T032456
CREATED:20260318T212325Z
LAST-MODIFIED:20260325T213212Z
UID:39714-1776690000-1776693600@lewisborolibrary.org
SUMMARY:Community Crafters: Spring Sunshine and Rainbows
DESCRIPTION:Celebrate National Library Week (April 19 – 25) and all that the Library offers the Community! \nWe have another great project for those who love to craft – and give back to others in our community. \nCome join the fun\, crafting and assembling a gift bag of spring-themed goodies to be delivered to local Homebound Seniors. \nThe Crafters will be making Crystal Sun Catchers for our seniors to hang on a window in their home. The sun catchers will go into a themed gift bag with word games\, spring notecards\, a tiny flower jar and delicious goodies.\n\nPlease register below
URL:https://lewisborolibrary.org/event/community-crafters-spring-sunshine-and-rainbows/
CATEGORIES:Adult
ATTACH;FMTTYPE=image/jpeg:https://lewisborolibrary.org/wp-content/uploads/2026/03/260420-Crafters-Spring.jpg
END:VEVENT
BEGIN:VEVENT
DTSTART;TZID=America/New_York:20260420T163000
DTEND;TZID=America/New_York:20260420T170000
DTSTAMP:20260420T032456
CREATED:20260324T195819Z
LAST-MODIFIED:20260324T195958Z
UID:39848-1776702600-1776704400@lewisborolibrary.org
SUMMARY:Art & Science Storytime
DESCRIPTION:For Ages 4 – 7\, accompanied by a caregiver. \nThis is called “Art & Science Storytime” because Miss Ally includes arts & crafts or science experiments as part of her weekly storytime for this age group. \nPlease register below. \nNote: photographs are often taken at our events to post on social media and our website. Please let the event leader know if you would prefer your child not be photographed.
URL:https://lewisborolibrary.org/event/art-science-storytime-6-2026-04-20/
CATEGORIES:Child
ATTACH;FMTTYPE=image/jpeg:https://lewisborolibrary.org/wp-content/uploads/2025/05/250512-Artist.Scientist-Storytime.jpg
END:VEVENT
BEGIN:VEVENT
DTSTART;TZID=America/New_York:20260420T190000
DTEND;TZID=America/New_York:20260420T200000
DTSTAMP:20260420T032456
CREATED:20251216T215109Z
LAST-MODIFIED:20251216T225833Z
UID:37047-1776711600-1776715200@lewisborolibrary.org
SUMMARY:(Virtual) Destination College: The College Fit
DESCRIPTION:Via Zoom. For Teens and their Parents. \nTeens and parents won’t want to miss this 12-part series led by Anjanie Narine\, author of Destination College: A Four-Year Plan for High School Students. Attend all 12 sessions\, or as many as you are able. Each session will deal with a different topic. “The College Fit” will focus on how to find and evaluate “best-fit” colleges. \nThe series is intended to help high school teens establish a personalized roadmap to guide them in the college process. You’ll learn how to make the most of your four years in high school\, setting yourself up for success in college and beyond. Explore the importance of striking a balance between academics and extracurricular activities\, discover effective ways to cope with stress and anxiety\, and uncover the secrets of securing internships\, volunteer opportunities\, and apprenticeships. Prepare yourself for standardized tests\, conduct thorough research on colleges and universities\, and gain the confidence to ace your interviews and make informed decisions. \nThe program is presented in partnership with: Bronxville Public Library\, Greenburgh Public Library\, John C. Hart Memorial Library\, Lewisboro Library\, Mamaroneck Public Library\, Mount Kisco Public Library\, New Rochelle Public Library\, Ossining Public Library\, Port Chester-Rye Brook Public Library\, Somers Library\, Warner Library\, and Yonkers Public Library. \nPlease register for your Zoom link HERE.
URL:https://lewisborolibrary.org/event/virtual-destination-college-charting-your-college-journey-2026-03-09-2026-04-20/
CATEGORIES:Adult,Teen
ATTACH;FMTTYPE=image/jpeg:https://lewisborolibrary.org/wp-content/uploads/2024/03/240417-College-Planning.jpg
END:VEVENT
END:VCALENDAR