BEGIN:VCALENDAR
VERSION:2.0
PRODID:-//Lewisboro Library - ECPv6.15.20//NONSGML v1.0//EN
CALSCALE:GREGORIAN
METHOD:PUBLISH
X-WR-CALNAME:Lewisboro Library
X-ORIGINAL-URL:https://lewisborolibrary.org
X-WR-CALDESC:Events for Lewisboro Library
REFRESH-INTERVAL;VALUE=DURATION:PT1H
X-Robots-Tag:noindex
X-PUBLISHED-TTL:PT1H
BEGIN:VTIMEZONE
TZID:America/New_York
BEGIN:DAYLIGHT
TZOFFSETFROM:-0500
TZOFFSETTO:-0400
TZNAME:EDT
DTSTART:20250309T070000
END:DAYLIGHT
BEGIN:STANDARD
TZOFFSETFROM:-0400
TZOFFSETTO:-0500
TZNAME:EST
DTSTART:20251102T060000
END:STANDARD
BEGIN:DAYLIGHT
TZOFFSETFROM:-0500
TZOFFSETTO:-0400
TZNAME:EDT
DTSTART:20260308T070000
END:DAYLIGHT
BEGIN:STANDARD
TZOFFSETFROM:-0400
TZOFFSETTO:-0500
TZNAME:EST
DTSTART:20261101T060000
END:STANDARD
BEGIN:DAYLIGHT
TZOFFSETFROM:-0500
TZOFFSETTO:-0400
TZNAME:EDT
DTSTART:20270314T070000
END:DAYLIGHT
BEGIN:STANDARD
TZOFFSETFROM:-0400
TZOFFSETTO:-0500
TZNAME:EST
DTSTART:20271107T060000
END:STANDARD
END:VTIMEZONE
BEGIN:VEVENT
DTSTART;TZID=America/New_York:20260226T103000
DTEND;TZID=America/New_York:20260226T110000
DTSTAMP:20260423T210743
CREATED:20251219T185949Z
LAST-MODIFIED:20251219T185949Z
UID:37441-1772101800-1772103600@lewisborolibrary.org
SUMMARY:Family Storytime
DESCRIPTION:For infants through age 4\, accompanied by a caregiver. \nJoin Miss Ally in the Children’s Room on Tuesdays\, Wednesdays\, Thursdays & Fridays for Family Storytime\, where we’ll be reading books\, singing songs\, and playing with scarves\, shakers and other props – activities meant to be both fun and promote development. \nNo registration required. \nNote: photographs are often taken at our events to post on social media and our website. Please let the event leader know if you would prefer your child not be photographed.
URL:https://lewisborolibrary.org/event/family-storytime-44/2026-02-26/
CATEGORIES:Child
ATTACH;FMTTYPE=image/jpeg:https://lewisborolibrary.org/wp-content/uploads/2025/06/Ally-STorytime.jpg
END:VEVENT
BEGIN:VEVENT
DTSTART;TZID=America/New_York:20260226T110000
DTEND;TZID=America/New_York:20260226T120000
DTSTAMP:20260423T210743
CREATED:20260121T225906Z
LAST-MODIFIED:20260218T034547Z
UID:38488-1772103600-1772107200@lewisborolibrary.org
SUMMARY:NEW! - "The Usual Suspects" Book Club
DESCRIPTION:You’re invited to join the first meeting of The Usual Suspects Book Club\, a monthly mystery book club where crime fiction lovers will gather to unravel twisted plots\, dissect clever clues\, and debate unforgettable suspects. Whether you’re a seasoned sleuth or new to the genre\, this first meeting will be your chance to connect with fellow readers. Led by our Adult Reference Librarian Colleen Oakes. \n\nThe Usual Suspects will meet the last Thursday of every month. Our first meeting will be February 26\, and our first read will be The In Crowd\, by Charlotte Vassell. The book is described as an electrifying\, whip-smart whodunit about the dastardly misbehavior of London’s high society—where being “in” or “out” can be a life-and-death matter. \n\n\nCome curious\, come opinionated—and be prepared\, because in this club\, everyone is a suspect. \n\n\nPlease register below.
URL:https://lewisborolibrary.org/event/new-the-usual-suspects-book-club/
CATEGORIES:Adult
ATTACH;FMTTYPE=image/jpeg:https://lewisborolibrary.org/wp-content/uploads/2026/01/260226-Usual-Suspects-book-club-The-In-Crowd.jpg
END:VEVENT
BEGIN:VEVENT
DTSTART;TZID=America/New_York:20260226T140000
DTEND;TZID=America/New_York:20260226T160000
DTSTAMP:20260423T210743
CREATED:20251219T003925Z
LAST-MODIFIED:20260306T192135Z
UID:37180-1772114400-1772121600@lewisborolibrary.org
SUMMARY:Afternoon Writers Group
DESCRIPTION:Are you an aspiring writer who would like to get feedback on your work?  \nThe Afternoon Writers Group meets every Thursday\, from 2 to 4 pm\, to discuss their work and share feedback with others.There is no formal instruction\, just a gathering of writers sharing their work. \nIf you are interested in joining\, please email the Library at info@lewisborolibrary.org.
URL:https://lewisborolibrary.org/event/afternoon-writers-group/2026-02-26/
CATEGORIES:Adult
ATTACH;FMTTYPE=image/jpeg:https://lewisborolibrary.org/wp-content/uploads/2023/08/231004-Life-Sketches-compressed.jpg
END:VEVENT
BEGIN:VEVENT
DTSTART;TZID=America/New_York:20260226T180000
DTEND;TZID=America/New_York:20260226T203000
DTSTAMP:20260423T210743
CREATED:20251219T010828Z
LAST-MODIFIED:20251219T010828Z
UID:37331-1772128800-1772137800@lewisborolibrary.org
SUMMARY:Evening Mahjong: Mixed Level
DESCRIPTION:Are you a mahjong player? This is a group of mixed level players that meets weekly Thursday evenings at 6:00 pm. \nThis is NOT a drop-in program. We need to know the number of players to set up the room. \nInterested players should send an email to info@lewisborolibrary.org\, with your name and level of experience.
URL:https://lewisborolibrary.org/event/evening-mahjong-mixed-level-3/2026-02-26/
CATEGORIES:Adult
ATTACH;FMTTYPE=image/jpeg:https://lewisborolibrary.org/wp-content/uploads/2022/05/mahjong-compressed.jpg
END:VEVENT
BEGIN:VEVENT
DTSTART;TZID=America/New_York:20260226T190000
DTEND;TZID=America/New_York:20260226T203000
DTSTAMP:20260423T210743
CREATED:20260102T154846Z
LAST-MODIFIED:20260102T154846Z
UID:37970-1772132400-1772137800@lewisborolibrary.org
SUMMARY:Stitch Together Evening
DESCRIPTION:This casual\, monthly gathering is for those who want to work on needle crafts (knit/crochet/cross-stitch/quilting\, etc) while meeting and chatting with neighbors. It usually meets on the fourth Thursday of the month. Bring a project you are working on.\n \nCatch up on people’s craft projects and what is going on in Town – and beyond. \nIf you are interested in attending\, please register below so we can add you to the contact list\, in case we need to switch the meeting date some month.
URL:https://lewisborolibrary.org/event/stitch-together-evening-8/2026-02-26/
CATEGORIES:Adult
ATTACH;FMTTYPE=image/jpeg:https://lewisborolibrary.org/wp-content/uploads/2022/10/210514-Stitch2Gether-compressed.jpg
END:VEVENT
END:VCALENDAR