BEGIN:VCALENDAR
VERSION:2.0
PRODID:-//Lewisboro Library - ECPv6.15.20//NONSGML v1.0//EN
CALSCALE:GREGORIAN
METHOD:PUBLISH
X-ORIGINAL-URL:https://lewisborolibrary.org
X-WR-CALDESC:Events for Lewisboro Library
REFRESH-INTERVAL;VALUE=DURATION:PT1H
X-Robots-Tag:noindex
X-PUBLISHED-TTL:PT1H
BEGIN:VTIMEZONE
TZID:America/New_York
BEGIN:DAYLIGHT
TZOFFSETFROM:-0500
TZOFFSETTO:-0400
TZNAME:EDT
DTSTART:20250309T070000
END:DAYLIGHT
BEGIN:STANDARD
TZOFFSETFROM:-0400
TZOFFSETTO:-0500
TZNAME:EST
DTSTART:20251102T060000
END:STANDARD
BEGIN:DAYLIGHT
TZOFFSETFROM:-0500
TZOFFSETTO:-0400
TZNAME:EDT
DTSTART:20260308T070000
END:DAYLIGHT
BEGIN:STANDARD
TZOFFSETFROM:-0400
TZOFFSETTO:-0500
TZNAME:EST
DTSTART:20261101T060000
END:STANDARD
BEGIN:DAYLIGHT
TZOFFSETFROM:-0500
TZOFFSETTO:-0400
TZNAME:EDT
DTSTART:20270314T070000
END:DAYLIGHT
BEGIN:STANDARD
TZOFFSETFROM:-0400
TZOFFSETTO:-0500
TZNAME:EST
DTSTART:20271107T060000
END:STANDARD
END:VTIMEZONE
BEGIN:VEVENT
DTSTART;TZID=America/New_York:20260224T103000
DTEND;TZID=America/New_York:20260224T110000
DTSTAMP:20260423T194334
CREATED:20251219T185949Z
LAST-MODIFIED:20260224T124743Z
UID:37439-1771929000-1771930800@lewisborolibrary.org
SUMMARY:Family Storytime
DESCRIPTION:For infants through age 4\, accompanied by a caregiver. \nJoin Miss Ally in the Children’s Room on Tuesdays\, Wednesdays\, Thursdays & Fridays for Family Storytime\, where we’ll be reading books\, singing songs\, and playing with scarves\, shakers and other props – activities meant to be both fun and promote development. \nNo registration required. \nNote: photographs are often taken at our events to post on social media and our website. Please let the event leader know if you would prefer your child not be photographed.
URL:https://lewisborolibrary.org/event/family-storytime-44-2026-02-24/
CATEGORIES:Cancelled,Child
ATTACH;FMTTYPE=image/jpeg:https://lewisborolibrary.org/wp-content/uploads/2025/06/Ally-STorytime.jpg
END:VEVENT
BEGIN:VEVENT
DTSTART;TZID=America/New_York:20260224T163000
DTEND;TZID=America/New_York:20260224T173000
DTSTAMP:20260423T194334
CREATED:20260121T224039Z
LAST-MODIFIED:20260121T224039Z
UID:38481-1771950600-1771954200@lewisborolibrary.org
SUMMARY:Advanced Craft: Duct Tape Wallets
DESCRIPTION:Grades 2 to 5. \nThis guided craft program meets every other Tuesday. This week come and make a wallet for you or for a friend\, all out of duct tape! \nSpace is limited\, please register below. \nNote: photographs are often taken at our events to post on social media and our website. Please let the event leader know if you would prefer your child not be photographed.
URL:https://lewisborolibrary.org/event/advanced-craft-duct-tape-wallets/
CATEGORIES:Child
ATTACH;FMTTYPE=image/jpeg:https://lewisborolibrary.org/wp-content/uploads/2026/01/260224-Advanced-Craft-Duct-Tape-Wallets.jpg
END:VEVENT
BEGIN:VEVENT
DTSTART;TZID=America/New_York:20260224T180000
DTEND;TZID=America/New_York:20260224T193000
DTSTAMP:20260423T194334
CREATED:20260115T173511Z
LAST-MODIFIED:20260115T173511Z
UID:38831-1771956000-1771961400@lewisborolibrary.org
SUMMARY:Mahjong for Beginners - Session is Full
DESCRIPTION:Have you always wanted to learn Mahjong? This 4-week session\, led by Robin Bader\, will meet on Tuesday evenings from February 3 – February 24. It will give you the basic skills to start playing. \nThis is NOT a drop-in program\, registration is required. There are a limited number of spaces available\, since we already had names on our waitlist from the last session.\nPlease register on the webpage for the first class on February 3. If registration is full\, you can email the Library to be placed on the waitlist for the next session – info@lewisborolibrary.org.
URL:https://lewisborolibrary.org/event/mahjong-for-beginners-13/2026-02-24/
CATEGORIES:Adult
ATTACH;FMTTYPE=image/jpeg:https://lewisborolibrary.org/wp-content/uploads/2022/05/mahjong-compressed.jpg
END:VEVENT
END:VCALENDAR