BEGIN:VCALENDAR
VERSION:2.0
PRODID:-//Lewisboro Library - ECPv6.15.20//NONSGML v1.0//EN
CALSCALE:GREGORIAN
METHOD:PUBLISH
X-WR-CALNAME:Lewisboro Library
X-ORIGINAL-URL:https://lewisborolibrary.org
X-WR-CALDESC:Events for Lewisboro Library
REFRESH-INTERVAL;VALUE=DURATION:PT1H
X-Robots-Tag:noindex
X-PUBLISHED-TTL:PT1H
BEGIN:VTIMEZONE
TZID:America/New_York
BEGIN:DAYLIGHT
TZOFFSETFROM:-0500
TZOFFSETTO:-0400
TZNAME:EDT
DTSTART:20220313T070000
END:DAYLIGHT
BEGIN:STANDARD
TZOFFSETFROM:-0400
TZOFFSETTO:-0500
TZNAME:EST
DTSTART:20221106T060000
END:STANDARD
BEGIN:DAYLIGHT
TZOFFSETFROM:-0500
TZOFFSETTO:-0400
TZNAME:EDT
DTSTART:20230312T070000
END:DAYLIGHT
BEGIN:STANDARD
TZOFFSETFROM:-0400
TZOFFSETTO:-0500
TZNAME:EST
DTSTART:20231105T060000
END:STANDARD
BEGIN:DAYLIGHT
TZOFFSETFROM:-0500
TZOFFSETTO:-0400
TZNAME:EDT
DTSTART:20240310T070000
END:DAYLIGHT
BEGIN:STANDARD
TZOFFSETFROM:-0400
TZOFFSETTO:-0500
TZNAME:EST
DTSTART:20241103T060000
END:STANDARD
END:VTIMEZONE
BEGIN:VEVENT
DTSTART;TZID=America/New_York:20230802T103000
DTEND;TZID=America/New_York:20230802T113000
DTSTAMP:20260421T062523
CREATED:20230621T200705Z
LAST-MODIFIED:20230621T200705Z
UID:21100-1690972200-1690975800@lewisborolibrary.org
SUMMARY:MakerSpace Mornings: Friendship Bracelets
DESCRIPTION:For all ages. \nCome work on crafts\, technology and more in the MakerSpace Corner of the Children’s Room. This summer we are making crafts that follow our Summer Reading theme “All Together Now\,” which celebrates kindness\, friendship and unity. \nSpace is limited.  Please register your child below.
URL:https://lewisborolibrary.org/event/makerspace-mornings-friendship-bracelets/
CATEGORIES:Child
ATTACH;FMTTYPE=image/jpeg:https://lewisborolibrary.org/wp-content/uploads/2023/06/230802-MkSpace-friendship-bracelets-compressed.jpg
END:VEVENT
BEGIN:VEVENT
DTSTART;TZID=America/New_York:20230802T133000
DTEND;TZID=America/New_York:20230802T143000
DTSTAMP:20260421T062523
CREATED:20230621T200957Z
LAST-MODIFIED:20230621T200957Z
UID:21103-1690983000-1690986600@lewisborolibrary.org
SUMMARY:MakerSpace Afternoons: Friendship Bracelets
DESCRIPTION:For all ages. \nCome work on crafts\, technology and more in the MakerSpace Corner of the Children’s Room. This summer we are making crafts that follow our Summer Reading theme “All Together Now\,” which celebrates kindness\, friendship and unity. \nSpace is limited.  Please register your child below.
URL:https://lewisborolibrary.org/event/makerspace-afternoons-friendship-bracelets/
CATEGORIES:Child
ATTACH;FMTTYPE=image/jpeg:https://lewisborolibrary.org/wp-content/uploads/2023/06/230802-MkSpace-friendship-bracelets-compressed.jpg
END:VEVENT
BEGIN:VEVENT
DTSTART;TZID=America/New_York:20230802T190000
DTEND;TZID=America/New_York:20230802T203000
DTSTAMP:20260421T062523
CREATED:20230619T193538Z
LAST-MODIFIED:20230721T162617Z
UID:21029-1691002800-1691008200@lewisborolibrary.org
SUMMARY:Earring Design Workshop
DESCRIPTION:For Adults\,Teens & Children Ages 8 & Up\n \nThe theme of our Summer Reading program is “All Together Now\,” so we are inviting volunteers of all ages to do a good deed this summer – make earrings to donate to women’s shelters. For every pair that you make and keep\, you must donate a pair to charity.\n \n This workshop is led by Joan Lloyd\, who donates over 900 pairs of earrings each month and has been offering workshops at the Library for over 10 years. \nSpace is limited\, please register below. If the program fills up\, please email the Library to be put on the wait list – we often have cancellations the day before.
URL:https://lewisborolibrary.org/event/earring-design-workshop-4/
CATEGORIES:Adult
ATTACH;FMTTYPE=image/jpeg:https://lewisborolibrary.org/wp-content/uploads/2022/10/221129-Earring-Design-Workshop-November-compressed1.jpg
END:VEVENT
END:VCALENDAR