BEGIN:VCALENDAR
VERSION:2.0
PRODID:-//Lewisboro Library - ECPv6.15.18//NONSGML v1.0//EN
CALSCALE:GREGORIAN
METHOD:PUBLISH
X-WR-CALNAME:Lewisboro Library
X-ORIGINAL-URL:https://lewisborolibrary.org
X-WR-CALDESC:Events for Lewisboro Library
REFRESH-INTERVAL;VALUE=DURATION:PT1H
X-Robots-Tag:noindex
X-PUBLISHED-TTL:PT1H
BEGIN:VTIMEZONE
TZID:America/New_York
BEGIN:DAYLIGHT
TZOFFSETFROM:-0500
TZOFFSETTO:-0400
TZNAME:EDT
DTSTART:20220313T070000
END:DAYLIGHT
BEGIN:STANDARD
TZOFFSETFROM:-0400
TZOFFSETTO:-0500
TZNAME:EST
DTSTART:20221106T060000
END:STANDARD
BEGIN:DAYLIGHT
TZOFFSETFROM:-0500
TZOFFSETTO:-0400
TZNAME:EDT
DTSTART:20230312T070000
END:DAYLIGHT
BEGIN:STANDARD
TZOFFSETFROM:-0400
TZOFFSETTO:-0500
TZNAME:EST
DTSTART:20231105T060000
END:STANDARD
BEGIN:DAYLIGHT
TZOFFSETFROM:-0500
TZOFFSETTO:-0400
TZNAME:EDT
DTSTART:20240310T070000
END:DAYLIGHT
BEGIN:STANDARD
TZOFFSETFROM:-0400
TZOFFSETTO:-0500
TZNAME:EST
DTSTART:20241103T060000
END:STANDARD
END:VTIMEZONE
BEGIN:VEVENT
DTSTART;TZID=America/New_York:20230308T103000
DTEND;TZID=America/New_York:20230308T110000
DTSTAMP:20260419T181802
CREATED:20230228T213217Z
LAST-MODIFIED:20230228T214201Z
UID:18966-1678271400-1678273200@lewisborolibrary.org
SUMMARY:MakerSpace Mornings: Scrapbooking for Kids
DESCRIPTION:For toddlers – age 5. \nCome work on crafts\, technology and more in the MakerSpace Corner of the Children’s Room. This month we are making crafts that celebrate March. Today’s craft is making our own scrapbooks. \nSpace is limited.  Please register your child below.
URL:https://lewisborolibrary.org/event/makerspace-mornings-13/
CATEGORIES:Child
ATTACH;FMTTYPE=image/jpeg:https://lewisborolibrary.org/wp-content/uploads/2023/02/230308-Makerspace-scrapbook.jpg
END:VEVENT
BEGIN:VEVENT
DTSTART;TZID=America/New_York:20230308T133000
DTEND;TZID=America/New_York:20230308T140000
DTSTAMP:20260419T181802
CREATED:20230228T213347Z
LAST-MODIFIED:20230228T214242Z
UID:18969-1678282200-1678284000@lewisborolibrary.org
SUMMARY:MakerSpace Afternoons: Scrapbooking for Kids
DESCRIPTION:For toddlers – age 5. \nCome work on crafts\, technology and more in the MakerSpace Corner of the Children’s Room. This month we are making crafts that celebrate March. Today’s craft is making our own scrapbooks. \nSpace is limited.  Please register your child below.
URL:https://lewisborolibrary.org/event/makerspace-afternoons-15/
CATEGORIES:Child
ATTACH;FMTTYPE=image/jpeg:https://lewisborolibrary.org/wp-content/uploads/2023/02/230308-Makerspace-scrapbook.jpg
END:VEVENT
BEGIN:VEVENT
DTSTART;TZID=America/New_York:20230308T160000
DTEND;TZID=America/New_York:20230308T173000
DTSTAMP:20260419T181802
CREATED:20230223T195936Z
LAST-MODIFIED:20230228T182204Z
UID:18827-1678291200-1678296600@lewisborolibrary.org
SUMMARY:Girls Who Code
DESCRIPTION:For Students in Grades 3 through 8. \nGirls Who Code is a non-profit organization dedicated to closing the gender gap in technology. The Club is a FREE after-school computer science program\, facilitated by Children’s Librarian\, Marie Nania. \nIn 2023\, the Club will meet MONTHLY. \nStudents are welcome to bring their own laptops or Chromebooks\, if preferred. \nSpace is limited\, please register below.
URL:https://lewisborolibrary.org/event/girls-who-code-20/
CATEGORIES:Child
ATTACH;FMTTYPE=image/jpeg:https://lewisborolibrary.org/wp-content/uploads/2021/10/211108-girls-who-code-kickoff-compressed.jpg
END:VEVENT
END:VCALENDAR