BEGIN:VCALENDAR
VERSION:2.0
PRODID:-//Lewisboro Library - ECPv6.15.20//NONSGML v1.0//EN
CALSCALE:GREGORIAN
METHOD:PUBLISH
X-ORIGINAL-URL:https://lewisborolibrary.org
X-WR-CALDESC:Events for Lewisboro Library
REFRESH-INTERVAL;VALUE=DURATION:PT1H
X-Robots-Tag:noindex
X-PUBLISHED-TTL:PT1H
BEGIN:VTIMEZONE
TZID:America/New_York
BEGIN:DAYLIGHT
TZOFFSETFROM:-0500
TZOFFSETTO:-0400
TZNAME:EDT
DTSTART:20210314T070000
END:DAYLIGHT
BEGIN:STANDARD
TZOFFSETFROM:-0400
TZOFFSETTO:-0500
TZNAME:EST
DTSTART:20211107T060000
END:STANDARD
BEGIN:DAYLIGHT
TZOFFSETFROM:-0500
TZOFFSETTO:-0400
TZNAME:EDT
DTSTART:20220313T070000
END:DAYLIGHT
BEGIN:STANDARD
TZOFFSETFROM:-0400
TZOFFSETTO:-0500
TZNAME:EST
DTSTART:20221106T060000
END:STANDARD
BEGIN:DAYLIGHT
TZOFFSETFROM:-0500
TZOFFSETTO:-0400
TZNAME:EDT
DTSTART:20230312T070000
END:DAYLIGHT
BEGIN:STANDARD
TZOFFSETFROM:-0400
TZOFFSETTO:-0500
TZNAME:EST
DTSTART:20231105T060000
END:STANDARD
END:VTIMEZONE
BEGIN:VEVENT
DTSTART;TZID=America/New_York:20221016T140000
DTEND;TZID=America/New_York:20221016T150000
DTSTAMP:20260421T020254
CREATED:20220914T213546Z
LAST-MODIFIED:20221004T031019Z
UID:16227-1665928800-1665932400@lewisborolibrary.org
SUMMARY:Questions & Curiosities of the American Revolution
DESCRIPTION:For adults and teens age 12+ \nThe organization Revolutionary Westchester 250 (RW250)\, has been encouraging and providing grants to libraries throughout Westchester to host programs celebrating the anniversary period of the war. \nThe Library is thrilled to have Living History Presenter Joe Ryan for this special celebration.  Joe\, dressed as a soldier in uniform from General George Washington’s army\, will discuss battle strategy\, like why troops fought in lines and across open fields\, the mathematics and calculations of death on an 18th century battlefield\, and more. See the weapons used in the Revolutionary War and find out about the daily duties of a common soldier’s life including: hygiene\, field medicine\, food\, etc. Be sure to bring your questions and a sense of humor! \nThis program is recommended for adults and teens age 12 and up. \nSpace is limited\, please register below. \n 
URL:https://lewisborolibrary.org/event/questions-curiosities-of-the-american-revolution/
CATEGORIES:Adult
ATTACH;FMTTYPE=image/jpeg:https://lewisborolibrary.org/wp-content/uploads/2022/09/221016-Questions-and-curiousities-compressed.jpg
END:VEVENT
END:VCALENDAR