BEGIN:VCALENDAR
VERSION:2.0
PRODID:-//Lewisboro Library - ECPv6.15.20//NONSGML v1.0//EN
CALSCALE:GREGORIAN
METHOD:PUBLISH
X-WR-CALNAME:Lewisboro Library
X-ORIGINAL-URL:https://lewisborolibrary.org
X-WR-CALDESC:Events for Lewisboro Library
REFRESH-INTERVAL;VALUE=DURATION:PT1H
X-Robots-Tag:noindex
X-PUBLISHED-TTL:PT1H
BEGIN:VTIMEZONE
TZID:America/New_York
BEGIN:DAYLIGHT
TZOFFSETFROM:-0500
TZOFFSETTO:-0400
TZNAME:EDT
DTSTART:20190310T070000
END:DAYLIGHT
BEGIN:STANDARD
TZOFFSETFROM:-0400
TZOFFSETTO:-0500
TZNAME:EST
DTSTART:20191103T060000
END:STANDARD
BEGIN:DAYLIGHT
TZOFFSETFROM:-0500
TZOFFSETTO:-0400
TZNAME:EDT
DTSTART:20200308T070000
END:DAYLIGHT
BEGIN:STANDARD
TZOFFSETFROM:-0400
TZOFFSETTO:-0500
TZNAME:EST
DTSTART:20201101T060000
END:STANDARD
BEGIN:DAYLIGHT
TZOFFSETFROM:-0500
TZOFFSETTO:-0400
TZNAME:EDT
DTSTART:20210314T070000
END:DAYLIGHT
BEGIN:STANDARD
TZOFFSETFROM:-0400
TZOFFSETTO:-0500
TZNAME:EST
DTSTART:20211107T060000
END:STANDARD
END:VTIMEZONE
BEGIN:VEVENT
DTSTART;TZID=America/New_York:20200805T170000
DTEND;TZID=America/New_York:20200805T180000
DTSTAMP:20260424T111833
CREATED:20200622T205856Z
LAST-MODIFIED:20200716T165820Z
UID:3488-1596646800-1596650400@lewisborolibrary.org
SUMMARY:(Virtual) Magnetic Locker Mirror
DESCRIPTION:Via Zoom. Grades 6 and Up. We are offering two sessions to accommodate your schedule. \nWith school starting up\, let’s make a unique mirror you can use in your locker! \nPlease register below for the Zoom link\, then stop by our Curbside Tent the week before to pick up your materials kit. For more information\, call 914-875-9004 or email doloreslewisboro@yahoo.com. \nYou will receive the Zoom link the day before.
URL:https://lewisborolibrary.org/event/virtual-magnetic-locker-mirror/2020-08-05/
CATEGORIES:Teen
ATTACH;FMTTYPE=image/jpeg:https://lewisborolibrary.org/wp-content/uploads/2020/05/200810-Locker-Mirrors.jpg
END:VEVENT
END:VCALENDAR